Workbook

Sheet IBS Action Plan 20170131
A1: Spruce Beetle Action Plan - Omineca Region
A2: 42766
AA3: 275 | AB3: m3/ha
A4: Merged 2014-2016 Aerial Overview Survey (AOS) Information | P4: Constrained | Z4: Total
A5: Licensee Operating Area | B5: Licensee by Timber Supply Area | C5: SEVERITY | G5: Total Area AOS (ha) | H5: Estimated Average Area to Harvest (ha) (Sum VS,S,M +50%*L) | I5: Estimated Area to Harvest ÷ Total Area AOS (%) | J5: Monitor Trap Tree/Trace (ha) | K5: Total Area AOS + Monitor (Trace) | N5: Proposed Action Year | P5: Reason for Constraint | Q5: SEVERITY | W5: Cable | X5: Conventional | Y5: Rationale | Z5: Total Area AOS + Monitor + Constrained (ha)
C6: VS | D6: S | E6: M | F6: L | K6: Steep Slope Area (ha) | L6: Conventional Area (ha) | M6: Total Area (ha) | Q6: VS | R6: S | S6: M | T6: L | U6: T | V6: Total | W6: Area | X6: Area | Y6: NDU, Road, Other
C7: Hectares | D7: Hectares | E7: Hectares | F7: Hectares | Q7: Hectares | R7: Hectares | S7: Hectares | T7: Hectares | U7: Hectares | V7: Hectares | W7: Hectares | X7: Hectares
C8: 50-100% | D8: 30-49% | E8: 11-29% | F8: 1-10% | J8: 0-1%
A9: BCTS MK | B9: Klawli / Gillis | C9: 0 | D9: 0 | E9: 588 | F9: 1346 | G9: =SUM(C9:F9) -> 1934 | H9: =C9+D9+E9+F9*0.5 -> 1261 | I9: =IF(G9<1,0,H9/G9) -> 0.65201655 | J9: 5704 | K9: 0 | L9: 7638 | M9: =G9+J9 -> 7638 | N9: 2020 - 22 | P9: Economic | Q9: 0 | R9: 0 | S9: 0 | T9: 0 | U9: 425 | V9: =SUM(Q9:U9) -> 425 | W9: 170 | X9: 255 | Y9: Other | Z9: =+G9+J9+V9 -> 8063
B10: Parsnip / Clearwater / Pardonet | C10: 0 | D10: 0 | E10: 748 | F10: 1530 | G10: =SUM(C10:F10) -> 2278 | H10: =C10+D10+E10+F10*0.5 -> 1513 | I10: =IF(G10<1,0,H10/G10) -> 0.6641791 | J10: 236 | K10: 1005 | L10: 1509 | M10: =G10+J10 -> 2514 | N10: 2017 - 2020 | P10: Economic | Q10: 0 | R10: 0 | S10: 437 | T10: 3554 | U10: 4713 | V10: =SUM(Q10:U10) -> 8704 | W10: 3481.6 | X10: 5222.4 | Y10: Roads, other | Z10: =+G10+J10+V10 -> 11218
B11: Phillip / Blackwater / Hwy97 | C11: 0 | D11: 711 | E11: 5061 | F11: 3285 | G11: =SUM(C11:F11) -> 9057 | H11: =C11+D11+E11+F11*0.5 -> 7414.5 | I11: =IF(G11<1,0,H11/G11) -> 0.81864856 | J11: 433 | K11: 3796 | L11: 5694 | M11: =G11+J11 -> 9490 | N11: 2017 - 2021 | P11: Economic | Q11: 0 | R11: 0 | S11: 9563 | T11: 2026 | U11: 55 | V11: =SUM(Q11:U11) -> 11644 | W11: 4657.6 | X11: 6986.4 | Y11: Roads, other | Z11: =+G11+J11+V11 -> 21134
B12: Agreements | C12: 0 | D12: 0 | E12: 0 | F12: 2727 | G12: =SUM(C12:F12) -> 2727 | H12: =C12+D12+E12+F12*0.5 -> 1363.5 | I12: =IF(G12<1,0,H12/G12) -> 0.5 | J12: 2205 | K12: 0 | L12: 4932 | M12: =G12+J12 -> 4932 | N12: 2017 - 2022 | P12: - | Q12: 0 | R12: 0 | S12: 0 | T12: 0 | U12: 0 | V12: =SUM(Q12:U12) -> 0 | W12: 0 | X12: 0 | Z12: =+G12+J12+V12 -> 4932
A13: Subtotal | B13: BCTS MK TSA | C13: =SUM(C9:C12) -> 0 | D13: =SUM(D9:D12) -> 711 | E13: =SUM(E9:E12) -> 6397 | F13: =SUM(F9:F12) -> 8888 | G13: =SUM(C13:F13) -> 15996 | H13: =C13+D13+E13+F13*0.5 -> 11552 | I13: =IF(G13<1,0,H13/G13) -> 0.72218055 | J13: =SUM(J9:J12) -> 8578 | K13: =SUM(K9:K12) -> 4801 | L13: =SUM(L9:L12) -> 19773 | M13: =G13+J13 -> 24574 | N13: - | P13: - | Q13: =SUM(Q9:Q12) -> 0 | R13: =SUM(R9:R12) -> 0 | S13: =SUM(S9:S12) -> 10000 | T13: =SUM(T9:T12) -> 5580 | U13: =SUM(U9:U12) -> 5193 | V13: =SUM(V9:V12) -> 20773 | W13: =SUM(W9:W12) -> 8309.2 | X13: =SUM(X9:X12) -> 12463.8 | Z13: =+G13+J13+V13 -> 45347
A14: Canfor MK | B14: DMK - Burden | C14: 782 | D14: 404 | E14: 546 | F14: 991 | G14: =SUM(C14:F14) -> 2723 | H14: =C14+D14+E14+F14*0.5 -> 2227.5 | I14: =IF(G14<1,0,H14/G14) -> 0.81803158 | J14: 297 | K14: 205 | L14: 2814 | M14: =G14+J14 -> 3020 | N14: 2017-2019 | P14: Legal | Q14: 0 | R14: 0 | S14: 11 | T14: 20 | U14: 10 | V14: =SUM(Q14:U14) -> 41 | W14: 3 | X14: 38 | Y14: Fieldwork indicates that the Burden beetle areas are inflated, possibly due to inclusion of 2015 polygons that weren't picked up in 2016 AOS | Z14: =+G14+J14+V14 -> 3061
B15: DMK - Chunamon | C15: 0 | D15: 0 | E15: 0 | F15: 8 | G15: =SUM(C15:F15) -> 8 | H15: =C15+D15+E15+F15*0.5 -> 4 | I15: =IF(G15<1,0,H15/G15) -> 0.5 | J15: 382 | K15: 17 | L15: 372 | M15: =G15+J15 -> 390 | N15: 2018-2020 | Q15: 0 | R15: 0 | S15: 0 | T15: 0 | U15: 0 | V15: 0 | W15: 0 | X15: 0 | Z15: =+G15+J15+V15 -> 390
B16: DMK - Eklund | C16: 95 | D16: 71 | E16: 14 | F16: 441 | G16: =SUM(C16:F16) -> 621 | H16: =C16+D16+E16+F16*0.5 -> 400.5 | I16: =IF(G16<1,0,H16/G16) -> 0.64492754 | J16: 1239 | K16: 195 | L16: 1665 | M16: =G16+J16 -> 1860 | N16: 2017-2019 | P16: Legal | Q16: 0 | R16: 0 | S16: 6 | T16: 0 | U16: 42 | V16: =SUM(Q16:U16) -> 48 | W16: 0 | X16: 48 | Y16: Recreation Site; isolated; access | Z16: =+G16+J16+V16 -> 1908
B17: DMK - Holder | C17: 3 | D17: 0 | E17: 4 | F17: 24 | G17: =SUM(C17:F17) -> 31 | H17: =C17+D17+E17+F17*0.5 -> 19 | I17: =IF(G17<1,0,H17/G17) -> 0.61290323 | J17: 160 | K17: 4 | L17: 186 | M17: =G17+J17 -> 191 | N17: 2017-2020 | P17: Economic | Q17: 0 | R17: 0 | S17: 0 | T17: 0 | U17: 5 | V17: =SUM(Q17:U17) -> 5 | W17: 0 | X17: 5 | Y17: Access; isolated | Z17: =+G17+J17+V17 -> 196
B18: DMK - Manson | C18: 0 | D18: 10 | E18: 25 | F18: 0 | G18: =SUM(C18:F18) -> 35 | H18: =C18+D18+E18+F18*0.5 -> 35 | I18: =IF(G18<1,0,H18/G18) -> 1 | J18: 612 | K18: 100 | L18: 547 | M18: =G18+J18 -> 647 | N18: 2017-2019 | Q18: 0 | R18: 0 | S18: 0 | T18: 0 | U18: 0 | V18: 0 | W18: 0 | X18: 0 | Z18: =+G18+J18+V18 -> 647
B19: DMK - Nation | C19: 0 | D19: 0 | E19: 143 | F19: 208 | G19: =SUM(C19:F19) -> 351 | H19: =C19+D19+E19+F19*0.5 -> 247 | I19: =IF(G19<1,0,H19/G19) -> 0.7037037 | J19: 197 | K19: 46 | L19: 503 | M19: =G19+J19 -> 548 | N19: 2017-2019 | Q19: 0 | R19: 0 | S19: 0 | T19: 0 | U19: 0 | V19: 0 | W19: 0 | X19: 0 | Z19: =+G19+J19+V19 -> 548
B20: DMK - Ospika | C20: 0 | D20: 0 | E20: 0 | F20: 0 | G20: 0 | H20: =C20+D20+E20+F20*0.5 -> 0 | I20: =IF(G20<1,0,H20/G20) -> 0 | J20: 383 | K20: 190 | L20: 193 | M20: =G20+J20 -> 383 | N20: 2019-2022 | P20: Economic | Q20: 0 | R20: 0 | S20: 0 | T20: 0 | U20: 207 | V20: =SUM(Q20:U20) -> 207 | W20: 69 | X20: 138 | Y20: Roads, isolated, practicality | Z20: =+G20+J20+V20 -> 590
B21: DMK - Philip Creek | C21: 0 | D21: 0 | E21: 0 | F21: 184 | G21: =SUM(C21:F21) -> 184 | H21: =C21+D21+E21+F21*0.5 -> 92 | I21: =IF(G21<1,0,H21/G21) -> 0.5 | J21: 900 | K21: 39 | L21: 1046 | M21: =G21+J21 -> 1084 | N21: 2017-2019 | Q21: 0 | R21: 0 | S21: 0 | T21: 0 | U21: 0 | V21: 0 | W21: 0 | X21: 0 | Z21: =+G21+J21+V21 -> 1084
B22: DMK - Rupert | C22: 0 | D22: 8 | E22: 8 | F22: 293 | G22: =SUM(C22:F22) -> 309 | H22: =C22+D22+E22+F22*0.5 -> 162.5 | I22: =IF(G22<1,0,H22/G22) -> 0.52588997 | J22: 226 | K22: 41 | L22: 495 | M22: =G22+J22 -> 535 | N22: 2018-2020 | Q22: 0 | R22: 0 | S22: 0 | T22: 0 | U22: 0 | V22: 0 | W22: 0 | X22: 0 | Z22: =+G22+J22+V22 -> 535
A23: Subtotal | B23: Canfor MK TSA | C23: =SUM(C14:C22) -> 880 | D23: =SUM(D14:D22) -> 493 | E23: =SUM(E14:E22) -> 740 | F23: =SUM(F14:F22) -> 2149 | G23: =SUM(C23:F23) -> 4262 | H23: =C23+D23+E23+F23*0.5 -> 3187.5 | I23: =IF(G23<1,0,H23/G23) -> 0.74788832 | J23: =SUM(J14:J22) -> 4396 | K23: =SUM(K14:K22) -> 837 | L23: =SUM(L14:L22) -> 7821 | M23: =G23+J23 -> 8658 | Q23: =SUM(Q14:Q22) -> 0 | R23: =SUM(R14:R22) -> 0 | S23: =SUM(S14:S22) -> 17 | T23: =SUM(T14:T22) -> 20 | U23: =SUM(U14:U22) -> 264 | V23: =SUM(V14:V22) -> 301 | W23: =SUM(W14:W22) -> 72 | X23: =SUM(X14:X22) -> 229 | Z23: =+G23+J23+V23 -> 8959
A24: Conifex | B24: Parsnip | C24: 1573.7891 | D24: 163.1657 | E24: 2418.412 | F24: 565.98814 | G24: =SUM(C24:F24) -> 4721.355 | H24: =C24+D24+E24+F24*0.5 -> 4438.3609 | I24: =IF(G24<1,0,H24/G24) -> 0.94006084 | J24: 343.88704 | K24: 811.97203 | L24: 4253.27 | M24: =G24+J24 -> 5065.242 | N24: 2016-2020 | P24: Economic | Q24: 497.58506 | R24: 143.29147 | S24: 862.97543 | T24: 157.71463 | U24: 85.922109 | V24: =SUM(Q24:U24) -> 1747.4887 | W24: 1747.4887 | X24: 0 | Y24: Road Access, practicality | Z24: =+G24+J24+V24 -> 6812.7307
B25: Chunamon | C25: 0 | D25: 0 | E25: 0 | F25: 7.60052 | G25: =SUM(C25:F25) -> 7.60052 | H25: =C25+D25+E25+F25*0.5 -> 3.80026 | I25: =IF(G25<1,0,H25/G25) -> 0.5 | J25: 668.43456 | K25: 26.11866 | L25: 650.04986 | M25: =G25+J25 -> 676.03508 | N25: 2017-2018 | P25: Economic | Q25: 0 | R25: 0 | S25: 0 | T25: 0 | U25: 43.571154 | V25: =SUM(Q25:U25) -> 43.571154 | W25: 43.571154 | X25: 0 | Y25: Road Access, practicality | Z25: =+G25+J25+V25 -> 719.60623
B26: Morfee | C26: 0 | D26: 0 | E26: 0 | F26: 0 | G26: 0 | H26: =C26+D26+E26+F26*0.5 -> 0 | I26: =IF(G26<1,0,H26/G26) -> 0 | J26: 64.410451 | K26: 0 | L26: 64.27701 | M26: =G26+J26 -> 64.410451 | N26: 2017 | P26: Economic | Q26: 86.87382 | R26: 0 | S26: 31.200416 | T26: 0 | U26: 11.304932 | V26: =SUM(Q26:U26) -> 129.37917 | W26: 129.37917 | X26: 0 | Y26: Road Access, practicality | Z26: =+G26+J26+V26 -> 193.78962
A27: Subtotal | B27: Conifex MK TSA | C27: =SUM(C24:C26) -> 1573.7891 | D27: =SUM(D24:D26) -> 163.1657 | E27: =SUM(E24:E26) -> 2418.412 | F27: =SUM(F24:F26) -> 573.58866 | G27: =SUM(C27:F27) -> 4728.9555 | H27: =C27+D27+E27+F27*0.5 -> 4442.1612 | I27: =IF(G27<1,0,H27/G27) -> 0.93935356 | J27: =SUM(J24:J26) -> 1076.7321 | K27: =SUM(K24:K26) -> 838.09069 | L27: =SUM(L24:L26) -> 4967.5968 | M27: =G27+J27 -> 5805.6875 | Q27: =SUM(Q24:Q26) -> 584.45889 | R27: =SUM(R24:R26) -> 143.29147 | S27: =SUM(S24:S26) -> 894.17585 | T27: =SUM(T24:T26) -> 157.71463 | U27: =SUM(U24:U26) -> 140.7982 | V27: =SUM(V24:V26) -> 1920.439 | W27: =SUM(W24:W26) -> 1920.439 | X27: =SUM(X24:X26) -> 0 | Y27: =SUM(Y24:Y26) -> 0 | Z27: =+G27+J27+V27 -> 7726.1266
A28: Total | B28: MK TSA | C28: =C13+C23+C27 -> 2453.7891 | D28: =D13+D23+D27 -> 1367.1657 | E28: =E13+E23+E27 -> 9555.412 | F28: =F13+F23+F27 -> 11610.589 | G28: =G13+G23+G27 -> 24986.955 | H28: =C28+D28+E28+F28*0.5 -> 19181.661 | I28: =IF(G28<1,0,H28/G28) -> 0.767667 | J28: =J13+J23+J27 -> 14050.732 | K28: =K13+K23+K27 -> 6476.0907 | L28: =L13+L23+L27 -> 32561.597 | M28: =G28+J28 -> 39037.688 | Q28: =+Q13+Q23+Q27 -> 584.45889 | R28: =+R13+R23+R27 -> 143.29147 | S28: =+S13+S23+S27 -> 10911.176 | T28: =+T13+T23+T27 -> 5757.7146 | U28: =+U13+U23+U27 -> 5597.7982 | V28: =+V13+V23+V27 -> 22994.439 | W28: =+W13+W23+W27 -> 10301.639 | X28: =+X13+X23+X27 -> 12692.8 | Z28: =+G28+J28+V28 -> 62032.127
B29: Volume (m3; @275m3/ha) | C29: =C28*$AA$3 -> 674792.01 | D29: =D28*$AA$3 -> 375970.57 | E29: =E28*$AA$3 -> 2627738.3 | F29: =F28*$AA$3 -> 3192911.9 | G29: =G28*$AA$3 -> 6871412.8 | H29: =H28*$AA$3 -> 5274956.8 | Z29: =+G29+J29+V29 -> 6871412.8
A30: BCTS PG | B30: Angusmac | C30: 0 | D30: 27 | E30: 0 | F30: 43 | G30: =SUM(C30:F30) -> 70 | H30: =C30+D30+E30+F30*0.5 -> 48.5 | I30: =IF(G30<1,0,H30/G30) -> 0.69285714 | J30: 94 | K30: 1 | L30: 163 | M30: =G30+J30 -> 164 | N30: 2018 - 19 | Q30: 0 | R30: 0 | S30: 0 | T30: 0 | U30: 0 | V30: 0 | Z30: =+G30+J30+V30 -> 164
B31: Chuchinka | C31: 0 | D31: 0 | E31: 0 | F31: 55 | G31: =SUM(C31:F31) -> 55 | H31: =C31+D31+E31+F31*0.5 -> 27.5 | I31: =IF(G31<1,0,H31/G31) -> 0.5 | J31: 34 | K31: - | L31: 89 | M31: =G31+J31 -> 89 | N31: 2019 - 20 | Q31: 0 | R31: 0 | S31: 0 | T31: 0 | U31: 0 | V31: 0 | Z31: =+G31+J31+V31 -> 89
B32: Colburne | C32: 0 | D32: 8 | E32: 268 | F32: 2160 | G32: =SUM(C32:F32) -> 2436 | H32: =C32+D32+E32+F32*0.5 -> 1356 | I32: =IF(G32<1,0,H32/G32) -> 0.55665025 | J32: 542 | K32: 285 | L32: 2692 | M32: =G32+J32 -> 2978 | N32: 2017 - 18 | P32: Economic | Q32: 0 | R32: 0 | S32: 0 | T32: 0 | U32: 28 | V32: =SUM(Q32:U32) -> 28 | W32: =0.4*V32 -> 11.2 | X32: =0.6*V32 -> 16.8 | Y32: Isolated | Z32: =+G32+J32+V32 -> 3006
B33: Dome | C33: 0 | D33: 0 | E33: 0 | F33: 0 | G33: 0 | H33: =C33+D33+E33+F33*0.5 -> 0 | I33: =IF(G33<1,0,H33/G33) -> 0 | J33: 0 | K33: - | L33: - | M33: =G33+J33 -> 0 | P33: Economic | Q33: 0 | R33: 0 | S33: 0 | T33: 0 | U33: 70 | V33: =SUM(Q33:U33) -> 70 | W33: =0.4*V33 -> 28 | X33: =0.6*V33 -> 42 | Y33: Isolated | Z33: =+G33+J33+V33 -> 70
B34: Firth | C34: 0 | D34: 92 | E34: 69 | F34: 627 | G34: =SUM(C34:F34) -> 788 | H34: =C34+D34+E34+F34*0.5 -> 474.5 | I34: =IF(G34<1,0,H34/G34) -> 0.60215736 | J34: 324 | K34: 13 | L34: 1099 | M34: =G34+J34 -> 1112 | N34: 2019 - 20 | Q34: 0 | R34: 0 | S34: 0 | T34: 0 | U34: 0 | V34: 0 | W34: =0.4*V34 -> 0 | X34: =0.6*V34 -> 0 | Z34: =+G34+J34+V34 -> 1112
B35: Hominka | C35: 0 | D35: 17 | E35: 1023 | F35: 2950 | G35: =SUM(C35:F35) -> 3990 | H35: =C35+D35+E35+F35*0.5 -> 2515 | I35: =IF(G35<1,0,H35/G35) -> 0.63032581 | J35: 299 | K35: 1822 | L35: 2468 | M35: =G35+J35 -> 4289 | N35: 2018 - 19 | Q35: 0 | R35: 0 | S35: 0 | T35: 0 | U35: 0 | V35: 0 | W35: =0.4*V35 -> 0 | X35: =0.6*V35 -> 0 | Z35: =+G35+J35+V35 -> 4289
B36: Mcleod | C36: 0 | D36: 0 | E36: 109 | F36: 1313 | G36: =SUM(C36:F36) -> 1422 | H36: =C36+D36+E36+F36*0.5 -> 765.5 | I36: =IF(G36<1,0,H36/G36) -> 0.5383263 | J36: 504 | K36: 132 | L36: 1795 | M36: =G36+J36 -> 1926 | N36: 2021 - 22 | Q36: 0 | R36: 0 | S36: 0 | T36: 0 | U36: 0 | V36: 0 | W36: =0.4*V36 -> 0 | X36: =0.6*V36 -> 0 | Z36: =+G36+J36+V36 -> 1926
B37: Missinka | C37: 0 | D37: 0 | E37: 0 | F37: 0 | G37: 0 | H37: =C37+D37+E37+F37*0.5 -> 0 | I37: =IF(G37<1,0,H37/G37) -> 0 | J37: 0 | K37: - | L37: - | M37: =G37+J37 -> 0 | P37: Economic | Q37: 0 | R37: 0 | S37: 0 | T37: 37 | U37: 0 | V37: =SUM(Q37:U37) -> 37 | W37: =0.4*V37 -> 14.8 | X37: =0.6*V37 -> 22.2 | Y37: Isolated | Z37: =+G37+J37+V37 -> 37
B38: Parsnip | C38: 0 | D38: 0 | E38: 0 | F38: 94 | G38: =SUM(C38:F38) -> 94 | H38: =C38+D38+E38+F38*0.5 -> 47 | I38: =IF(G38<1,0,H38/G38) -> 0.5 | J38: 0 | K38: 53 | L38: 41 | M38: =G38+J38 -> 94 | N38: 2021 - 22 | P38: Economic | Q38: 0 | R38: 0 | S38: 2 | T38: 0 | U38: 0 | V38: =SUM(Q38:U38) -> 2 | W38: =0.4*V38 -> 0.8 | X38: =0.6*V38 -> 1.2 | Y38: Isolated | Z38: =+G38+J38+V38 -> 96
B39: Reynolds | C39: 0 | D39: 26 | E39: 16 | F39: 485 | G39: =SUM(C39:F39) -> 527 | H39: =C39+D39+E39+F39*0.5 -> 284.5 | I39: =IF(G39<1,0,H39/G39) -> 0.5398482 | J39: 340 | K39: 25 | L39: 842 | M39: =G39+J39 -> 867 | N39: 2020 - 21 | P39: Economic | Q39: 0 | R39: 173 | S39: 0 | T39: 35 | U39: 119 | V39: =SUM(Q39:U39) -> 327 | W39: =0.4*V39 -> 130.8 | X39: =0.6*V39 -> 196.2 | Y39: Roads, other, NDU | Z39: =+G39+J39+V39 -> 1194
B40: Summit Lake | C40: 0 | D40: 166 | E40: 132 | F40: 9 | G40: =SUM(C40:F40) -> 307 | H40: =C40+D40+E40+F40*0.5 -> 302.5 | I40: =IF(G40<1,0,H40/G40) -> 0.98534202 | J40: 507 | K40: 5 | L40: 811 | M40: =G40+J40 -> 814 | N40: 2017 - 18 | Q40: 0 | R40: 0 | S40: 0 | T40: 0 | U40: 0 | V40: 0 | Z40: =+G40+J40+V40 -> 814
...

Sheet Licensee AAC Capacity
A1: ='IBS Action Plan 20170131'!A1 -> Spruce Beetle Action Plan - Omineca Region
A2: ='IBS Action Plan 20170131'!A2 -> 42766
A4: Licensee AAC Capacity compared with AOS - Estimated Area (ha) and Volume (m3) Summary
A6: Licensee AAC Capacity | H6: AOS - Estimated Harvest Area (ha) and Volume (m3) Summary
A7: Licensee | B7: Operating Area | D7: AAC (m3 per Year) | E7: AAC as Area (ha) @ 275m3/ha | F7: Area (ha) @ 7 Years | H7: Total Area AOS (ha) | I7: Estimated Average Area to Harvest (ha) (Sum VS,S,M +50%*L) | J7: Estimated Total Spruce Beetle Volume to Harvest (m3) @275m3/ha | K7: Spruce Beetle Area to Harvest (ha) Per Year (7 Years) | L7: Spruce Beetle Volume to Harvest (m3) Per Year (7 Years)
C9: Licence
A10: BCTS | B10: Mackenzie TSA | C10: Mackenzie | D10: 900000 | E10: =D10/275 -> 3272.7273 | F10: =E10*7 -> 22909.091 | H10: ='IBS Action Plan 20170131'!G13 -> 15996 | I10: ='IBS Action Plan 20170131'!H13 -> 11552 | J10: =I10*$J$29 -> 3176800 | K10: =L10/$J$29 -> 1650.2857 | L10: =J10/7 -> 453828.57
A11: Canfor | B11: Mackenzie TSA | C11: A15384 | D11: 1082904 | E11: =D11/275 -> 3937.8327 | F11: =E11*7 -> 27564.829 | H11: ='IBS Action Plan 20170131'!G23 -> 4262 | I11: ='IBS Action Plan 20170131'!H23 -> 3187.5 | J11: =I11*$J$29 -> 876562.5 | K11: =L11/$J$29 -> 455.35714 | L11: =J11/7 -> 125223.21
A12: Conifex | B12: Mackenzie TSA | C12: A15385 | D12: 899896 | E12: =D12/275 -> 3272.3491 | F12: =E12*7 -> 22906.444 | H12: ='IBS Action Plan 20170131'!G15 -> 8 | I12: ='IBS Action Plan 20170131'!H15 -> 4 | J12: =I12*$J$29 -> 1100 | K12: =L12/$J$29 -> 0.57142857 | L12: =J12/7 -> 157.14286
A13: Conifex | B13: Mackenzie TSA | C13: A93631 | D13: 300000 | E13: =D13/275 -> 1090.9091 | F13: =E13*7 -> 7636.3636 | H13: ='IBS Action Plan 20170131'!G16 -> 621 | I13: ='IBS Action Plan 20170131'!H16 -> 400.5 | J13: =I13*$J$29 -> 110137.5 | K13: =L13/$J$29 -> 57.214286 | L13: =J13/7 -> 15733.929
A14: Conifex | B14: Mackenzie TSA | C14: Mackenzie | D14: =+D12+D13 -> 1199896 | E14: =D14/275 -> 4363.2582 | F14: =E14*7 -> 30542.807 | H14: ='IBS Action Plan 20170131'!G27 -> 4728.9555 | I14: ='IBS Action Plan 20170131'!H27 -> 4442.1612 | J14: =I14*$J$29 -> 1221594.3 | K14: =L14/$J$29 -> 634.59445 | L14: =J14/7 -> 174513.47
A15: Subtotal | B15: Mackenzie TSA | D15: =+D10+D11+D14 -> 3182800 | E15: =E10+E11+E12+E13 -> 11573.818 | F15: =F10+F11+F12+F13 -> 81016.727 | H15: ='IBS Action Plan 20170131'!G28 -> 24986.955 | I15: ='IBS Action Plan 20170131'!H28 -> 19181.661 | J15: =I15*$J$29 -> 5274956.8 | K15: =L15/$J$29 -> 2740.2373 | L15: =J15/7 -> 753565.26
A16: BCTS | B16: PG District | C16: PG | D16: 693000 | E16: =D16/275 -> 2520 | F16: =E16*7 -> 17640 | H16: ='IBS Action Plan 20170131'!G41 -> 9689 | I16: ='IBS Action Plan 20170131'!H41 -> 5821 | J16: =I16*$J$29 -> 1600775 | K16: =L16/$J$29 -> 831.57143 | L16: =J16/7 -> 228682.14
A17: Canfor | B17: PG TSA | C17: A40873 | D17: 1597771 | E17: =D17/275 -> 5810.0764 | F17: =E17*7 -> 40670.535 | J17: =I17*$J$29 -> 0 | K17: =L17/$J$29 -> 0 | L17: =J17/7 -> 0
A18: Canfor | B18: PG TSA | C18: A18165 | D18: 1104858 | E18: =D18/275 -> 4017.6655 | F18: =E18*7 -> 28123.658 | J18: =I18*$J$29 -> 0 | K18: =L18/$J$29 -> 0 | L18: =J18/7 -> 0
A19: Canfor | B19: PG TSA | C19: A18157 | D19: 588223 | E19: =D19/275 -> 2138.9927 | F19: =E19*7 -> 14972.949 | J19: =I19*$J$29 -> 0 | K19: =L19/$J$29 -> 0 | L19: =J19/7 -> 0
A20: Canfor | B20: TFL30 | C20: TFL30 | D20: 389126 | E20: 1415 | F20: 9905
A21: Canfor | B21: PG TSA + TFL 30 | C21: PG | D21: =+D17+D18+D19+D20 -> 3679978 | E21: =+E17+E18+E19+E20 -> 13381.735 | F21: =+F17+F18+F19+F20 -> 93672.142 | H21: ='IBS Action Plan 20170131'!G59 -> 16968 | I21: ='IBS Action Plan 20170131'!H59 -> 10210.5 | J21: =I21*$J$29 -> 2807887.5 | K21: =L21/$J$29 -> 1458.6429 | L21: =J21/7 -> 401126.79
A22: Sinclar | B22: PG TSA | C22: A18163 | D22: 249827 | E22: =D22/275 -> 908.46182 | F22: =E22*7 -> 6359.2327 | J22: =I22*$J$29 -> 0 | K22: =L22/$J$29 -> 0 | L22: =J22/7 -> 0
A23: Sinclar | B23: PG TSA | C23: A18171 | D23: 505541 | E23: =D23/275 -> 1838.3309 | F23: =E23*7 -> 12868.316 | J23: =I23*$J$29 -> 0 | K23: =L23/$J$29 -> 0 | L23: =J23/7 -> 0
A24: Sinclar | B24: PG District | C24: PG | D24: =D22+D23 -> 755368 | E24: =E22+E23 -> 2746.7927 | F24: =F22+F23 -> 19227.549 | H24: ='IBS Action Plan 20170131'!G72 -> 23935 | I24: ='IBS Action Plan 20170131'!H72 -> 18121 | J24: =I24*$J$29 -> 4983275 | K24: =L24/$J$29 -> 2588.7143 | L24: =J24/7 -> 711896.43
A25: Subtotal | B25: PG TSA | C25: PG | D25: =+D16+D21+D24 -> 5128346 | E25: =+E16+E21+E24 -> 18648.527 | F25: =+F16+F21+F24 -> 130539.69 | H25: ='IBS Action Plan 20170131'!G73 -> 50592 | I25: ='IBS Action Plan 20170131'!H73 -> 34152.5 | J25: =I25*$J$29 -> 9391937.5 | K25: =L25/$J$29 -> 4878.9286 | L25: =J25/7 -> 1341705.4
A26: Total | B26: Omineca | D26: =+D15+D25 -> 8311146 | E26: =+E15+E25 -> 30222.345 | F26: =+F15+F25 -> 211556.42 | H26: ='IBS Action Plan 20170131'!G75 -> 75578.955 | I26: ='IBS Action Plan 20170131'!H75 -> 53334.161 | J26: =I26*$J$29 -> 14666894 | K26: =L26/$J$29 -> 7619.1659 | L26: =J26/7 -> 2095270.6
J29: 275

Sheet Constrained Slide
A1: Spruce Beetle Action Plan - Omineca Region
A2: 42766
A3: Constrained Areas Summary (ha)
A4: Merged 2014-2016 Aerial Overview Survey (AOS) Information | O4: Constrained | Y4: Total
A5: Licensee Operating Area | B5: Licensee by Timber Supply Area | C5: SEVERITY | G5: Total | H5: Estimated | I5: Weighted | J5: Monitor | K5: Steep Slope | L5: Conventional | M5: Proposed | O5: Reason for Constraint | P5: SEVERITY | U5: Total Constrained - All severity | X5: Rationale | Y5: Proposed Action
C6: VS | D6: S | E6: M | F6: L | G6: Area | H6: Average | I6: Average | J6: Trap Tree/Trace | K6: Area (ha) | L6: Area (ha) | M6: Action | P6: VS | Q6: S | R6: M | S6: L | T6: T | U6: Total | V6: Cable | W6: Conventional | X6: NDU, Road, Other | Y6: +
C7: Hectares | D7: Hectares | E7: Hectares | F7: Hectares | G7: AOS (ha) | H7: Area to Harvest (ha) | I7: % | J7: (ha) | K7: All severity | L7: All severity | M7: Year | P7: Hectares | Q7: Hectares | R7: Hectares | S7: Hectares | T7: Hectares | U7: Hectares | V7: Area | W7: Area | Y7: Constrained
C8: 50-100% | D8: 30-49% | E8: 11-29% | F8: 1-10% | J8: 0-1% | V8: Hectares | W8: Hectares
A9: BCTS MK | B9: ='IBS Action Plan 20170131'!B9 -> Klawli / Gillis | C9: ='IBS Action Plan 20170131'!C9 -> 0 | D9: ='IBS Action Plan 20170131'!D9 -> 0 | E9: ='IBS Action Plan 20170131'!E9 -> 588 | F9: ='IBS Action Plan 20170131'!F9 -> 1346 | G9: ='IBS Action Plan 20170131'!G9 -> 1934 | H9: ='IBS Action Plan 20170131'!H9 -> 1261 | I9: ='IBS Action Plan 20170131'!I9 -> 0.65201655 | ... L9: ='IBS Action Plan 20170131'!L9 -> 7638 | M9: ='IBS Action Plan 20170131'!N9 -> 2020 - 22 | O9: ='IBS Action Plan 20170131'!P9 -> Economic | P9: ='IBS Action Plan 20170131'!Q9 -> 0 | Q9: ='IBS Action Plan 20170131'!R9 -> 0 | R9: ='IBS Action Plan 20170131'!S9 -> 0 | S9: ='IBS Action Plan 20170131'!T9 -> 0 | T9: ='IBS Action Plan 20170131'!U9 -> 425 | U9: ='IBS Action Plan 20170131'!V9 -> 425 | V9: ='IBS Action Plan 20170131'!W9 -> 170 | ... X9: ='IBS Action Plan 20170131'!Y9 -> Other | Y9: =+G9+J9+U9 -> 8063
B10: Parsnip / Clearwater / Pardonet | C10: ='IBS Action Plan 20170131'!C10 -> 0 | D10: ='IBS Action Plan 20170131'!D10 -> 0 | E10: ='IBS Action Plan 20170131'!E10 -> 748 | F10: ='IBS Action Plan 20170131'!F10 -> 1530 | G10: ='IBS Action Plan 20170131'!G10 -> 2278 | H10: ='IBS Action Plan 20170131'!H10 -> 1513 | I10: ='IBS Action Plan 20170131'!I10 -> 0.6641791 | J10: ='IBS Action Plan 20170131'!J10 -> 236 | ... L10: ='IBS Action Plan 20170131'!L10 -> 1509 | M10: ='IBS Action Plan 20170131'!N10 -> 2017 - 2020 | O10: ='IBS Action Plan 20170131'!P10 -> Economic | P10: ='IBS Action Plan 20170131'!Q10 -> 0 | Q10: ='IBS Action Plan 20170131'!R10 -> 0 | R10: ='IBS Action Plan 20170131'!S10 -> 437 | S10: ='IBS Action Plan 20170131'!T10 -> 3554 | T10: ='IBS Action Plan 20170131'!U10 -> 4713 | U10: ='IBS Action Plan 20170131'!V10 -> 8704 | V10: ='IBS Action Plan 20170131'!W10 -> 3481.6 | ... X10: ='IBS Action Plan 20170131'!Y10 -> Roads, other | Y10: =+G10+J10+U10 -> 11218
B11: Phillip / Blackwater / Hwy97 | C11: ='IBS Action Plan 20170131'!C11 -> 0 | D11: ='IBS Action Plan 20170131'!D11 -> 711 | E11: ='IBS Action Plan 20170131'!E11 -> 5061 | F11: ='IBS Action Plan 20170131'!F11 -> 3285 | G11: ='IBS Action Plan 20170131'!G11 -> 9057 | H11: ='IBS Action Plan 20170131'!H11 -> 7414.5 | I11: ='IBS Action Plan 20170131'!I11 -> 0.81864856 | J11: ='IBS Action Plan 20170131'!J11 -> 433 | ... L11: ='IBS Action Plan 20170131'!L11 -> 5694 | M11: ='IBS Action Plan 20170131'!N11 -> 2017 - 2021 | O11: ='IBS Action Plan 20170131'!P11 -> Economic | P11: ='IBS Action Plan 20170131'!Q11 -> 0 | Q11: ='IBS Action Plan 20170131'!R11 -> 0 | R11: ='IBS Action Plan 20170131'!S11 -> 9563 | S11: ='IBS Action Plan 20170131'!T11 -> 2026 | T11: ='IBS Action Plan 20170131'!U11 -> 55 | U11: ='IBS Action Plan 20170131'!V11 -> 11644 | V11: ='IBS Action Plan 20170131'!W11 -> 4657.6 | ... X11: ='IBS Action Plan 20170131'!Y11 -> Roads, other | Y11: =+G11+J11+U11 -> 21134
B12: Agreements | C12: ='IBS Action Plan 20170131'!C12 -> 0 | D12: ='IBS Action Plan 20170131'!D12 -> 0 | E12: ='IBS Action Plan 20170131'!E12 -> 0 | F12: ='IBS Action Plan 20170131'!F12 -> 2727 | G12: ='IBS Action Plan 20170131'!G12 -> 2727 | H12: ='IBS Action Plan 20170131'!H12 -> 1363.5 | I12: ='IBS Action Plan 20170131'!I12 -> 0.5 | J12: ='IBS Action Plan 20170131'!J12 -> 2205 | ... L12: ='IBS Action Plan 20170131'!L12 -> 4932 | M12: ='IBS Action Plan 20170131'!N12 -> 2017 - 2022 | O12: ='IBS Action Plan 20170131'!P12 -> - | P12: ='IBS Action Plan 20170131'!Q12 -> 0 | Q12: ='IBS Action Plan 20170131'!R12 -> 0 | R12: ='IBS Action Plan 20170131'!S12 -> 0 | S12: ='IBS Action Plan 20170131'!T12 -> 0 | T12: ='IBS Action Plan 20170131'!U12 -> 0 | U12: ='IBS Action Plan 20170131'!V12 -> 0 | V12: ='IBS Action Plan 20170131'!W12 -> 0 | ... X12: ='IBS Action Plan 20170131'!Y12 -> 0 | Y12: =+G12+J12+U12 -> 4932
A13: Subtotal | B13: BCTS MK TSA | C13: ='IBS Action Plan 20170131'!C13 -> 0 | D13: ='IBS Action Plan 20170131'!D13 -> 711 | E13: ='IBS Action Plan 20170131'!E13 -> 6397 | F13: ='IBS Action Plan 20170131'!F13 -> 8888 | G13: ='IBS Action Plan 20170131'!G13 -> 15996 | H13: ='IBS Action Plan 20170131'!H13 -> 11552 | I13: ='IBS Action Plan 20170131'!I13 -> 0.72218055 | J13: ='IBS Action Plan 20170131'!J13 -> 8578 | ... L13: ='IBS Action Plan 20170131'!L13 -> 19773 | M13: ='IBS Action Plan 20170131'!N13 -> - | O13: ='IBS Action Plan 20170131'!P13 -> - | P13: ='IBS Action Plan 20170131'!Q13 -> 0 | Q13: ='IBS Action Plan 20170131'!R13 -> 0 | R13: ='IBS Action Plan 20170131'!S13 -> 10000 | S13: ='IBS Action Plan 20170131'!T13 -> 5580 | T13: ='IBS Action Plan 20170131'!U13 -> 5193 | U13: ='IBS Action Plan 20170131'!V13 -> 20773 | V13: ='IBS Action Plan 20170131'!W13 -> 8309.2 | ... X13: ='IBS Action Plan 20170131'!Y13 -> 0 | Y13: =+G13+J13+U13 -> 45347
A14: Canfor MK | B14: DMK - Burden | C14: ='IBS Action Plan 20170131'!C14 -> 782 | D14: ='IBS Action Plan 20170131'!D14 -> 404 | E14: ='IBS Action Plan 20170131'!E14 -> 546 | F14: ='IBS Action Plan 20170131'!F14 -> 991 | G14: ='IBS Action Plan 20170131'!G14 -> 2723 | H14: ='IBS Action Plan 20170131'!H14 -> 2227.5 | I14: ='IBS Action Plan 20170131'!I14 -> 0.81803158 | J14: ='IBS Action Plan 20170131'!J14 -> 297 | ... L14: ='IBS Action Plan 20170131'!L14 -> 2814 | M14: ='IBS Action Plan 20170131'!N14 -> 2017-2019 | O14: ='IBS Action Plan 20170131'!P14 -> Legal | P14: ='IBS Action Plan 20170131'!Q14 -> 0 | Q14: ='IBS Action Plan 20170131'!R14 -> 0 | R14: ='IBS Action Plan 20170131'!S14 -> 11 | S14: ='IBS Action Plan 20170131'!T14 -> 20 | T14: ='IBS Action Plan 20170131'!U14 -> 10 | U14: ='IBS Action Plan 20170131'!V14 -> 41 | V14: ='IBS Action Plan 20170131'!W14 -> 3 | ... X14: ='IBS Action Plan 20170131'!Y14 -> Fieldwork indicates that the Burden beetle areas are inflated, possibly due to inclusion of 2015 polygons that weren't picked up in 2016 AOS | Y14: =+G14+J14+U14 -> 3061
B15: DMK - Chunamon | C15: ='IBS Action Plan 20170131'!C15 -> 0 | D15: ='IBS Action Plan 20170131'!D15 -> 0 | E15: ='IBS Action Plan 20170131'!E15 -> 0 | F15: ='IBS Action Plan 20170131'!F15 -> 8 | G15: ='IBS Action Plan 20170131'!G15 -> 8 | H15: ='IBS Action Plan 20170131'!H15 -> 4 | I15: ='IBS Action Plan 20170131'!I15 -> 0.5 | J15: ='IBS Action Plan 20170131'!J15 -> 382 | ... L15: ='IBS Action Plan 20170131'!L15 -> 372 | M15: ='IBS Action Plan 20170131'!N15 -> 2018-2020 | O15: ='IBS Action Plan 20170131'!P15 -> 0 | P15: ='IBS Action Plan 20170131'!Q15 -> 0 | Q15: ='IBS Action Plan 20170131'!R15 -> 0 | R15: ='IBS Action Plan 20170131'!S15 -> 0 | S15: ='IBS Action Plan 20170131'!T15 -> 0 | T15: ='IBS Action Plan 20170131'!U15 -> 0 | U15: ='IBS Action Plan 20170131'!V15 -> 0 | V15: ='IBS Action Plan 20170131'!W15 -> 0 | ... X15: ='IBS Action Plan 20170131'!Y15 -> 0 | Y15: =+G15+J15+U15 -> 390
B16: DMK - Eklund | C16: ='IBS Action Plan 20170131'!C16 -> 95 | D16: ='IBS Action Plan 20170131'!D16 -> 71 | E16: ='IBS Action Plan 20170131'!E16 -> 14 | F16: ='IBS Action Plan 20170131'!F16 -> 441 | G16: ='IBS Action Plan 20170131'!G16 -> 621 | H16: ='IBS Action Plan 20170131'!H16 -> 400.5 | I16: ='IBS Action Plan 20170131'!I16 -> 0.64492754 | J16: ='IBS Action Plan 20170131'!J16 -> 1239 | ... L16: ='IBS Action Plan 20170131'!L16 -> 1665 | M16: ='IBS Action Plan 20170131'!N16 -> 2017-2019 | O16: ='IBS Action Plan 20170131'!P16 -> Legal | P16: ='IBS Action Plan 20170131'!Q16 -> 0 | Q16: ='IBS Action Plan 20170131'!R16 -> 0 | R16: ='IBS Action Plan 20170131'!S16 -> 6 | S16: ='IBS Action Plan 20170131'!T16 -> 0 | T16: ='IBS Action Plan 20170131'!U16 -> 42 | U16: ='IBS Action Plan 20170131'!V16 -> 48 | V16: ='IBS Action Plan 20170131'!W16 -> 0 | ... X16: ='IBS Action Plan 20170131'!Y16 -> Recreation Site; isolated; access | Y16: =+G16+J16+U16 -> 1908
B17: DMK - Holder | C17: ='IBS Action Plan 20170131'!C17 -> 3 | D17: ='IBS Action Plan 20170131'!D17 -> 0 | E17: ='IBS Action Plan 20170131'!E17 -> 4 | F17: ='IBS Action Plan 20170131'!F17 -> 24 | G17: ='IBS Action Plan 20170131'!G17 -> 31 | H17: ='IBS Action Plan 20170131'!H17 -> 19 | I17: ='IBS Action Plan 20170131'!I17 -> 0.61290323 | J17: ='IBS Action Plan 20170131'!J17 -> 160 | ... L17: ='IBS Action Plan 20170131'!L17 -> 186 | M17: ='IBS Action Plan 20170131'!N17 -> 2017-2020 | O17: ='IBS Action Plan 20170131'!P17 -> Economic | P17: ='IBS Action Plan 20170131'!Q17 -> 0 | Q17: ='IBS Action Plan 20170131'!R17 -> 0 | R17: ='IBS Action Plan 20170131'!S17 -> 0 | S17: ='IBS Action Plan 20170131'!T17 -> 0 | T17: ='IBS Action Plan 20170131'!U17 -> 5 | U17: ='IBS Action Plan 20170131'!V17 -> 5 | V17: ='IBS Action Plan 20170131'!W17 -> 0 | ... X17: ='IBS Action Plan 20170131'!Y17 -> Access; isolated | Y17: =+G17+J17+U17 -> 196
B18: DMK - Manson | C18: ='IBS Action Plan 20170131'!C18 -> 0 | D18: ='IBS Action Plan 20170131'!D18 -> 10 | E18: ='IBS Action Plan 20170131'!E18 -> 25 | F18: ='IBS Action Plan 20170131'!F18 -> 0 | G18: ='IBS Action Plan 20170131'!G18 -> 35 | H18: ='IBS Action Plan 20170131'!H18 -> 35 | I18: ='IBS Action Plan 20170131'!I18 -> 1 | J18: ='IBS Action Plan 20170131'!J18 -> 612 | ... L18: ='IBS Action Plan 20170131'!L18 -> 547 | M18: ='IBS Action Plan 20170131'!N18 -> 2017-2019 | O18: ='IBS Action Plan 20170131'!P18 -> 0 | P18: ='IBS Action Plan 20170131'!Q18 -> 0 | Q18: ='IBS Action Plan 20170131'!R18 -> 0 | R18: ='IBS Action Plan 20170131'!S18 -> 0 | S18: ='IBS Action Plan 20170131'!T18 -> 0 | T18: ='IBS Action Plan 20170131'!U18 -> 0 | U18: ='IBS Action Plan 20170131'!V18 -> 0 | V18: ='IBS Action Plan 20170131'!W18 -> 0 | ... X18: ='IBS Action Plan 20170131'!Y18 -> 0 | Y18: =+G18+J18+U18 -> 647
B19: DMK - Nation | C19: ='IBS Action Plan 20170131'!C19 -> 0 | D19: ='IBS Action Plan 20170131'!D19 -> 0 | E19: ='IBS Action Plan 20170131'!E19 -> 143 | F19: ='IBS Action Plan 20170131'!F19 -> 208 | G19: ='IBS Action Plan 20170131'!G19 -> 351 | H19: ='IBS Action Plan 20170131'!H19 -> 247 | I19: ='IBS Action Plan 20170131'!I19 -> 0.7037037 | J19: ='IBS Action Plan 20170131'!J19 -> 197 | ... L19: ='IBS Action Plan 20170131'!L19 -> 503 | M19: ='IBS Action Plan 20170131'!N19 -> 2017-2019 | O19: ='IBS Action Plan 20170131'!P19 -> 0 | P19: ='IBS Action Plan 20170131'!Q19 -> 0 | Q19: ='IBS Action Plan 20170131'!R19 -> 0 | R19: ='IBS Action Plan 20170131'!S19 -> 0 | S19: ='IBS Action Plan 20170131'!T19 -> 0 | T19: ='IBS Action Plan 20170131'!U19 -> 0 | U19: ='IBS Action Plan 20170131'!V19 -> 0 | V19: ='IBS Action Plan 20170131'!W19 -> 0 | ... X19: ='IBS Action Plan 20170131'!Y19 -> 0 | Y19: =+G19+J19+U19 -> 548
B20: DMK - Ospika | C20: ='IBS Action Plan 20170131'!C20 -> 0 | D20: ='IBS Action Plan 20170131'!D20 -> 0 | E20: ='IBS Action Plan 20170131'!E20 -> 0 | F20: ='IBS Action Plan 20170131'!F20 -> 0 | G20: ='IBS Action Plan 20170131'!G20 -> 0 | H20: ='IBS Action Plan 20170131'!H20 -> 0 | I20: ='IBS Action Plan 20170131'!I20 -> 0 | J20: ='IBS Action Plan 20170131'!J20 -> 383 | ... L20: ='IBS Action Plan 20170131'!L20 -> 193 | M20: ='IBS Action Plan 20170131'!N20 -> 2019-2022 | O20: ='IBS Action Plan 20170131'!P20 -> Economic | P20: ='IBS Action Plan 20170131'!Q20 -> 0 | Q20: ='IBS Action Plan 20170131'!R20 -> 0 | R20: ='IBS Action Plan 20170131'!S20 -> 0 | S20: ='IBS Action Plan 20170131'!T20 -> 0 | T20: ='IBS Action Plan 20170131'!U20 -> 207 | U20: ='IBS Action Plan 20170131'!V20 -> 207 | V20: ='IBS Action Plan 20170131'!W20 -> 69 | ... X20: ='IBS Action Plan 20170131'!Y20 -> Roads, isolated, practicality | Y20: =+G20+J20+U20 -> 590
B21: DMK - Philip Creek | C21: ='IBS Action Plan 20170131'!C21 -> 0 | D21: ='IBS Action Plan 20170131'!D21 -> 0 | E21: ='IBS Action Plan 20170131'!E21 -> 0 | F21: ='IBS Action Plan 20170131'!F21 -> 184 | G21: ='IBS Action Plan 20170131'!G21 -> 184 | H21: ='IBS Action Plan 20170131'!H21 -> 92 | I21: ='IBS Action Plan 20170131'!I21 -> 0.5 | J21: ='IBS Action Plan 20170131'!J21 -> 900 | ... L21: ='IBS Action Plan 20170131'!L21 -> 1046 | M21: ='IBS Action Plan 20170131'!N21 -> 2017-2019 | O21: ='IBS Action Plan 20170131'!P21 -> 0 | P21: ='IBS Action Plan 20170131'!Q21 -> 0 | Q21: ='IBS Action Plan 20170131'!R21 -> 0 | R21: ='IBS Action Plan 20170131'!S21 -> 0 | S21: ='IBS Action Plan 20170131'!T21 -> 0 | T21: ='IBS Action Plan 20170131'!U21 -> 0 | U21: ='IBS Action Plan 20170131'!V21 -> 0 | V21: ='IBS Action Plan 20170131'!W21 -> 0 | ... X21: ='IBS Action Plan 20170131'!Y21 -> 0 | Y21: =+G21+J21+U21 -> 1084
B22: DMK - Rupert | C22: ='IBS Action Plan 20170131'!C22 -> 0 | D22: ='IBS Action Plan 20170131'!D22 -> 8 | E22: ='IBS Action Plan 20170131'!E22 -> 8 | F22: ='IBS Action Plan 20170131'!F22 -> 293 | G22: ='IBS Action Plan 20170131'!G22 -> 309 | H22: ='IBS Action Plan 20170131'!H22 -> 162.5 | I22: ='IBS Action Plan 20170131'!I22 -> 0.52588997 | J22: ='IBS Action Plan 20170131'!J22 -> 226 | ... L22: ='IBS Action Plan 20170131'!L22 -> 495 | M22: ='IBS Action Plan 20170131'!N22 -> 2018-2020 | O22: ='IBS Action Plan 20170131'!P22 -> 0 | P22: ='IBS Action Plan 20170131'!Q22 -> 0 | Q22: ='IBS Action Plan 20170131'!R22 -> 0 | R22: ='IBS Action Plan 20170131'!S22 -> 0 | S22: ='IBS Action Plan 20170131'!T22 -> 0 | T22: ='IBS Action Plan 20170131'!U22 -> 0 | U22: ='IBS Action Plan 20170131'!V22 -> 0 | V22: ='IBS Action Plan 20170131'!W22 -> 0 | ... X22: ='IBS Action Plan 20170131'!Y22 -> 0 | Y22: =+G22+J22+U22 -> 535
A23: Subtotal | B23: Canfor MK TSA | C23: ='IBS Action Plan 20170131'!C23 -> 880 | D23: ='IBS Action Plan 20170131'!D23 -> 493 | E23: ='IBS Action Plan 20170131'!E23 -> 740 | F23: ='IBS Action Plan 20170131'!F23 -> 2149 | G23: ='IBS Action Plan 20170131'!G23 -> 4262 | H23: ='IBS Action Plan 20170131'!H23 -> 3187.5 | I23: ='IBS Action Plan 20170131'!I23 -> 0.74788832 | J23: ='IBS Action Plan 20170131'!J23 -> 4396 | ... L23: ='IBS Action Plan 20170131'!L23 -> 7821 | M23: ='IBS Action Plan 20170131'!N23 -> 0 | O23: ='IBS Action Plan 20170131'!P23 -> 0 | P23: ='IBS Action Plan 20170131'!Q23 -> 0 | Q23: ='IBS Action Plan 20170131'!R23 -> 0 | R23: ='IBS Action Plan 20170131'!S23 -> 17 | S23: ='IBS Action Plan 20170131'!T23 -> 20 | T23: ='IBS Action Plan 20170131'!U23 -> 264 | U23: ='IBS Action Plan 20170131'!V23 -> 301 | V23: ='IBS Action Plan 20170131'!W23 -> 72 | ... X23: ='IBS Action Plan 20170131'!Y23 -> 0 | Y23: =+G23+J23+U23 -> 8959
A24: Conifex | B24: Parsnip | C24: ='IBS Action Plan 20170131'!C24 -> 1573.7891 | D24: ='IBS Action Plan 20170131'!D24 -> 163.1657 | E24: ='IBS Action Plan 20170131'!E24 -> 2418.412 | F24: ='IBS Action Plan 20170131'!F24 -> 565.98814 | G24: ='IBS Action Plan 20170131'!G24 -> 4721.355 | H24: ='IBS Action Plan 20170131'!H24 -> 4438.3609 | I24: ='IBS Action Plan 20170131'!I24 -> 0.94006084 | J24: ='IBS Action Plan 20170131'!J24 -> 343.88704 | ... L24: ='IBS Action Plan 20170131'!L24 -> 4253.27 | M24: ='IBS Action Plan 20170131'!N24 -> 2016-2020 | O24: ='IBS Action Plan 20170131'!P24 -> Economic | P24: ='IBS Action Plan 20170131'!Q24 -> 497.58506 | Q24: ='IBS Action Plan 20170131'!R24 -> 143.29147 | R24: ='IBS Action Plan 20170131'!S24 -> 862.97543 | S24: ='IBS Action Plan 20170131'!T24 -> 157.71463 | T24: ='IBS Action Plan 20170131'!U24 -> 85.922109 | U24: ='IBS Action Plan 20170131'!V24 -> 1747.4887 | V24: ='IBS Action Plan 20170131'!W24 -> 1747.4887 | ... X24: ='IBS Action Plan 20170131'!Y24 -> Road Access, practicality | Y24: =+G24+J24+U24 -> 6812.7307
B25: Chunamon | C25: ='IBS Action Plan 20170131'!C25 -> 0 | D25: ='IBS Action Plan 20170131'!D25 -> 0 | E25: ='IBS Action Plan 20170131'!E25 -> 0 | F25: ='IBS Action Plan 20170131'!F25 -> 7.60052 | G25: ='IBS Action Plan 20170131'!G25 -> 7.60052 | H25: ='IBS Action Plan 20170131'!H25 -> 3.80026 | I25: ='IBS Action Plan 20170131'!I25 -> 0.5 | J25: ='IBS Action Plan 20170131'!J25 -> 668.43456 | ... L25: ='IBS Action Plan 20170131'!L25 -> 650.04986 | M25: ='IBS Action Plan 20170131'!N25 -> 2017-2018 | O25: ='IBS Action Plan 20170131'!P25 -> Economic | P25: ='IBS Action Plan 20170131'!Q25 -> 0 | Q25: ='IBS Action Plan 20170131'!R25 -> 0 | R25: ='IBS Action Plan 20170131'!S25 -> 0 | S25: ='IBS Action Plan 20170131'!T25 -> 0 | T25: ='IBS Action Plan 20170131'!U25 -> 43.571154 | U25: ='IBS Action Plan 20170131'!V25 -> 43.571154 | V25: ='IBS Action Plan 20170131'!W25 -> 43.571154 | ... X25: ='IBS Action Plan 20170131'!Y25 -> Road Access, practicality | Y25: =+G25+J25+U25 -> 719.60623
B26: Morfee | C26: ='IBS Action Plan 20170131'!C26 -> 0 | D26: ='IBS Action Plan 20170131'!D26 -> 0 | E26: ='IBS Action Plan 20170131'!E26 -> 0 | F26: ='IBS Action Plan 20170131'!F26 -> 0 | G26: ='IBS Action Plan 20170131'!G26 -> 0 | H26: ='IBS Action Plan 20170131'!H26 -> 0 | I26: ='IBS Action Plan 20170131'!I26 -> 0 | J26: ='IBS Action Plan 20170131'!J26 -> 64.410451 | ... L26: ='IBS Action Plan 20170131'!L26 -> 64.27701 | M26: ='IBS Action Plan 20170131'!N26 -> 2017 | O26: ='IBS Action Plan 20170131'!P26 -> Economic | P26: ='IBS Action Plan 20170131'!Q26 -> 86.87382 | Q26: ='IBS Action Plan 20170131'!R26 -> 0 | R26: ='IBS Action Plan 20170131'!S26 -> 31.200416 | S26: ='IBS Action Plan 20170131'!T26 -> 0 | T26: ='IBS Action Plan 20170131'!U26 -> 11.304932 | U26: ='IBS Action Plan 20170131'!V26 -> 129.37917 | V26: ='IBS Action Plan 20170131'!W26 -> 129.37917 | ... X26: ='IBS Action Plan 20170131'!Y26 -> Road Access, practicality | Y26: =+G26+J26+U26 -> 193.78962
A27: Subtotal | B27: Conifex MK TSA | C27: ='IBS Action Plan 20170131'!C27 -> 1573.7891 | D27: ='IBS Action Plan 20170131'!D27 -> 163.1657 | E27: ='IBS Action Plan 20170131'!E27 -> 2418.412 | F27: ='IBS Action Plan 20170131'!F27 -> 573.58866 | G27: ='IBS Action Plan 20170131'!G27 -> 4728.9555 | H27: ='IBS Action Plan 20170131'!H27 -> 4442.1612 | I27: ='IBS Action Plan 20170131'!I27 -> 0.93935356 | J27: ='IBS Action Plan 20170131'!J27 -> 1076.7321 | ... L27: ='IBS Action Plan 20170131'!L27 -> 4967.5968 | M27: ='IBS Action Plan 20170131'!N27 -> 0 | O27: ='IBS Action Plan 20170131'!P27 -> 0 | P27: ='IBS Action Plan 20170131'!Q27 -> 584.45889 | Q27: ='IBS Action Plan 20170131'!R27 -> 143.29147 | R27: ='IBS Action Plan 20170131'!S27 -> 894.17585 | S27: ='IBS Action Plan 20170131'!T27 -> 157.71463 | T27: ='IBS Action Plan 20170131'!U27 -> 140.7982 | U27: ='IBS Action Plan 20170131'!V27 -> 1920.439 | V27: ='IBS Action Plan 20170131'!W27 -> 1920.439 | ... X27: ='IBS Action Plan 20170131'!Y27 -> 0 | Y27: =+G27+J27+U27 -> 7726.1266
A28: Total | B28: MK TSA | C28: ='IBS Action Plan 20170131'!C28 -> 2453.7891 | D28: ='IBS Action Plan 20170131'!D28 -> 1367.1657 | E28: ='IBS Action Plan 20170131'!E28 -> 9555.412 | F28: ='IBS Action Plan 20170131'!F28 -> 11610.589 | G28: ='IBS Action Plan 20170131'!G28 -> 24986.955 | H28: ='IBS Action Plan 20170131'!H28 -> 19181.661 | I28: ='IBS Action Plan 20170131'!I28 -> 0.767667 | J28: ='IBS Action Plan 20170131'!J28 -> 14050.732 | ... L28: ='IBS Action Plan 20170131'!L28 -> 32561.597 | M28: ='IBS Action Plan 20170131'!N28 -> 0 | O28: ='IBS Action Plan 20170131'!P28 -> 0 | P28: ='IBS Action Plan 20170131'!Q28 -> 584.45889 | Q28: ='IBS Action Plan 20170131'!R28 -> 143.29147 | R28: ='IBS Action Plan 20170131'!S28 -> 10911.176 | S28: ='IBS Action Plan 20170131'!T28 -> 5757.7146 | T28: ='IBS Action Plan 20170131'!U28 -> 5597.7982 | U28: ='IBS Action Plan 20170131'!V28 -> 22994.439 | V28: ='IBS Action Plan 20170131'!W28 -> 10301.639 | ... X28: ='IBS Action Plan 20170131'!Y28 -> 0 | Y28: =+G28+J28+U28 -> 62032.127
B29: Volume (m3; @275m3/ha) | C29: ='IBS Action Plan 20170131'!C29 -> 674792.01 | D29: ='IBS Action Plan 20170131'!D29 -> 375970.57 | E29: ='IBS Action Plan 20170131'!E29 -> 2627738.3 | F29: ='IBS Action Plan 20170131'!F29 -> 3192911.9 | G29: ='IBS Action Plan 20170131'!G29 -> 6871412.8 | H29: ='IBS Action Plan 20170131'!H29 -> 5274956.8 | I29: ='IBS Action Plan 20170131'!I29 -> 0 | J29: ='IBS Action Plan 20170131'!J29 -> 0 | ... L29: ='IBS Action Plan 20170131'!L29 -> 0 | M29: ='IBS Action Plan 20170131'!N29 -> 0 | O29: ='IBS Action Plan 20170131'!P29 -> 0 | P29: ='IBS Action Plan 20170131'!Q29 -> 0 | Q29: ='IBS Action Plan 20170131'!R29 -> 0 | R29: ='IBS Action Plan 20170131'!S29 -> 0 | S29: ='IBS Action Plan 20170131'!T29 -> 0 | T29: ='IBS Action Plan 20170131'!U29 -> 0 | U29: ='IBS Action Plan 20170131'!V29 -> 0 | V29: ='IBS Action Plan 20170131'!W29 -> 0 | ... X29: ='IBS Action Plan 20170131'!Y29 -> 0 | Y29: =+G29+J29+U29 -> 6871412.8
A30: BCTS PG | B30: Angusmac | C30: ='IBS Action Plan 20170131'!C30 -> 0 | D30: ='IBS Action Plan 20170131'!D30 -> 27 | E30: ='IBS Action Plan 20170131'!E30 -> 0 | F30: ='IBS Action Plan 20170131'!F30 -> 43 | G30: ='IBS Action Plan 20170131'!G30 -> 70 | H30: ='IBS Action Plan 20170131'!H30 -> 48.5 | I30: ='IBS Action Plan 20170131'!I30 -> 0.69285714 | J30: ='IBS Action Plan 20170131'!J30 -> 94 | ... L30: ='IBS Action Plan 20170131'!L30 -> 163 | M30: ='IBS Action Plan 20170131'!N30 -> 2018 - 19 | O30: ='IBS Action Plan 20170131'!P30 -> 0 | P30: ='IBS Action Plan 20170131'!Q30 -> 0 | Q30: ='IBS Action Plan 20170131'!R30 -> 0 | R30: ='IBS Action Plan 20170131'!S30 -> 0 | S30: ='IBS Action Plan 20170131'!T30 -> 0 | T30: ='IBS Action Plan 20170131'!U30 -> 0 | U30: ='IBS Action Plan 20170131'!V30 -> 0 | V30: ='IBS Action Plan 20170131'!W30 -> 0 | ... X30: ='IBS Action Plan 20170131'!Y30 -> 0 | Y30: =+G30+J30+U30 -> 164
B31: Chuchinka | C31: ='IBS Action Plan 20170131'!C31 -> 0 | D31: ='IBS Action Plan 20170131'!D31 -> 0 | E31: ='IBS Action Plan 20170131'!E31 -> 0 | F31: ='IBS Action Plan 20170131'!F31 -> 55 | G31: ='IBS Action Plan 20170131'!G31 -> 55 | H31: ='IBS Action Plan 20170131'!H31 -> 27.5 | I31: ='IBS Action Plan 20170131'!I31 -> 0.5 | J31: ='IBS Action Plan 20170131'!J31 -> 34 | ... L31: ='IBS Action Plan 20170131'!L31 -> 89 | M31: ='IBS Action Plan 20170131'!N31 -> 2019 - 20 | O31: ='IBS Action Plan 20170131'!P31 -> 0 | P31: ='IBS Action Plan 20170131'!Q31 -> 0 | Q31: ='IBS Action Plan 20170131'!R31 -> 0 | R31: ='IBS Action Plan 20170131'!S31 -> 0 | S31: ='IBS Action Plan 20170131'!T31 -> 0 | T31: ='IBS Action Plan 20170131'!U31 -> 0 | U31: ='IBS Action Plan 20170131'!V31 -> 0 | V31: ='IBS Action Plan 20170131'!W31 -> 0 | ... X31: ='IBS Action Plan 20170131'!Y31 -> 0 | Y31: =+G31+J31+U31 -> 89
B32: Colburne | C32: ='IBS Action Plan 20170131'!C32 -> 0 | D32: ='IBS Action Plan 20170131'!D32 -> 8 | E32: ='IBS Action Plan 20170131'!E32 -> 268 | F32: ='IBS Action Plan 20170131'!F32 -> 2160 | G32: ='IBS Action Plan 20170131'!G32 -> 2436 | H32: ='IBS Action Plan 20170131'!H32 -> 1356 | I32: ='IBS Action Plan 20170131'!I32 -> 0.55665025 | J32: ='IBS Action Plan 20170131'!J32 -> 542 | ... L32: ='IBS Action Plan 20170131'!L32 -> 2692 | M32: ='IBS Action Plan 20170131'!N32 -> 2017 - 18 | O32: ='IBS Action Plan 20170131'!P32 -> Economic | P32: ='IBS Action Plan 20170131'!Q32 -> 0 | Q32: ='IBS Action Plan 20170131'!R32 -> 0 | R32: ='IBS Action Plan 20170131'!S32 -> 0 | S32: ='IBS Action Plan 20170131'!T32 -> 0 | T32: ='IBS Action Plan 20170131'!U32 -> 28 | U32: ='IBS Action Plan 20170131'!V32 -> 28 | V32: ='IBS Action Plan 20170131'!W32 -> 11.2 | ... X32: ='IBS Action Plan 20170131'!Y32 -> Isolated | Y32: =+G32+J32+U32 -> 3006
B33: Dome | C33: ='IBS Action Plan 20170131'!C33 -> 0 | D33: ='IBS Action Plan 20170131'!D33 -> 0 | E33: ='IBS Action Plan 20170131'!E33 -> 0 | F33: ='IBS Action Plan 20170131'!F33 -> 0 | G33: ='IBS Action Plan 20170131'!G33 -> 0 | H33: ='IBS Action Plan 20170131'!H33 -> 0 | I33: ='IBS Action Plan 20170131'!I33 -> 0 | J33: ='IBS Action Plan 20170131'!J33 -> 0 | ... L33: ='IBS Action Plan 20170131'!L33 -> - | M33: ='IBS Action Plan 20170131'!N33 -> 0 | O33: ='IBS Action Plan 20170131'!P33 -> Economic | P33: ='IBS Action Plan 20170131'!Q33 -> 0 | Q33: ='IBS Action Plan 20170131'!R33 -> 0 | R33: ='IBS Action Plan 20170131'!S33 -> 0 | S33: ='IBS Action Plan 20170131'!T33 -> 0 | T33: ='IBS Action Plan 20170131'!U33 -> 70 | U33: ='IBS Action Plan 20170131'!V33 -> 70 | V33: ='IBS Action Plan 20170131'!W33 -> 28 | ... X33: ='IBS Action Plan 20170131'!Y33 -> Isolated | Y33: =+G33+J33+U33 -> 70
B34: Firth | C34: ='IBS Action Plan 20170131'!C34 -> 0 | D34: ='IBS Action Plan 20170131'!D34 -> 92 | E34: ='IBS Action Plan 20170131'!E34 -> 69 | F34: ='IBS Action Plan 20170131'!F34 -> 627 | G34: ='IBS Action Plan 20170131'!G34 -> 788 | H34: ='IBS Action Plan 20170131'!H34 -> 474.5 | I34: ='IBS Action Plan 20170131'!I34 -> 0.60215736 | J34: ='IBS Action Plan 20170131'!J34 -> 324 | ... L34: ='IBS Action Plan 20170131'!L34 -> 1099 | M34: ='IBS Action Plan 20170131'!N34 -> 2019 - 20 | O34: ='IBS Action Plan 20170131'!P34 -> 0 | P34: ='IBS Action Plan 20170131'!Q34 -> 0 | Q34: ='IBS Action Plan 20170131'!R34 -> 0 | R34: ='IBS Action Plan 20170131'!S34 -> 0 | S34: ='IBS Action Plan 20170131'!T34 -> 0 | T34: ='IBS Action Plan 20170131'!U34 -> 0 | U34: ='IBS Action Plan 20170131'!V34 -> 0 | V34: ='IBS Action Plan 20170131'!W34 -> 0 | ... X34: ='IBS Action Plan 20170131'!Y34 -> 0 | Y34: =+G34+J34+U34 -> 1112
B35: Hominka | C35: ='IBS Action Plan 20170131'!C35 -> 0 | D35: ='IBS Action Plan 20170131'!D35 -> 17 | E35: ='IBS Action Plan 20170131'!E35 -> 1023 | F35: ='IBS Action Plan 20170131'!F35 -> 2950 | G35: ='IBS Action Plan 20170131'!G35 -> 3990 | H35: ='IBS Action Plan 20170131'!H35 -> 2515 | I35: ='IBS Action Plan 20170131'!I35 -> 0.63032581 | J35: ='IBS Action Plan 20170131'!J35 -> 299 | ... L35: ='IBS Action Plan 20170131'!L35 -> 2468 | M35: ='IBS Action Plan 20170131'!N35 -> 2018 - 19 | O35: ='IBS Action Plan 20170131'!P35 -> 0 | P35: ='IBS Action Plan 20170131'!Q35 -> 0 | Q35: ='IBS Action Plan 20170131'!R35 -> 0 | R35: ='IBS Action Plan 20170131'!S35 -> 0 | S35: ='IBS Action Plan 20170131'!T35 -> 0 | T35: ='IBS Action Plan 20170131'!U35 -> 0 | U35: ='IBS Action Plan 20170131'!V35 -> 0 | V35: ='IBS Action Plan 20170131'!W35 -> 0 | ... X35: ='IBS Action Plan 20170131'!Y35 -> 0 | Y35: =+G35+J35+U35 -> 4289
B36: Mcleod | C36: ='IBS Action Plan 20170131'!C36 -> 0 | D36: ='IBS Action Plan 20170131'!D36 -> 0 | E36: ='IBS Action Plan 20170131'!E36 -> 109 | F36: ='IBS Action Plan 20170131'!F36 -> 1313 | G36: ='IBS Action Plan 20170131'!G36 -> 1422 | H36: ='IBS Action Plan 20170131'!H36 -> 765.5 | I36: ='IBS Action Plan 20170131'!I36 -> 0.5383263 | J36: ='IBS Action Plan 20170131'!J36 -> 504 | ... L36: ='IBS Action Plan 20170131'!L36 -> 1795 | M36: ='IBS Action Plan 20170131'!N36 -> 2021 - 22 | O36: ='IBS Action Plan 20170131'!P36 -> 0 | P36: ='IBS Action Plan 20170131'!Q36 -> 0 | Q36: ='IBS Action Plan 20170131'!R36 -> 0 | R36: ='IBS Action Plan 20170131'!S36 -> 0 | S36: ='IBS Action Plan 20170131'!T36 -> 0 | T36: ='IBS Action Plan 20170131'!U36 -> 0 | U36: ='IBS Action Plan 20170131'!V36 -> 0 | V36: ='IBS Action Plan 20170131'!W36 -> 0 | ... X36: ='IBS Action Plan 20170131'!Y36 -> 0 | Y36: =+G36+J36+U36 -> 1926
B37: Missinka | C37: ='IBS Action Plan 20170131'!C37 -> 0 | D37: ='IBS Action Plan 20170131'!D37 -> 0 | E37: ='IBS Action Plan 20170131'!E37 -> 0 | F37: ='IBS Action Plan 20170131'!F37 -> 0 | G37: ='IBS Action Plan 20170131'!G37 -> 0 | H37: ='IBS Action Plan 20170131'!H37 -> 0 | I37: ='IBS Action Plan 20170131'!I37 -> 0 | J37: ='IBS Action Plan 20170131'!J37 -> 0 | ... L37: ='IBS Action Plan 20170131'!L37 -> - | M37: ='IBS Action Plan 20170131'!N37 -> 0 | O37: ='IBS Action Plan 20170131'!P37 -> Economic | P37: ='IBS Action Plan 20170131'!Q37 -> 0 | Q37: ='IBS Action Plan 20170131'!R37 -> 0 | R37: ='IBS Action Plan 20170131'!S37 -> 0 | S37: ='IBS Action Plan 20170131'!T37 -> 37 | T37: ='IBS Action Plan 20170131'!U37 -> 0 | U37: ='IBS Action Plan 20170131'!V37 -> 37 | V37: ='IBS Action Plan 20170131'!W37 -> 14.8 | ... X37: ='IBS Action Plan 20170131'!Y37 -> Isolated | Y37: =+G37+J37+U37 -> 37
B38: Parsnip | C38: ='IBS Action Plan 20170131'!C38 -> 0 | D38: ='IBS Action Plan 20170131'!D38 -> 0 | E38: ='IBS Action Plan 20170131'!E38 -> 0 | F38: ='IBS Action Plan 20170131'!F38 -> 94 | G38: ='IBS Action Plan 20170131'!G38 -> 94 | H38: ='IBS Action Plan 20170131'!H38 -> 47 | I38: ='IBS Action Plan 20170131'!I38 -> 0.5 | J38: ='IBS Action Plan 20170131'!J38 -> 0 | ... L38: ='IBS Action Plan 20170131'!L38 -> 41 | M38: ='IBS Action Plan 20170131'!N38 -> 2021 - 22 | O38: ='IBS Action Plan 20170131'!P38 -> Economic | P38: ='IBS Action Plan 20170131'!Q38 -> 0 | Q38: ='IBS Action Plan 20170131'!R38 -> 0 | R38: ='IBS Action Plan 20170131'!S38 -> 2 | S38: ='IBS Action Plan 20170131'!T38 -> 0 | T38: ='IBS Action Plan 20170131'!U38 -> 0 | U38: ='IBS Action Plan 20170131'!V38 -> 2 | V38: ='IBS Action Plan 20170131'!W38 -> 0.8 | ... X38: ='IBS Action Plan 20170131'!Y38 -> Isolated | Y38: =+G38+J38+U38 -> 96
B39: Reynolds | C39: ='IBS Action Plan 20170131'!C39 -> 0 | D39: ='IBS Action Plan 20170131'!D39 -> 26 | E39: ='IBS Action Plan 20170131'!E39 -> 16 | F39: ='IBS Action Plan 20170131'!F39 -> 485 | G39: ='IBS Action Plan 20170131'!G39 -> 527 | H39: ='IBS Action Plan 20170131'!H39 -> 284.5 | I39: ='IBS Action Plan 20170131'!I39 -> 0.5398482 | J39: ='IBS Action Plan 20170131'!J39 -> 340 | ... L39: ='IBS Action Plan 20170131'!L39 -> 842 | M39: ='IBS Action Plan 20170131'!N39 -> 2020 - 21 | O39: ='IBS Action Plan 20170131'!P39 -> Economic | P39: ='IBS Action Plan 20170131'!Q39 -> 0 | Q39: ='IBS Action Plan 20170131'!R39 -> 173 | R39: ='IBS Action Plan 20170131'!S39 -> 0 | S39: ='IBS Action Plan 20170131'!T39 -> 35 | T39: ='IBS Action Plan 20170131'!U39 -> 119 | U39: ='IBS Action Plan 20170131'!V39 -> 327 | V39: ='IBS Action Plan 20170131'!W39 -> 130.8 | ... X39: ='IBS Action Plan 20170131'!Y39 -> Roads, other, NDU | Y39: =+G39+J39+U39 -> 1194
B40: Summit Lake | C40: ='IBS Action Plan 20170131'!C40 -> 0 | D40: ='IBS Action Plan 20170131'!D40 -> 166 | E40: ='IBS Action Plan 20170131'!E40 -> 132 | F40: ='IBS Action Plan 20170131'!F40 -> 9 | G40: ='IBS Action Plan 20170131'!G40 -> 307 | H40: ='IBS Action Plan 20170131'!H40 -> 302.5 | I40: ='IBS Action Plan 20170131'!I40 -> 0.98534202 | J40: ='IBS Action Plan 20170131'!J40 -> 507 | ... L40: ='IBS Action Plan 20170131'!L40 -> 811 | M40: ='IBS Action Plan 20170131'!N40 -> 2017 - 18 | O40: ='IBS Action Plan 20170131'!P40 -> 0 | P40: ='IBS Action Plan 20170131'!Q40 -> 0 | Q40: ='IBS Action Plan 20170131'!R40 -> 0 | R40: ='IBS Action Plan 20170131'!S40 -> 0 | S40: ='IBS Action Plan 20170131'!T40 -> 0 | T40: ='IBS Action Plan 20170131'!U40 -> 0 | U40: ='IBS Action Plan 20170131'!V40 -> 0 | V40: ='IBS Action Plan 20170131'!W40 -> 0 | ... X40: ='IBS Action Plan 20170131'!Y40 -> 0 | Y40: =+G40+J40+U40 -> 814
...

Sheet Total AOS Slide
A1: Spruce Beetle Action Plan - Omineca Region | B1: ='IBS Action Plan 20170131'!A1 -> Spruce Beetle Action Plan - Omineca Region
A2: 42766 | B2: ='IBS Action Plan 20170131'!A2 -> 42766
A4: Merged 2014-2016 Aerial Overview Survey (AOS) Information | O4: Constrained | Y4: Total
A5: Licensee Operating Area | B5: Licensee by Timber Supply Area | C5: SEVERITY | G5: Total | H5: Estimated | I5: % Area to Harvest | J5: Monitor | K5: Steep Slope | L5: Conventional | M5: Proposed | O5: Reason for Constraint | P5: SEVERITY | V5: Cable | W5: Conventional | X5: Rationale | Y5: ='IBS Action Plan 20170131'!Z5:Z7 -> Total Area AOS + Monitor + Constrained (ha)
C6: VS | D6: S | E6: M | F6: L | G6: Area | H6: Average | I6: / | J6: Trap Tree/Trace | K6: Area (ha) | L6: Area (ha) | M6: Action | P6: VS | Q6: S | R6: M | S6: L | T6: T | U6: Total | V6: Area | W6: Area | X6: NDU, Road, Other
C7: Hectares | D7: Hectares | E7: Hectares | F7: Hectares | G7: AOS (ha) | H7: Area to Harvest (ha) | I7: Total Area AOS | J7: (ha) | K7: All severity | L7: All severity | M7: Year | P7: Hectares | Q7: Hectares | R7: Hectares | S7: Hectares | T7: Hectares | U7: Hectares | V7: Hectares | W7: Hectares
C8: 50-100% | D8: 30-49% | E8: 11-29% | F8: 1-10% | G8: VS,S,M,L | J8: 0-1%
A9: BCTS MK | B9: Klawli / Gillis | C9: 0 | D9: 0 | E9: 588 | F9: 1346 | G9: ='IBS Action Plan 20170131'!G8 -> 0 | H9: =C9+D9+E9+F9*0.5 -> 1261 | I9: =IF(G9<1,0,H9/G9) -> 0 | J9: 5704 | K9: 0 | L9: 7638 | M9: 2020 - 22 | O9: - | P9: - | Q9: - | R9: - | S9: - | T9: 425 | U9: =SUM(P9:T9) -> 425 | V9: 170 | W9: 255 | X9: Other | Y9: =+G9+J9+U9 -> 6129
B10: Parsnip / Clearwater / Pardonet | C10: 0 | D10: 0 | E10: 748 | F10: 1530 | G10: =SUM(C10:F10) -> 2278 | H10: =C10+D10+E10+F10*0.5 -> 1513 | I10: =IF(G10<1,0,H10/G10) -> 0.6641791 | J10: 236 | K10: 1005 | L10: 1509 | M10: 2017 - 2020 | O10: Economic | P10: - | Q10: - | R10: 437 | S10: 3554 | T10: 4713 | U10: =SUM(P10:T10) -> 8704 | V10: 3481.6 | W10: 5222.4 | X10: Roads, other | Y10: =+G10+J10+U10 -> 11218
B11: Phillip / Blackwater / Hwy97 | C11: 0 | D11: 711 | E11: 5061 | F11: 3285 | G11: =SUM(C11:F11) -> 9057 | H11: =C11+D11+E11+F11*0.5 -> 7414.5 | I11: =IF(G11<1,0,H11/G11) -> 0.81864856 | J11: 433 | K11: 3796 | L11: 5694 | M11: 2017 - 2021 | O11: Economic | P11: - | Q11: - | R11: 9563 | S11: 2026 | T11: 55 | U11: =SUM(P11:T11) -> 11644 | V11: 4657.6 | W11: 6986.4 | X11: Roads, other | Y11: =+G11+J11+U11 -> 21134
B12: Agreements | C12: 0 | D12: 0 | E12: 0 | F12: 2727 | G12: =SUM(C12:F12) -> 2727 | H12: =C12+D12+E12+F12*0.5 -> 1363.5 | I12: =IF(G12<1,0,H12/G12) -> 0.5 | J12: 2205 | K12: 0 | L12: 4932 | M12: 2017 - 2022 | O12: - | P12: - | Q12: - | R12: - | S12: - | T12: - | U12: =SUM(P12:T12) -> 0 | V12: 0 | W12: 0 | Y12: =+G12+J12+U12 -> 4932
A13: Subtotal | B13: BCTS MK TSA | C13: =SUM(C9:C12) -> 0 | D13: =SUM(D9:D12) -> 711 | E13: =SUM(E9:E12) -> 6397 | F13: =SUM(F9:F12) -> 8888 | G13: =SUM(C13:F13) -> 15996 | H13: =C13+D13+E13+F13*0.5 -> 11552 | I13: =IF(G13<1,0,H13/G13) -> 0.72218055 | J13: =SUM(J9:J12) -> 8578 | K13: =SUM(K9:K12) -> 4801 | L13: =SUM(L9:L12) -> 19773 | M13: - | O13: - | P13: =SUM(P9:P12) -> 0 | Q13: =SUM(Q9:Q12) -> 0 | R13: =SUM(R9:R12) -> 10000 | S13: =SUM(S9:S12) -> 5580 | T13: =SUM(T9:T12) -> 5193 | U13: =SUM(U9:U12) -> 20773 | V13: =SUM(V9:V12) -> 8309.2 | W13: =SUM(W9:W12) -> 12463.8 | Y13: =+G13+J13+U13 -> 45347
A14: Canfor MK | B14: DMK - Burden | C14: 782 | D14: 404 | E14: 546 | F14: 991 | G14: =SUM(C14:F14) -> 2723 | H14: =C14+D14+E14+F14*0.5 -> 2227.5 | I14: =IF(G14<1,0,H14/G14) -> 0.81803158 | J14: 297 | K14: 205 | L14: 2814 | M14: 2017-2019 | O14: ='IBS Action Plan 20170131'!P14 -> Legal | P14: ='IBS Action Plan 20170131'!Q14 -> 0 | Q14: ='IBS Action Plan 20170131'!R14 -> 0 | R14: ='IBS Action Plan 20170131'!S14 -> 11 | S14: ='IBS Action Plan 20170131'!T14 -> 20 | T14: ='IBS Action Plan 20170131'!U14 -> 10 | U14: ='IBS Action Plan 20170131'!V14 -> 41 | V14: ='IBS Action Plan 20170131'!W14 -> 3 | ... X14: ='IBS Action Plan 20170131'!Y14 -> Fieldwork indicates that the Burden beetle areas are inflated, possibly due to inclusion of 2015 polygons that weren't picked up in 2016 AOS | Y14: =+G14+J14+U14 -> 3061
B15: DMK - Chunamon | C15: 0 | D15: 0 | E15: 0 | F15: 8 | G15: =SUM(C15:F15) -> 8 | H15: =C15+D15+E15+F15*0.5 -> 4 | I15: =IF(G15<1,0,H15/G15) -> 0.5 | J15: 382 | K15: 17 | L15: 372 | M15: 2018-2020 | O15: ='IBS Action Plan 20170131'!P15 -> 0 | P15: ='IBS Action Plan 20170131'!Q15 -> 0 | Q15: ='IBS Action Plan 20170131'!R15 -> 0 | R15: ='IBS Action Plan 20170131'!S15 -> 0 | S15: ='IBS Action Plan 20170131'!T15 -> 0 | T15: ='IBS Action Plan 20170131'!U15 -> 0 | U15: ='IBS Action Plan 20170131'!V15 -> 0 | V15: ='IBS Action Plan 20170131'!W15 -> 0 | ... X15: ='IBS Action Plan 20170131'!Y15 -> 0 | Y15: =+G15+J15+U15 -> 390
B16: DMK - Eklund | C16: 95 | D16: 71 | E16: 14 | F16: 441 | G16: =SUM(C16:F16) -> 621 | H16: =C16+D16+E16+F16*0.5 -> 400.5 | I16: =IF(G16<1,0,H16/G16) -> 0.64492754 | J16: 1239 | K16: 195 | L16: 1665 | M16: 2017-2019 | O16: ='IBS Action Plan 20170131'!P16 -> Legal | P16: ='IBS Action Plan 20170131'!Q16 -> 0 | Q16: ='IBS Action Plan 20170131'!R16 -> 0 | R16: ='IBS Action Plan 20170131'!S16 -> 6 | S16: ='IBS Action Plan 20170131'!T16 -> 0 | T16: ='IBS Action Plan 20170131'!U16 -> 42 | U16: ='IBS Action Plan 20170131'!V16 -> 48 | V16: ='IBS Action Plan 20170131'!W16 -> 0 | ... X16: ='IBS Action Plan 20170131'!Y16 -> Recreation Site; isolated; access | Y16: =+G16+J16+U16 -> 1908
B17: DMK - Holder | C17: 3 | D17: 0 | E17: 4 | F17: 24 | G17: =SUM(C17:F17) -> 31 | H17: =C17+D17+E17+F17*0.5 -> 19 | I17: =IF(G17<1,0,H17/G17) -> 0.61290323 | J17: 160 | K17: 4 | L17: 186 | M17: 2017-2020 | O17: ='IBS Action Plan 20170131'!P17 -> Economic | P17: ='IBS Action Plan 20170131'!Q17 -> 0 | Q17: ='IBS Action Plan 20170131'!R17 -> 0 | R17: ='IBS Action Plan 20170131'!S17 -> 0 | S17: ='IBS Action Plan 20170131'!T17 -> 0 | T17: ='IBS Action Plan 20170131'!U17 -> 5 | U17: ='IBS Action Plan 20170131'!V17 -> 5 | V17: ='IBS Action Plan 20170131'!W17 -> 0 | ... X17: ='IBS Action Plan 20170131'!Y17 -> Access; isolated | Y17: =+G17+J17+U17 -> 196
B18: DMK - Manson | C18: 0 | D18: 10 | E18: 25 | F18: 0 | G18: =SUM(C18:F18) -> 35 | H18: =C18+D18+E18+F18*0.5 -> 35 | I18: =IF(G18<1,0,H18/G18) -> 1 | J18: 612 | K18: 100 | L18: 547 | M18: 2017-2019 | O18: ='IBS Action Plan 20170131'!P18 -> 0 | P18: ='IBS Action Plan 20170131'!Q18 -> 0 | Q18: ='IBS Action Plan 20170131'!R18 -> 0 | R18: ='IBS Action Plan 20170131'!S18 -> 0 | S18: ='IBS Action Plan 20170131'!T18 -> 0 | T18: ='IBS Action Plan 20170131'!U18 -> 0 | U18: ='IBS Action Plan 20170131'!V18 -> 0 | V18: ='IBS Action Plan 20170131'!W18 -> 0 | ... X18: ='IBS Action Plan 20170131'!Y18 -> 0 | Y18: =+G18+J18+U18 -> 647
B19: DMK - Nation | C19: 0 | D19: 0 | E19: 143 | F19: 208 | G19: =SUM(C19:F19) -> 351 | H19: =C19+D19+E19+F19*0.5 -> 247 | I19: =IF(G19<1,0,H19/G19) -> 0.7037037 | J19: 197 | K19: 46 | L19: 503 | M19: 2017-2019 | O19: ='IBS Action Plan 20170131'!P19 -> 0 | P19: ='IBS Action Plan 20170131'!Q19 -> 0 | Q19: ='IBS Action Plan 20170131'!R19 -> 0 | R19: ='IBS Action Plan 20170131'!S19 -> 0 | S19: ='IBS Action Plan 20170131'!T19 -> 0 | T19: ='IBS Action Plan 20170131'!U19 -> 0 | U19: ='IBS Action Plan 20170131'!V19 -> 0 | V19: ='IBS Action Plan 20170131'!W19 -> 0 | ... X19: ='IBS Action Plan 20170131'!Y19 -> 0 | Y19: =+G19+J19+U19 -> 548
B20: DMK - Ospika | C20: 0 | D20: 0 | E20: 0 | F20: 0 | G20: 0 | H20: =C20+D20+E20+F20*0.5 -> 0 | I20: =IF(G20<1,0,H20/G20) -> 0 | J20: 383 | K20: 190 | L20: 193 | M20: 2019-2022 | O20: ='IBS Action Plan 20170131'!P20 -> Economic | P20: ='IBS Action Plan 20170131'!Q20 -> 0 | Q20: ='IBS Action Plan 20170131'!R20 -> 0 | R20: ='IBS Action Plan 20170131'!S20 -> 0 | S20: ='IBS Action Plan 20170131'!T20 -> 0 | T20: ='IBS Action Plan 20170131'!U20 -> 207 | U20: ='IBS Action Plan 20170131'!V20 -> 207 | V20: ='IBS Action Plan 20170131'!W20 -> 69 | ... X20: ='IBS Action Plan 20170131'!Y20 -> Roads, isolated, practicality | Y20: =+G20+J20+U20 -> 590
B21: DMK - Philip Creek | C21: 0 | D21: 0 | E21: 0 | F21: 184 | G21: =SUM(C21:F21) -> 184 | H21: =C21+D21+E21+F21*0.5 -> 92 | I21: =IF(G21<1,0,H21/G21) -> 0.5 | J21: 900 | K21: 39 | L21: 1046 | M21: 2017-2019 | O21: ='IBS Action Plan 20170131'!P21 -> 0 | P21: ='IBS Action Plan 20170131'!Q21 -> 0 | Q21: ='IBS Action Plan 20170131'!R21 -> 0 | R21: ='IBS Action Plan 20170131'!S21 -> 0 | S21: ='IBS Action Plan 20170131'!T21 -> 0 | T21: ='IBS Action Plan 20170131'!U21 -> 0 | U21: ='IBS Action Plan 20170131'!V21 -> 0 | V21: ='IBS Action Plan 20170131'!W21 -> 0 | ... X21: ='IBS Action Plan 20170131'!Y21 -> 0 | Y21: =+G21+J21+U21 -> 1084
