Workbook

Sheet IBS Action Plan 20170131
A1: Spruce Beetle Action Plan - Omineca Region
A2: 42766
AA3: 275 | AB3: m3/ha
A4: Merged 2014-2016 Aerial Overview Survey (AOS) Information | P4: Constrained | Z4: Total
A5: Licensee Operating Area | B5: Licensee by Timber Supply Area | C5: SEVERITY | G5: Total Area AOS (ha) | H5: Estimated Average Area to Harvest (ha) (Sum VS,S,M +50%*L) | I5: Estimated Area to Harvest ÷ Total Area AOS (%) | J5: Monitor Trap Tree/Trace (ha) | K5: Total Area AOS + Monitor (Trace) | N5: Proposed Action Year | P5: Reason for Constraint | Q5: SEVERITY | W5: Cable | X5: Conventional | Y5: Rationale | Z5: Total Area AOS + Monitor + Constrained (ha)
C6: VS | D6: S | E6: M | F6: L | K6: Steep Slope Area (ha) | L6: Conventional Area (ha) | M6: Total Area (ha) | Q6: VS | R6: S | S6: M | T6: L | U6: T | V6: Total | W6: Area | X6: Area | Y6: NDU, Road, Other
C7: Hectares | D7: Hectares | E7: Hectares | F7: Hectares | Q7: Hectares | R7: Hectares | S7: Hectares | T7: Hectares | U7: Hectares | V7: Hectares | W7: Hectares | X7: Hectares
C8: 50-100% | D8: 30-49% | E8: 11-29% | F8: 1-10% | J8: 0-1%
A9: BCTS MK | B9: Klawli / Gillis | C9: 0 | D9: 0 | E9: 588 | F9: 1346 | G9: =SUM(C9:F9) -> 1934 | H9: =C9+D9+E9+F9*0.5 -> 1261 | I9: =IF(G9<1,0,H9/G9) -> 0.65201655 | J9: 5704 | K9: 0 | L9: 7638 | M9: =G9+J9 -> 7638 | N9: 2020 - 22 | P9: Economic | Q9: 0 | R9: 0 | S9: 0 | T9: 0 | U9: 425 | V9: =SUM(Q9:U9) -> 425 | W9: 170 | X9: 255 | Y9: Other | Z9: =+G9+J9+V9 -> 8063
B10: Parsnip / Clearwater / Pardonet | C10: 0 | D10: 0 | E10: 748 | F10: 1530 | G10: =SUM(C10:F10) -> 2278 | H10: =C10+D10+E10+F10*0.5 -> 1513 | I10: =IF(G10<1,0,H10/G10) -> 0.6641791 | J10: 236 | K10: 1005 | L10: 1509 | M10: =G10+J10 -> 2514 | N10: 2017 - 2020 | P10: Economic | Q10: 0 | R10: 0 | S10: 437 | T10: 3554 | U10: 4713 | V10: =SUM(Q10:U10) -> 8704 | W10: 3481.6 | X10: 5222.4 | Y10: Roads, other | Z10: =+G10+J10+V10 -> 11218
B11: Phillip / Blackwater / Hwy97 | C11: 0 | D11: 711 | E11: 5061 | F11: 3285 | G11: =SUM(C11:F11) -> 9057 | H11: =C11+D11+E11+F11*0.5 -> 7414.5 | I11: =IF(G11<1,0,H11/G11) -> 0.81864856 | J11: 433 | K11: 3796 | L11: 5694 | M11: =G11+J11 -> 9490 | N11: 2017 - 2021 | P11: Economic | Q11: 0 | R11: 0 | S11: 9563 | T11: 2026 | U11: 55 | V11: =SUM(Q11:U11) -> 11644 | W11: 4657.6 | X11: 6986.4 | Y11: Roads, other | Z11: =+G11+J11+V11 -> 21134
B12: Agreements | C12: 0 | D12: 0 | E12: 0 | F12: 2727 | G12: =SUM(C12:F12) -> 2727 | H12: =C12+D12+E12+F12*0.5 -> 1363.5 | I12: =IF(G12<1,0,H12/G12) -> 0.5 | J12: 2205 | K12: 0 | L12: 4932 | M12: =G12+J12 -> 4932 | N12: 2017 - 2022 | P12: - | Q12: 0 | R12: 0 | S12: 0 | T12: 0 | U12: 0 | V12: =SUM(Q12:U12) -> 0 | W12: 0 | X12: 0 | Z12: =+G12+J12+V12 -> 4932
A13: Subtotal | B13: BCTS MK TSA | C13: =SUM(C9:C12) -> 0 | D13: =SUM(D9:D12) -> 711 | E13: =SUM(E9:E12) -> 6397 | F13: =SUM(F9:F12) -> 8888 | G13: =SUM(C13:F13) -> 15996 | H13: =C13+D13+E13+F13*0.5 -> 11552 | I13: =IF(G13<1,0,H13/G13) -> 0.72218055 | J13: =SUM(J9:J12) -> 8578 | K13: =SUM(K9:K12) -> 4801 | L13: =SUM(L9:L12) -> 19773 | M13: =G13+J13 -> 24574 | N13: - | P13: - | Q13: =SUM(Q9:Q12) -> 0 | R13: =SUM(R9:R12) -> 0 | S13: =SUM(S9:S12) -> 10000 | T13: =SUM(T9:T12) -> 5580 | U13: =SUM(U9:U12) -> 5193 | V13: =SUM(V9:V12) -> 20773 | W13: =SUM(W9:W12) -> 8309.2 | X13: =SUM(X9:X12) -> 12463.8 | Z13: =+G13+J13+V13 -> 45347
A14: Canfor MK | B14: DMK - Burden | C14: 782 | D14: 404 | E14: 546 | F14: 991 | G14: =SUM(C14:F14) -> 2723 | H14: =C14+D14+E14+F14*0.5 -> 2227.5 | I14: =IF(G14<1,0,H14/G14) -> 0.81803158 | J14: 297 | K14: 205 | L14: 2814 | M14: =G14+J14 -> 3020 | N14: 2017-2019 | P14: Legal | Q14: 0 | R14: 0 | S14: 11 | T14: 20 | U14: 10 | V14: =SUM(Q14:U14) -> 41 | W14: 3 | X14: 38 | Y14: Fieldwork indicates that the Burden beetle areas are inflated, possibly due to inclusion of 2015 polygons that weren't picked up in 2016 AOS | Z14: =+G14+J14+V14 -> 3061
B15: DMK - Chunamon | C15: 0 | D15: 0 | E15: 0 | F15: 8 | G15: =SUM(C15:F15) -> 8 | H15: =C15+D15+E15+F15*0.5 -> 4 | I15: =IF(G15<1,0,H15/G15) -> 0.5 | J15: 382 | K15: 17 | L15: 372 | M15: =G15+J15 -> 390 | N15: 2018-2020 | Q15: 0 | R15: 0 | S15: 0 | T15: 0 | U15: 0 | V15: 0 | W15: 0 | X15: 0 | Z15: =+G15+J15+V15 -> 390
B16: DMK - Eklund | C16: 95 | D16: 71 | E16: 14 | F16: 441 | G16: =SUM(C16:F16) -> 621 | H16: =C16+D16+E16+F16*0.5 -> 400.5 | I16: =IF(G16<1,0,H16/G16) -> 0.64492754 | J16: 1239 | K16: 195 | L16: 1665 | M16: =G16+J16 -> 1860 | N16: 2017-2019 | P16: Legal | Q16: 0 | R16: 0 | S16: 6 | T16: 0 | U16: 42 | V16: =SUM(Q16:U16) -> 48 | W16: 0 | X16: 48 | Y16: Recreation Site; isolated; access | Z16: =+G16+J16+V16 -> 1908
B17: DMK - Holder | C17: 3 | D17: 0 | E17: 4 | F17: 24 | G17: =SUM(C17:F17) -> 31 | H17: =C17+D17+E17+F17*0.5 -> 19 | I17: =IF(G17<1,0,H17/G17) -> 0.61290323 | J17: 160 | K17: 4 | L17: 186 | M17: =G17+J17 -> 191 | N17: 2017-2020 | P17: Economic | Q17: 0 | R17: 0 | S17: 0 | T17: 0 | U17: 5 | V17: =SUM(Q17:U17) -> 5 | W17: 0 | X17: 5 | Y17: Access; isolated | Z17: =+G17+J17+V17 -> 196
B18: DMK - Manson | C18: 0 | D18: 10 | E18: 25 | F18: 0 | G18: =SUM(C18:F18) -> 35 | H18: =C18+D18+E18+F18*0.5 -> 35 | I18: =IF(G18<1,0,H18/G18) -> 1 | J18: 612 | K18: 100 | L18: 547 | M18: =G18+J18 -> 647 | N18: 2017-2019 | Q18: 0 | R18: 0 | S18: 0 | T18: 0 | U18: 0 | V18: 0 | W18: 0 | X18: 0 | Z18: =+G18+J18+V18 -> 647
B19: DMK - Nation | C19: 0 | D19: 0 | E19: 143 | F19: 208 | G19: =SUM(C19:F19) -> 351 | H19: =C19+D19+E19+F19*0.5 -> 247 | I19: =IF(G19<1,0,H19/G19) -> 0.7037037 | J19: 197 | K19: 46 | L19: 503 | M19: =G19+J19 -> 548 | N19: 2017-2019 | Q19: 0 | R19: 0 | S19: 0 | T19: 0 | U19: 0 | V19: 0 | W19: 0 | X19: 0 | Z19: =+G19+J19+V19 -> 548
B20: DMK - Ospika | C20: 0 | D20: 0 | E20: 0 | F20: 0 | G20: 0 | H20: =C20+D20+E20+F20*0.5 -> 0 | I20: =IF(G20<1,0,H20/G20) -> 0 | J20: 383 | K20: 190 | L20: 193 | M20: =G20+J20 -> 383 | N20: 2019-2022 | P20: Economic | Q20: 0 | R20: 0 | S20: 0 | T20: 0 | U20: 207 | V20: =SUM(Q20:U20) -> 207 | W20: 69 | X20: 138 | Y20: Roads, isolated, practicality | Z20: =+G20+J20+V20 -> 590
B21: DMK - Philip Creek | C21: 0 | D21: 0 | E21: 0 | F21: 184 | G21: =SUM(C21:F21) -> 184 | H21: =C21+D21+E21+F21*0.5 -> 92 | I21: =IF(G21<1,0,H21/G21) -> 0.5 | J21: 900 | K21: 39 | L21: 1046 | M21: =G21+J21 -> 1084 | N21: 2017-2019 | Q21: 0 | R21: 0 | S21: 0 | T21: 0 | U21: 0 | V21: 0 | W21: 0 | X21: 0 | Z21: =+G21+J21+V21 -> 1084
B22: DMK - Rupert | C22: 0 | D22: 8 | E22: 8 | F22: 293 | G22: =SUM(C22:F22) -> 309 | H22: =C22+D22+E22+F22*0.5 -> 162.5 | I22: =IF(G22<1,0,H22/G22) -> 0.52588997 | J22: 226 | K22: 41 | L22: 495 | M22: =G22+J22 -> 535 | N22: 2018-2020 | Q22: 0 | R22: 0 | S22: 0 | T22: 0 | U22: 0 | V22: 0 | W22: 0 | X22: 0 | Z22: =+G22+J22+V22 -> 535
A23: Subtotal | B23: Canfor MK TSA | C23: =SUM(C14:C22) -> 880 | D23: =SUM(D14:D22) -> 493 | E23: =SUM(E14:E22) -> 740 | F23: =SUM(F14:F22) -> 2149 | G23: =SUM(C23:F23) -> 4262 | H23: =C23+D23+E23+F23*0.5 -> 3187.5 | I23: =IF(G23<1,0,H23/G23) -> 0.74788832 | J23: =SUM(J14:J22) -> 4396 | K23: =SUM(K14:K22) -> 837 | L23: =SUM(L14:L22) -> 7821 | M23: =G23+J23 -> 8658 | Q23: =SUM(Q14:Q22) -> 0 | R23: =SUM(R14:R22) -> 0 | S23: =SUM(S14:S22) -> 17 | T23: =SUM(T14:T22) -> 20 | U23: =SUM(U14:U22) -> 264 | V23: =SUM(V14:V22) -> 301 | W23: =SUM(W14:W22) -> 72 | X23: =SUM(X14:X22) -> 229 | Z23: =+G23+J23+V23 -> 8959
A24: Conifex | B24: Parsnip | C24: 1573.7891 | D24: 163.1657 | E24: 2418.412 | F24: 565.98814 | G24: =SUM(C24:F24) -> 4721.355 | H24: =C24+D24+E24+F24*0.5 -> 4438.3609 | I24: =IF(G24<1,0,H24/G24) -> 0.94006084 | J24: 343.88704 | K24: 811.97203 | L24: 4253.27 | M24: =G24+J24 -> 5065.242 | N24: 2016-2020 | P24: Economic | Q24: 497.58506 | R24: 143.29147 | S24: 862.97543 | T24: 157.71463 | U24: 85.922109 | V24: =SUM(Q24:U24) -> 1747.4887 | W24: 1747.4887 | X24: 0 | Y24: Road Access, practicality | Z24: =+G24+J24+V24 -> 6812.7307
B25: Chunamon | C25: 0 | D25: 0 | E25: 0 | F25: 7.60052 | G25: =SUM(C25:F25) -> 7.60052 | H25: =C25+D25+E25+F25*0.5 -> 3.80026 | I25: =IF(G25<1,0,H25/G25) -> 0.5 | J25: 668.43456 | K25: 26.11866 | L25: 650.04986 | M25: =G25+J25 -> 676.03508 | N25: 2017-2018 | P25: Economic | Q25: 0 | R25: 0 | S25: 0 | T25: 0 | U25: 43.571154 | V25: =SUM(Q25:U25) -> 43.571154 | W25: 43.571154 | X25: 0 | Y25: Road Access, practicality | Z25: =+G25+J25+V25 -> 719.60623
B26: Morfee | C26: 0 | D26: 0 | E26: 0 | F26: 0 | G26: 0 | H26: =C26+D26+E26+F26*0.5 -> 0 | I26: =IF(G26<1,0,H26/G26) -> 0 | J26: 64.410451 | K26: 0 | L26: 64.27701 | M26: =G26+J26 -> 64.410451 | N26: 2017 | P26: Economic | Q26: 86.87382 | R26: 0 | S26: 31.200416 | T26: 0 | U26: 11.304932 | V26: =SUM(Q26:U26) -> 129.37917 | W26: 129.37917 | X26: 0 | Y26: Road Access, practicality | Z26: =+G26+J26+V26 -> 193.78962
A27: Subtotal | B27: Conifex MK TSA | C27: =SUM(C24:C26) -> 1573.7891 | D27: =SUM(D24:D26) -> 163.1657 | E27: =SUM(E24:E26) -> 2418.412 | F27: =SUM(F24:F26) -> 573.58866 | G27: =SUM(C27:F27) -> 4728.9555 | H27: =C27+D27+E27+F27*0.5 -> 4442.1612 | I27: =IF(G27<1,0,H27/G27) -> 0.93935356 | J27: =SUM(J24:J26) -> 1076.7321 | K27: =SUM(K24:K26) -> 838.09069 | L27: =SUM(L24:L26) -> 4967.5968 | M27: =G27+J27 -> 5805.6875 | Q27: =SUM(Q24:Q26) -> 584.45889 | R27: =SUM(R24:R26) -> 143.29147 | S27: =SUM(S24:S26) -> 894.17585 | T27: =SUM(T24:T26) -> 157.71463 | U27: =SUM(U24:U26) -> 140.7982 | V27: =SUM(V24:V26) -> 1920.439 | W27: =SUM(W24:W26) -> 1920.439 | X27: =SUM(X24:X26) -> 0 | Y27: =SUM(Y24:Y26) -> 0 | Z27: =+G27+J27+V27 -> 7726.1266
A28: Total | B28: MK TSA | C28: =C13+C23+C27 -> 2453.7891 | D28: =D13+D23+D27 -> 1367.1657 | E28: =E13+E23+E27 -> 9555.412 | F28: =F13+F23+F27 -> 11610.589 | G28: =G13+G23+G27 -> 24986.955 | H28: =C28+D28+E28+F28*0.5 -> 19181.661 | I28: =IF(G28<1,0,H28/G28) -> 0.767667 | J28: =J13+J23+J27 -> 14050.732 | K28: =K13+K23+K27 -> 6476.0907 | L28: =L13+L23+L27 -> 32561.597 | M28: =G28+J28 -> 39037.688 | Q28: =+Q13+Q23+Q27 -> 584.45889 | R28: =+R13+R23+R27 -> 143.29147 | S28: =+S13+S23+S27 -> 10911.176 | T28: =+T13+T23+T27 -> 5757.7146 | U28: =+U13+U23+U27 -> 5597.7982 | V28: =+V13+V23+V27 -> 22994.439 | W28: =+W13+W23+W27 -> 10301.639 | X28: =+X13+X23+X27 -> 12692.8 | Z28: =+G28+J28+V28 -> 62032.127
B29: Volume (m3; @275m3/ha) | C29: =C28*$AA$3 -> 674792.01 | D29: =D28*$AA$3 -> 375970.57 | E29: =E28*$AA$3 -> 2627738.3 | F29: =F28*$AA$3 -> 3192911.9 | G29: =G28*$AA$3 -> 6871412.8 | H29: =H28*$AA$3 -> 5274956.8 | Z29: =+G29+J29+V29 -> 6871412.8
A30: BCTS PG | B30: Angusmac | C30: 0 | D30: 27 | E30: 0 | F30: 43 | G30: =SUM(C30:F30) -> 70 | H30: =C30+D30+E30+F30*0.5 -> 48.5 | I30: =IF(G30<1,0,H30/G30) -> 0.69285714 | J30: 94 | K30: 1 | L30: 163 | M30: =G30+J30 -> 164 | N30: 2018 - 19 | Q30: 0 | R30: 0 | S30: 0 | T30: 0 | U30: 0 | V30: 0 | Z30: =+G30+J30+V30 -> 164
B31: Chuchinka | C31: 0 | D31: 0 | E31: 0 | F31: 55 | G31: =SUM(C31:F31) -> 55 | H31: =C31+D31+E31+F31*0.5 -> 27.5 | I31: =IF(G31<1,0,H31/G31) -> 0.5 | J31: 34 | K31: - | L31: 89 | M31: =G31+J31 -> 89 | N31: 2019 - 20 | Q31: 0 | R31: 0 | S31: 0 | T31: 0 | U31: 0 | V31: 0 | Z31: =+G31+J31+V31 -> 89
B32: Colburne | C32: 0 | D32: 8 | E32: 268 | F32: 2160 | G32: =SUM(C32:F32) -> 2436 | H32: =C32+D32+E32+F32*0.5 -> 1356 | I32: =IF(G32<1,0,H32/G32) -> 0.55665025 | J32: 542 | K32: 285 | L32: 2692 | M32: =G32+J32 -> 2978 | N32: 2017 - 18 | P32: Economic | Q32: 0 | R32: 0 | S32: 0 | T32: 0 | U32: 28 | V32: =SUM(Q32:U32) -> 28 | W32: =0.4*V32 -> 11.2 | X32: =0.6*V32 -> 16.8 | Y32: Isolated | Z32: =+G32+J32+V32 -> 3006
B33: Dome | C33: 0 | D33: 0 | E33: 0 | F33: 0 | G33: 0 | H33: =C33+D33+E33+F33*0.5 -> 0 | I33: =IF(G33<1,0,H33/G33) -> 0 | J33: 0 | K33: - | L33: - | M33: =G33+J33 -> 0 | P33: Economic | Q33: 0 | R33: 0 | S33: 0 | T33: 0 | U33: 70 | V33: =SUM(Q33:U33) -> 70 | W33: =0.4*V33 -> 28 | X33: =0.6*V33 -> 42 | Y33: Isolated | Z33: =+G33+J33+V33 -> 70
B34: Firth | C34: 0 | D34: 92 | E34: 69 | F34: 627 | G34: =SUM(C34:F34) -> 788 | H34: =C34+D34+E34+F34*0.5 -> 474.5 | I34: =IF(G34<1,0,H34/G34) -> 0.60215736 | J34: 324 | K34: 13 | L34: 1099 | M34: =G34+J34 -> 1112 | N34: 2019 - 20 | Q34: 0 | R34: 0 | S34: 0 | T34: 0 | U34: 0 | V34: 0 | W34: =0.4*V34 -> 0 | X34: =0.6*V34 -> 0 | Z34: =+G34+J34+V34 -> 1112
B35: Hominka | C35: 0 | D35: 17 | E35: 1023 | F35: 2950 | G35: =SUM(C35:F35) -> 3990 | H35: =C35+D35+E35+F35*0.5 -> 2515 | I35: =IF(G35<1,0,H35/G35) -> 0.63032581 | J35: 299 | K35: 1822 | L35: 2468 | M35: =G35+J35 -> 4289 | N35: 2018 - 19 | Q35: 0 | R35: 0 | S35: 0 | T35: 0 | U35: 0 | V35: 0 | W35: =0.4*V35 -> 0 | X35: =0.6*V35 -> 0 | Z35: =+G35+J35+V35 -> 4289
B36: Mcleod | C36: 0 | D36: 0 | E36: 109 | F36: 1313 | G36: =SUM(C36:F36) -> 1422 | H36: =C36+D36+E36+F36*0.5 -> 765.5 | I36: =IF(G36<1,0,H36/G36) -> 0.5383263 | J36: 504 | K36: 132 | L36: 1795 | M36: =G36+J36 -> 1926 | N36: 2021 - 22 | Q36: 0 | R36: 0 | S36: 0 | T36: 0 | U36: 0 | V36: 0 | W36: =0.4*V36 -> 0 | X36: =0.6*V36 -> 0 | Z36: =+G36+J36+V36 -> 1926
B37: Missinka | C37: 0 | D37: 0 | E37: 0 | F37: 0 | G37: 0 | H37: =C37+D37+E37+F37*0.5 -> 0 | I37: =IF(G37<1,0,H37/G37) -> 0 | J37: 0 | K37: - | L37: - | M37: =G37+J37 -> 0 | P37: Economic | Q37: 0 | R37: 0 | S37: 0 | T37: 37 | U37: 0 | V37: =SUM(Q37:U37) -> 37 | W37: =0.4*V37 -> 14.8 | X37: =0.6*V37 -> 22.2 | Y37: Isolated | Z37: =+G37+J37+V37 -> 37
B38: Parsnip | C38: 0 | D38: 0 | E38: 0 | F38: 94 | G38: =SUM(C38:F38) -> 94 | H38: =C38+D38+E38+F38*0.5 -> 47 | I38: =IF(G38<1,0,H38/G38) -> 0.5 | J38: 0 | K38: 53 | L38: 41 | M38: =G38+J38 -> 94 | N38: 2021 - 22 | P38: Economic | Q38: 0 | R38: 0 | S38: 2 | T38: 0 | U38: 0 | V38: =SUM(Q38:U38) -> 2 | W38: =0.4*V38 -> 0.8 | X38: =0.6*V38 -> 1.2 | Y38: Isolated | Z38: =+G38+J38+V38 -> 96
B39: Reynolds | C39: 0 | D39: 26 | E39: 16 | F39: 485 | G39: =SUM(C39:F39) -> 527 | H39: =C39+D39+E39+F39*0.5 -> 284.5 | I39: =IF(G39<1,0,H39/G39) -> 0.5398482 | J39: 340 | K39: 25 | L39: 842 | M39: =G39+J39 -> 867 | N39: 2020 - 21 | P39: Economic | Q39: 0 | R39: 173 | S39: 0 | T39: 35 | U39: 119 | V39: =SUM(Q39:U39) -> 327 | W39: =0.4*V39 -> 130.8 | X39: =0.6*V39 -> 196.2 | Y39: Roads, other, NDU | Z39: =+G39+J39+V39 -> 1194
B40: Summit Lake | C40: 0 | D40: 166 | E40: 132 | F40: 9 | G40: =SUM(C40:F40) -> 307 | H40: =C40+D40+E40+F40*0.5 -> 302.5 | I40: =IF(G40<1,0,H40/G40) -> 0.98534202 | J40: 507 | K40: 5 | L40: 811 | M40: =G40+J40 -> 814 | N40: 2017 - 18 | Q40: 0 | R40: 0 | S40: 0 | T40: 0 | U40: 0 | V40: 0 | Z40: =+G40+J40+V40 -> 814
A41: Subtotal | B41: BCTS PG District | C41: =SUM(C30:C40) -> 0 | D41: =SUM(D30:D40) -> 336 | E41: =SUM(E30:E40) -> 1617 | F41: =SUM(F30:F40) -> 7736 | G41: =SUM(C41:F41) -> 9689 | H41: =C41+D41+E41+F41*0.5 -> 5821 | I41: =IF(G41<1,0,H41/G41) -> 0.60078439 | J41: =SUM(J30:J40) -> 2644 | K41: =SUM(K30:K40) -> 2336 | L41: =SUM(L30:L40) -> 10000 | M41: =G41+J41 -> 12333 | P41: - | Q41: =SUM(Q30:Q40) -> 0 | R41: =SUM(R30:R40) -> 173 | S41: =SUM(S30:S40) -> 2 | T41: =SUM(T30:T40) -> 72 | U41: =SUM(U30:U40) -> 217 | V41: =SUM(Q41:U41) -> 464 | W41: =SUM(W30:W40) -> 185.6 | X41: =SUM(X30:X40) -> 278.4 | Z41: =+G41+J41+V41 -> 12797
A42: Canfor PG | B42: DPG - Ames | C42: 0 | D42: 0 | E42: 0 | F42: 19 | G42: =SUM(C42:F42) -> 19 | H42: =C42+D42+E42+F42*0.5 -> 9.5 | I42: =IF(G42<1,0,H42/G42) -> 0.5 | J42: 0 | K42: - | L42: 19 | M42: =G42+J42 -> 19 | N42: 2017-2019 | Q42: 0 | R42: 0 | S42: 0 | T42: 0 | U42: 0 | V42: =SUM(Q42:U42) -> 0 | Z42: =+G42+J42+V42 -> 19
B43: DPG - Anzac | C43: 0 | D43: 443 | E43: 383 | F43: 3308 | G43: =SUM(C43:F43) -> 4134 | H43: =C43+D43+E43+F43*0.5 -> 2480 | I43: =IF(G43<1,0,H43/G43) -> 0.59990324 | J43: 2048 | K43: 693 | L43: 5489 | M43: =G43+J43 -> 6182 | N43: 2017-2021 | Q43: 0 | R43: 0 | S43: 0 | T43: 0 | U43: 0 | V43: =SUM(Q43:U43) -> 0 | Z43: =+G43+J43+V43 -> 6182
B44: DPG - Chuchinka | C44: 0 | D44: 70 | E44: 439 | F44: 444 | G44: =SUM(C44:F44) -> 953 | H44: =C44+D44+E44+F44*0.5 -> 731 | I44: =IF(G44<1,0,H44/G44) -> 0.76705142 | J44: 414 | K44: 94 | L44: 1273 | M44: =G44+J44 -> 1367 | N44: 2017-2018 | Q44: 0 | R44: 0 | S44: 0 | T44: 0 | U44: 0 | V44: =SUM(Q44:U44) -> 0 | Z44: =+G44+J44+V44 -> 1367
B45: DPG - Government | C45: 0 | D45: 0 | E45: 0 | F45: 0 | G45: 0 | H45: =C45+D45+E45+F45*0.5 -> 0 | I45: =IF(G45<1,0,H45/G45) -> 0 | J45: 421 | K45: - | L45: 421 | M45: =G45+J45 -> 421 | N45: 2018-2019 | Q45: 0 | R45: 0 | S45: 0 | T45: 0 | U45: 0 | V45: =SUM(Q45:U45) -> 0 | Z45: =+G45+J45+V45 -> 421
B46: DPG - Herrick | C46: 0 | D46: 0 | E46: 26 | F46: 1289 | G46: =SUM(C46:F46) -> 1315 | H46: =C46+D46+E46+F46*0.5 -> 670.5 | I46: =IF(G46<1,0,H46/G46) -> 0.50988593 | J46: 1202 | K46: 497 | L46: 2019 | M46: =G46+J46 -> 2517 | N46: 2020-2023 | P46: Legal | Q46: 0 | R46: 0 | S46: 9 | T46: 113 | U46: 233 | V46: =SUM(Q46:U46) -> 355 | W46: 45 | X46: 310 | Y46: Proposed landscape biodiversity areas for A25 (old forest); likely to be some operability issues as well | Z46: =+G46+J46+V46 -> 2872
B47: DPG - McGregor | C47: 0 | D47: 181 | E47: 1699 | F47: 3131 | G47: =SUM(C47:F47) -> 5011 | H47: =C47+D47+E47+F47*0.5 -> 3445.5 | I47: =IF(G47<1,0,H47/G47) -> 0.68758731 | J47: 417 | K47: 1651 | L47: 3777 | M47: =G47+J47 -> 5428 | N47: 2017-2024 | P47: Legal | Q47: 0 | R47: 12 | S47: 392 | T47: 526 | U47: 75 | V47: =SUM(Q47:U47) -> 1005 | W47: 178 | X47: 827 | Y47: Proposed landscape biodiversity areas for A25 (old forest) | Z47: =+G47+J47+V47 -> 6433
B48: DPG - McLeod | C48: 0 | D48: 0 | E48: 0 | F48: 366 | G48: =SUM(C48:F48) -> 366 | H48: =C48+D48+E48+F48*0.5 -> 183 | I48: =IF(G48<1,0,H48/G48) -> 0.5 | J48: 3 | K48: - | L48: 370 | M48: =G48+J48 -> 369 | N48: 2018-2019 | Q48: 0 | R48: 0 | S48: 0 | T48: 0 | U48: 0 | V48: =SUM(Q48:U48) -> 0 | Z48: =+G48+J48+V48 -> 369
B49: DPG - Muskeg | C49: 0 | D49: 0 | E49: 0 | F49: 21 | G49: =SUM(C49:F49) -> 21 | H49: =C49+D49+E49+F49*0.5 -> 10.5 | I49: =IF(G49<1,0,H49/G49) -> 0.5 | J49: 191 | K49: - | L49: 212 | M49: =G49+J49 -> 212 | N49: 2017-2019 | Q49: 0 | R49: 0 | S49: 0 | T49: 0 | U49: 0 | V49: =SUM(Q49:U49) -> 0 | Z49: =+G49+J49+V49 -> 212
B50: DPG - Otter | C50: 0 | D50: 0 | E50: 0 | F50: 0 | G50: 0 | H50: =C50+D50+E50+F50*0.5 -> 0 | I50: =IF(G50<1,0,H50/G50) -> 0 | J50: 59 | K50: 2 | L50: 57 | M50: =G50+J50 -> 59 | N50: 2018-2020 | Q50: 0 | R50: 0 | S50: 0 | T50: 0 | U50: 0 | V50: =SUM(Q50:U50) -> 0 | Z50: =+G50+J50+V50 -> 59
B51: DPG - Pinkerton | C51: 0 | D51: 0 | E51: 0 | F51: 37 | G51: =SUM(C51:F51) -> 37 | H51: =C51+D51+E51+F51*0.5 -> 18.5 | I51: =IF(G51<1,0,H51/G51) -> 0.5 | J51: 27 | K51: - | L51: 64 | M51: =G51+J51 -> 64 | N51: 2017-2018 | Q51: 0 | R51: 0 | S51: 0 | T51: 0 | U51: 0 | V51: =SUM(Q51:U51) -> 0 | Z51: =+G51+J51+V51 -> 64
B52: DPG - Salmon | C52: 59 | D52: 29 | E52: 73 | F52: 440 | G52: =SUM(C52:F52) -> 601 | H52: =C52+D52+E52+F52*0.5 -> 381 | I52: =IF(G52<1,0,H52/G52) -> 0.63394343 | J52: 24 | K52: 5 | L52: 620 | M52: =G52+J52 -> 625 | N52: 2017-2018 | Q52: 0 | R52: 0 | S52: 0 | T52: 0 | U52: 0 | V52: =SUM(Q52:U52) -> 0 | Z52: =+G52+J52+V52 -> 625
B53: DPG - Stony | C53: 0 | D53: 0 | E53: 0 | F53: 0 | G53: =SUM(C53:F53) -> 0 | H53: =C53+D53+E53+F53*0.5 -> 0 | I53: =IF(G53<1,0,H53/G53) -> 0 | J53: 235 | K53: 29 | L53: 206 | M53: =G53+J53 -> 235 | N53: 2020 | Q53: 0 | R53: 0 | S53: 0 | T53: 0 | U53: 0 | V53: =SUM(Q53:U53) -> 0 | Z53: =+G53+J53+V53 -> 235
B54: DPG - TFL30 | C54: 0 | D54: 0 | E54: 50 | F54: 3747 | G54: =SUM(C54:F54) -> 3797 | H54: =C54+D54+E54+F54*0.5 -> 1923.5 | I54: =IF(G54<1,0,H54/G54) -> 0.50658415 | J54: 4179 | K54: 224 | L54: 7752 | M54: =G54+J54 -> 7976 | N54: 2017-2023 | P54: Legal | Q54: 0 | R54: 0 | S54: 0 | T54: 891 | U54: 1298 | V54: =SUM(Q54:U54) -> 2189 | W54: 79 | X54: 2110 | Y54: TFL 30 OGMA | Z54: =+G54+J54+V54 -> 10165
B55: DPG - Torpy | C55: 0 | D55: 0 | E55: 1 | F55: 0 | G55: =SUM(C55:F55) -> 1 | H55: =C55+D55+E55+F55*0.5 -> 1 | I55: =IF(G55<1,0,H55/G55) -> 1 | J55: 0 | K55: - | L55: 1 | M55: =G55+J55 -> 1 | N55: 2019-2021 | P55: Legal | Q55: 0 | R55: 0 | S55: 14 | T55: 0 | U55: 16 | V55: =SUM(Q55:U55) -> 30 | W55: 30 | X55: 0 | Y55: A25 NDU Biodiversity | Z55: =+G55+J55+V55 -> 31
B56: DPG - Tumuch | C56: 0 | D56: 0 | E56: 0 | F56: 15 | G56: =SUM(C56:F56) -> 15 | H56: =C56+D56+E56+F56*0.5 -> 7.5 | I56: =IF(G56<1,0,H56/G56) -> 0.5 | J56: 293 | K56: 35 | L56: 273 | M56: =G56+J56 -> 308 | N56: 2017-2019 | Q56: 0 | R56: 0 | S56: 0 | T56: 0 | U56: 0 | V56: =SUM(Q56:U56) -> 0 | Z56: =+G56+J56+V56 -> 308
B57: DPG - War | C57: 0 | D57: 0 | E57: 0 | F57: 663 | G57: =SUM(C57:F57) -> 663 | H57: =C57+D57+E57+F57*0.5 -> 331.5 | I57: =IF(G57<1,0,H57/G57) -> 0.5 | J57: 1036 | K57: 12 | L57: 1687 | M57: =G57+J57 -> 1699 | N57: 2017-2018 | Q57: 0 | R57: 0 | S57: 0 | T57: 0 | U57: 0 | V57: =SUM(Q57:U57) -> 0 | Z57: =+G57+J57+V57 -> 1699
B58: DPG - Weedon | C58: 0 | D58: 0 | E58: 0 | F58: 35 | G58: =SUM(C58:F58) -> 35 | H58: =C58+D58+E58+F58*0.5 -> 17.5 | I58: =IF(G58<1,0,H58/G58) -> 0.5 | J58: 6 | K58: - | L58: 41 | M58: =G58+J58 -> 41 | N58: 2018 | Q58: 0 | R58: 0 | S58: 0 | T58: 0 | U58: 0 | V58: =SUM(Q58:U58) -> 0 | Z58: =+G58+J58+V58 -> 41
A59: Subtotal | B59: Canfor PG District + TFL 30 | C59: =SUM(C42:C58) -> 59 | D59: =SUM(D42:D58) -> 723 | E59: =SUM(E42:E58) -> 2671 | F59: =SUM(F42:F58) -> 13515 | G59: =SUM(C59:F59) -> 16968 | H59: =C59+D59+E59+F59*0.5 -> 10210.5 | I59: =IF(G59<1,0,H59/G59) -> 0.60175035 | J59: =SUM(J42:J58) -> 10555 | K59: =SUM(K42:K58) -> 3242 | L59: =SUM(L42:L58) -> 24281 | M59: =G59+J59 -> 27523 | Q59: =SUM(Q42:Q58) -> 0 | R59: =SUM(R42:R58) -> 12 | S59: =SUM(S42:S58) -> 415 | T59: =SUM(T42:T58) -> 1530 | U59: =SUM(U42:U58) -> 1622 | V59: =SUM(Q59:U59) -> 3579 | W59: =SUM(W42:W58) -> 332 | X59: =SUM(X42:X58) -> 3247 | Y59: =SUM(Y42:Y58) -> 0 | Z59: =+G59+J59+V59 -> 31102
A60: Sinclar | B60: Bear Lake West | C60: 44 | D60: 805 | E60: 2236 | F60: 3023 | G60: =SUM(C60:F60) -> 6108 | H60: =C60+D60+E60+F60*0.5 -> 4596.5 | I60: =IF(G60<1,0,H60/G60) -> 0.75253766 | J60: 149 | K60: 138 | L60: =C60+D60+E60+F60+J60-K60 -> 6119 | M60: =G60+J60 -> 6257 | N60: 2017-23 | Q60: 0 | R60: 0 | S60: 0 | T60: 0 | U60: 0 | V60: =SUM(Q60:U60) -> 0 | W60: 0 | Z60: =+G60+J60+V60 -> 6257
B61: Carp | C61: 117 | D61: 17 | E61: 128 | F61: 169 | G61: =SUM(C61:F61) -> 431 | H61: =C61+D61+E61+F61*0.5 -> 346.5 | I61: =IF(G61<1,0,H61/G61) -> 0.80394432 | J61: 36 | K61: 5 | L61: =C61+D61+E61+F61+J61-K61 -> 462 | M61: =G61+J61 -> 467 | N61: 2017-23 | Q61: 0 | R61: 0 | S61: 0 | T61: 0 | U61: 0 | V61: =SUM(Q61:U61) -> 0 | W61: 0 | Z61: =+G61+J61+V61 -> 467
B62: Wichcika | C62: 0 | D62: 40 | E62: =254+24 -> 278 | F62: =1025+310 -> 1335 | G62: =SUM(C62:F62) -> 1653 | H62: =C62+D62+E62+F62*0.5 -> 985.5 | I62: =IF(G62<1,0,H62/G62) -> 0.59618875 | J62: =31+1 -> 32 | K62: 148 | L62: =C62+D62+E62+F62+J62-K62 -> 1537 | M62: =G62+J62 -> 1685 | N62: 2017-23 | P62: Legal | Q62: 0 | R62: 0 | S62: 7 | T62: 67 | U62: 0 | V62: =SUM(Q62:U62) -> 74 | W62: 8 | X62: =V62-W62 -> 66 | Y62: A14/A17 NDU Biodiversity; Road Access, practicality | Z62: =+G62+J62+V62 -> 1759
B63: Parsnip | C63: 0 | D63: =145+680 -> 825 | E63: =603+1725 -> 2328 | F63: =322+1919 -> 2241 | G63: =SUM(C63:F63) -> 5394 | H63: =C63+D63+E63+F63*0.5 -> 4273.5 | I63: =IF(G63<1,0,H63/G63) -> 0.79226919 | J63: =19+92 -> 111 | K63: 1286 | L63: =C63+D63+E63+F63+J63-K63 -> 4219 | M63: =G63+J63 -> 5505 | N63: 2017-21 | P63: Legal | Q63: 4 | R63: 431 | S63: 1389 | T63: 2926 | U63: 18 | V63: =SUM(Q63:U63) -> 4768 | W63: 2092 | X63: =V63-W63 -> 2676 | Y63: A14/A17 NDU Biodiversity; Road Access, practicality | Z63: =+G63+J63+V63 -> 10273
B64: Missinka Winton | C64: 0 | D64: =7+72 -> 79 | E64: =613+1068 -> 1681 | F64: =348+1025 -> 1373 | G64: =SUM(C64:F64) -> 3133 | H64: =C64+D64+E64+F64*0.5 -> 2446.5 | I64: =IF(G64<1,0,H64/G64) -> 0.78088094 | J64: =1+135 -> 136 | K64: 706 | L64: =C64+D64+E64+F64+J64-K64 -> 2563 | M64: =G64+J64 -> 3269 | N64: 2021-23 | P64: Legal | Q64: 0 | R64: 38 | S64: 125 | T64: 352 | U64: 6 | V64: =SUM(Q64:U64) -> 521 | W64: 205 | X64: =V64-W64 -> 316 | Y64: A14/A17 NDU Biodiversity; Road Access, practicality | Z64: =+G64+J64+V64 -> 3790
B65: Missinka Lakeland | C65: 0 | D65: 0 | E65: 66 | F65: 674 | G65: =SUM(C65:F65) -> 740 | H65: =C65+D65+E65+F65*0.5 -> 403 | I65: =IF(G65<1,0,H65/G65) -> 0.54459459 | J65: 44 | K65: 140 | L65: =C65+D65+E65+F65+J65-K65 -> 644 | M65: =G65+J65 -> 784 | N65: 2021-23 | Q65: 0 | R65: 0 | S65: 0 | T65: 0 | U65: 0 | V65: =SUM(Q65:U65) -> 0 | Z65: =+G65+J65+V65 -> 784
B66: Table | C66: 0 | D66: 0 | E66: =89+1617 -> 1706 | F66: =419+825 -> 1244 | G66: =SUM(C66:F66) -> 2950 | H66: =C66+D66+E66+F66*0.5 -> 2328 | I66: =IF(G66<1,0,H66/G66) -> 0.78915254 | J66: =18+135 -> 153 | K66: 460 | L66: =C66+D66+E66+F66+J66-K66 -> 2643 | M66: =G66+J66 -> 3103 | N66: 2021-23 | Q66: 0 | R66: 0 | S66: 0 | T66: 0 | U66: 0 | V66: =SUM(Q66:U66) -> 0 | Z66: =+G66+J66+V66 -> 3103
B67: Angusmac | C67: 0 | D67: 8 | E67: 0 | F67: 5 | G67: =SUM(C67:F67) -> 13 | H67: =C67+D67+E67+F67*0.5 -> 10.5 | I67: =IF(G67<1,0,H67/G67) -> 0.80769231 | J67: 54 | K67: 7 | L67: =C67+D67+E67+F67+J67-K67 -> 60 | M67: =G67+J67 -> 67 | N67: 2020 | Q67: 0 | R67: 0 | S67: 0 | T67: 0 | U67: 0 | V67: =SUM(Q67:U67) -> 0 | Z67: =+G67+J67+V67 -> 67
B68: Bill'S Creek | C68: 144 | D68: 339 | E68: 1054 | F68: 1007 | G68: =SUM(C68:F68) -> 2544 | H68: =C68+D68+E68+F68*0.5 -> 2040.5 | I68: =IF(G68<1,0,H68/G68) -> 0.80208333 | J68: 61 | K68: 86 | L68: =C68+D68+E68+F68+J68-K68 -> 2519 | M68: =G68+J68 -> 2605 | N68: 2016-23 | Q68: 0 | R68: 0 | S68: 0 | T68: 0 | U68: 0 | V68: =SUM(Q68:U68) -> 0 | Z68: =+G68+J68+V68 -> 2605
B69: Kerry | C69: 0 | D69: 0 | E69: 82 | F69: 169 | G69: =SUM(C69:F69) -> 251 | H69: =C69+D69+E69+F69*0.5 -> 166.5 | I69: =IF(G69<1,0,H69/G69) -> 0.66334661 | J69: 140 | K69: 2 | L69: =C69+D69+E69+F69+J69-K69 -> 389 | M69: =G69+J69 -> 391 | N69: 2020 | Q69: 0 | R69: 0 | S69: 0 | T69: 0 | U69: 0 | V69: =SUM(Q69:U69) -> 0 | Z69: =+G69+J69+V69 -> 391
B70: Goose | C70: 0 | D70: 0 | E70: 15 | F70: 102 | G70: =SUM(C70:F70) -> 117 | H70: =C70+D70+E70+F70*0.5 -> 66 | I70: =IF(G70<1,0,H70/G70) -> 0.56410256 | J70: 65 | K70: 0 | L70: =C70+D70+E70+F70+J70-K70 -> 182 | M70: =G70+J70 -> 182 | N70: 2020 | Q70: 0 | R70: 0 | S70: 0 | T70: 0 | U70: 0 | V70: =SUM(Q70:U70) -> 0 | Z70: =+G70+J70+V70 -> 182
B71: Tacheeda | C71: 59 | D71: 130 | E71: 126 | F71: 286 | G71: =SUM(C71:F71) -> 601 | H71: =C71+D71+E71+F71*0.5 -> 458 | I71: =IF(G71<1,0,H71/G71) -> 0.76206323 | J71: 52 | K71: 63 | L71: =C71+D71+E71+F71+J71-K71 -> 590 | M71: =G71+J71 -> 653 | N71: 2017-19 | Q71: 0 | R71: 0 | S71: 0 | T71: 0 | U71: 0 | V71: =SUM(Q71:U71) -> 0 | Z71: =+G71+J71+V71 -> 653
A72: Subtotal | B72: Sinclar PG District | C72: =SUM(C60:C71) -> 364 | D72: =SUM(D60:D71) -> 2243 | E72: =SUM(E60:E71) -> 9700 | F72: =SUM(F60:F71) -> 11628 | G72: =SUM(C72:F72) -> 23935 | H72: =C72+D72+E72+F72*0.5 -> 18121 | I72: =IF(G72<1,0,H72/G72) -> 0.75709212 | J72: =SUM(J60:J71) -> 1033 | K72: =SUM(K60:K71) -> 3041 | L72: =SUM(L60:L71) -> 21927 | M72: =G72+J72 -> 24968 | Q72: =SUM(Q60:Q71) -> 4 | R72: =SUM(R60:R71) -> 469 | S72: =SUM(S60:S71) -> 1521 | T72: =SUM(T60:T71) -> 3345 | U72: =SUM(U60:U71) -> 24 | V72: =SUM(Q72:U72) -> 5363 | W72: =SUM(W60:W71) -> 2305 | X72: =SUM(X60:X71) -> 3058 | Y72: =SUM(Y60:Y71) -> 0 | Z72: =+G72+J72+V72 -> 30331
A73: Total | B73: PG District | C73: =+C41+C59+C72 -> 423 | D73: =+D41+D59+D72 -> 3302 | E73: =+E41+E59+E72 -> 13988 | F73: =+F41+F59+F72 -> 32879 | G73: =+G41+G59+G72 -> 50592 | H73: =+H41+H59+H72 -> 34152.5 | I73: =IF(G73<1,0,H73/G73) -> 0.67505732 | J73: =+J41+J59+J72 -> 14232 | K73: =+K41+K59+K72 -> 8619 | L73: =+L41+L59+L72 -> 56208 | M73: =G73+J73 -> 64824 | Q73: =+Q41+Q59+Q72 -> 4 | R73: =+R41+R59+R72 -> 654 | S73: =+S41+S59+S72 -> 1938 | T73: =+T41+T59+T72 -> 4947 | U73: =+U41+U59+U72 -> 1863 | V73: =+V41+V59+V72 -> 9406 | W73: =+W41+W59+W72 -> 2822.6 | X73: =+X41+X59+X72 -> 6583.4 | Z73: =+G73+J73+V73 -> 74230
B74: Volume (m3; @275m3/ha) | C74: =C73*$AA$3 -> 116325 | D74: =D73*$AA$3 -> 908050 | E74: =E73*$AA$3 -> 3846700 | F74: =F73*$AA$3 -> 9041725 | G74: =G73*$AA$3 -> 13912800 | H74: =H73*$AA$3 -> 9391937.5
A75: Total | B75: Within Omineca Region | C75: =C28+C73 -> 2876.7891 | D75: =D28+D73 -> 4669.1657 | E75: =E28+E73 -> 23543.412 | F75: =F28+F73 -> 44489.589 | G75: =G28+G73 -> 75578.955 | H75: =H28+H73 -> 53334.161 | I75: =IF(G75<1,0,H75/G75) -> 0.70567476 | J75: =J28+J73 -> 28282.732 | K75: =K28+K73 -> 15095.091 | L75: =L28+L73 -> 88769.597 | M75: =G75+J75 -> 103861.69 | Q75: =Q28+Q73 -> 588.45889 | R75: =R28+R73 -> 797.29147 | S75: =S28+S73 -> 12849.176 | T75: =T28+T73 -> 10704.715 | U75: =U28+U73 -> 7460.7982 | V75: =V28+V73 -> 32400.439 | W75: =W28+W73 -> 13124.239 | X75: =X28+X73 -> 19276.2 | Z75: =+G75+J75+V75 -> 136262.13
B76: Volume (m3; @275m3/ha) | C76: =+C29+C74 -> 791117.01 | D76: =+D29+D74 -> 1284020.6 | E76: =+E29+E74 -> 6474438.3 | F76: =+F29+F74 -> 12234637 | G76: =+G29+G74 -> 20784213 | H76: =+H29+H74 -> 14666894

Sheet Licensee AAC Capacity
A1: ='IBS Action Plan 20170131'!A1 -> Spruce Beetle Action Plan - Omineca Region
A2: ='IBS Action Plan 20170131'!A2 -> 42766
A4: Licensee AAC Capacity compared with AOS - Estimated Area (ha) and Volume (m3) Summary
A6: Licensee AAC Capacity | H6: AOS - Estimated Harvest Area (ha) and Volume (m3) Summary
A7: Licensee | B7: Operating Area | D7: AAC (m3 per Year) | E7: AAC as Area (ha) @ 275m3/ha | F7: Area (ha) @ 7 Years | H7: Total Area AOS (ha) | I7: Estimated Average Area to Harvest (ha) (Sum VS,S,M +50%*L) | J7: Estimated Total Spruce Beetle Volume to Harvest (m3) @275m3/ha | K7: Spruce Beetle Area to Harvest (ha) Per Year (7 Years) | L7: Spruce Beetle Volume to Harvest (m3) Per Year (7 Years)
C9: Licence
A10: BCTS | B10: Mackenzie TSA | C10: Mackenzie | D10: 900000 | E10: =D10/275 -> 3272.7273 | F10: =E10*7 -> 22909.091 | H10: ='IBS Action Plan 20170131'!G13 -> 15996 | I10: ='IBS Action Plan 20170131'!H13 -> 11552 | J10: =I10*$J$29 -> 3176800 | K10: =L10/$J$29 -> 1650.2857 | L10: =J10/7 -> 453828.57
A11: Canfor | B11: Mackenzie TSA | C11: A15384 | D11: 1082904 | E11: =D11/275 -> 3937.8327 | F11: =E11*7 -> 27564.829 | H11: ='IBS Action Plan 20170131'!G23 -> 4262 | I11: ='IBS Action Plan 20170131'!H23 -> 3187.5 | J11: =I11*$J$29 -> 876562.5 | K11: =L11/$J$29 -> 455.35714 | L11: =J11/7 -> 125223.21
A12: Conifex | B12: Mackenzie TSA | C12: A15385 | D12: 899896 | E12: =D12/275 -> 3272.3491 | F12: =E12*7 -> 22906.444 | H12: ='IBS Action Plan 20170131'!G15 -> 8 | I12: ='IBS Action Plan 20170131'!H15 -> 4 | J12: =I12*$J$29 -> 1100 | K12: =L12/$J$29 -> 0.57142857 | L12: =J12/7 -> 157.14286
A13: Conifex | B13: Mackenzie TSA | C13: A93631 | D13: 300000 | E13: =D13/275 -> 1090.9091 | F13: =E13*7 -> 7636.3636 | H13: ='IBS Action Plan 20170131'!G16 -> 621 | I13: ='IBS Action Plan 20170131'!H16 -> 400.5 | J13: =I13*$J$29 -> 110137.5 | K13: =L13/$J$29 -> 57.214286 | L13: =J13/7 -> 15733.929
A14: Conifex | B14: Mackenzie TSA | C14: Mackenzie | D14: =+D12+D13 -> 1199896 | E14: =D14/275 -> 4363.2582 | F14: =E14*7 -> 30542.807 | H14: ='IBS Action Plan 20170131'!G27 -> 4728.9555 | I14: ='IBS Action Plan 20170131'!H27 -> 4442.1612 | J14: =I14*$J$29 -> 1221594.3 | K14: =L14/$J$29 -> 634.59445 | L14: =J14/7 -> 174513.47
A15: Subtotal | B15: Mackenzie TSA | D15: =+D10+D11+D14 -> 3182800 | E15: =E10+E11+E12+E13 -> 11573.818 | F15: =F10+F11+F12+F13 -> 81016.727 | H15: ='IBS Action Plan 20170131'!G28 -> 24986.955 | I15: ='IBS Action Plan 20170131'!H28 -> 19181.661 | J15: =I15*$J$29 -> 5274956.8 | K15: =L15/$J$29 -> 2740.2373 | L15: =J15/7 -> 753565.26
A16: BCTS | B16: PG District | C16: PG | D16: 693000 | E16: =D16/275 -> 2520 | F16: =E16*7 -> 17640 | H16: ='IBS Action Plan 20170131'!G41 -> 9689 | I16: ='IBS Action Plan 20170131'!H41 -> 5821 | J16: =I16*$J$29 -> 1600775 | K16: =L16/$J$29 -> 831.57143 | L16: =J16/7 -> 228682.14
A17: Canfor | B17: PG TSA | C17: A40873 | D17: 1597771 | E17: =D17/275 -> 5810.0764 | F17: =E17*7 -> 40670.535 | J17: =I17*$J$29 -> 0 | K17: =L17/$J$29 -> 0 | L17: =J17/7 -> 0
A18: Canfor | B18: PG TSA | C18: A18165 | D18: 1104858 | E18: =D18/275 -> 4017.6655 | F18: =E18*7 -> 28123.658 | J18: =I18*$J$29 -> 0 | K18: =L18/$J$29 -> 0 | L18: =J18/7 -> 0
A19: Canfor | B19: PG TSA | C19: A18157 | D19: 588223 | E19: =D19/275 -> 2138.9927 | F19: =E19*7 -> 14972.949 | J19: =I19*$J$29 -> 0 | K19: =L19/$J$29 -> 0 | L19: =J19/7 -> 0
A20: Canfor | B20: TFL30 | C20: TFL30 | D20: 389126 | E20: 1415 | F20: 9905
A21: Canfor | B21: PG TSA + TFL 30 | C21: PG | D21: =+D17+D18+D19+D20 -> 3679978 | E21: =+E17+E18+E19+E20 -> 13381.735 | F21: =+F17+F18+F19+F20 -> 93672.142 | H21: ='IBS Action Plan 20170131'!G59 -> 16968 | I21: ='IBS Action Plan 20170131'!H59 -> 10210.5 | J21: =I21*$J$29 -> 2807887.5 | K21: =L21/$J$29 -> 1458.6429 | L21: =J21/7 -> 401126.79
A22: Sinclar | B22: PG TSA | C22: A18163 | D22: 249827 | E22: =D22/275 -> 908.46182 | F22: =E22*7 -> 6359.2327 | J22: =I22*$J$29 -> 0 | K22: =L22/$J$29 -> 0 | L22: =J22/7 -> 0
A23: Sinclar | B23: PG TSA | C23: A18171 | D23: 505541 | E23: =D23/275 -> 1838.3309 | F23: =E23*7 -> 12868.316 | J23: =I23*$J$29 -> 0 | K23: =L23/$J$29 -> 0 | L23: =J23/7 -> 0
A24: Sinclar | B24: PG District | C24: PG | D24: =D22+D23 -> 755368 | E24: =E22+E23 -> 2746.7927 | F24: =F22+F23 -> 19227.549 | H24: ='IBS Action Plan 20170131'!G72 -> 23935 | I24: ='IBS Action Plan 20170131'!H72 -> 18121 | J24: =I24*$J$29 -> 4983275 | K24: =L24/$J$29 -> 2588.7143 | L24: =J24/7 -> 711896.43
A25: Subtotal | B25: PG TSA | C25: PG | D25: =+D16+D21+D24 -> 5128346 | E25: =+E16+E21+E24 -> 18648.527 | F25: =+F16+F21+F24 -> 130539.69 | H25: ='IBS Action Plan 20170131'!G73 -> 50592 | I25: ='IBS Action Plan 20170131'!H73 -> 34152.5 | J25: =I25*$J$29 -> 9391937.5 | K25: =L25/$J$29 -> 4878.9286 | L25: =J25/7 -> 1341705.4
A26: Total | B26: Omineca | D26: =+D15+D25 -> 8311146 | E26: =+E15+E25 -> 30222.345 | F26: =+F15+F25 -> 211556.42 | H26: ='IBS Action Plan 20170131'!G75 -> 75578.955 | I26: ='IBS Action Plan 20170131'!H75 -> 53334.161 | J26: =I26*$J$29 -> 14666894 | K26: =L26/$J$29 -> 7619.1659 | L26: =J26/7 -> 2095270.6
J29: 275

Sheet Constrained Slide
A1: Spruce Beetle Action Plan - Omineca Region
A2: 42766
A3: Constrained Areas Summary (ha)
A4: Merged 2014-2016 Aerial Overview Survey (AOS) Information | O4: Constrained | Y4: Total
A5: Licensee Operating Area | B5: Licensee by Timber Supply Area | C5: SEVERITY | G5: Total | H5: Estimated | I5: Weighted | J5: Monitor | K5: Steep Slope | L5: Conventional | M5: Proposed | O5: Reason for Constraint | P5: SEVERITY | U5: Total Constrained - All severity | X5: Rationale | Y5: Proposed Action
C6: VS | D6: S | E6: M | F6: L | G6: Area | H6: Average | I6: Average | J6: Trap Tree/Trace | K6: Area (ha) | L6: Area (ha) | M6: Action | P6: VS | Q6: S | R6: M | S6: L | T6: T | U6: Total | V6: Cable | W6: Conventional | X6: NDU, Road, Other | Y6: +
C7: Hectares | D7: Hectares | E7: Hectares | F7: Hectares | G7: AOS (ha) | H7: Area to Harvest (ha) | I7: % | J7: (ha) | K7: All severity | L7: All severity | M7: Year | P7: Hectares | Q7: Hectares | R7: Hectares | S7: Hectares | T7: Hectares | U7: Hectares | V7: Area | W7: Area | Y7: Constrained
C8: 50-100% | D8: 30-49% | E8: 11-29% | F8: 1-10% | J8: 0-1% | V8: Hectares | W8: Hectares
A9: BCTS MK | B9: ='IBS Action Plan 20170131'!B9 -> Klawli / Gillis | C9: ='IBS Action Plan 20170131'!C9 -> 0 | D9: ='IBS Action Plan 20170131'!D9 -> 0 | E9: ='IBS Action Plan 20170131'!E9 -> 588 | F9: ='IBS Action Plan 20170131'!F9 -> 1346 | G9: ='IBS Action Plan 20170131'!G9 -> 1934 | H9: ='IBS Action Plan 20170131'!H9 -> 1261 | I9: ='IBS Action Plan 20170131'!I9 -> 0.65201655 | ... L9: ='IBS Action Plan 20170131'!L9 -> 7638 | M9: ='IBS Action Plan 20170131'!N9 -> 2020 - 22 | O9: ='IBS Action Plan 20170131'!P9 -> Economic | P9: ='IBS Action Plan 20170131'!Q9 -> 0 | Q9: ='IBS Action Plan 20170131'!R9 -> 0 | R9: ='IBS Action Plan 20170131'!S9 -> 0 | S9: ='IBS Action Plan 20170131'!T9 -> 0 | T9: ='IBS Action Plan 20170131'!U9 -> 425 | U9: ='IBS Action Plan 20170131'!V9 -> 425 | V9: ='IBS Action Plan 20170131'!W9 -> 170 | ... X9: ='IBS Action Plan 20170131'!Y9 -> Other | Y9: =+G9+J9+U9 -> 8063
B10: Parsnip / Clearwater / Pardonet | C10: ='IBS Action Plan 20170131'!C10 -> 0 | D10: ='IBS Action Plan 20170131'!D10 -> 0 | E10: ='IBS Action Plan 20170131'!E10 -> 748 | F10: ='IBS Action Plan 20170131'!F10 -> 1530 | G10: ='IBS Action Plan 20170131'!G10 -> 2278 | H10: ='IBS Action Plan 20170131'!H10 -> 1513 | I10: ='IBS Action Plan 20170131'!I10 -> 0.6641791 | J10: ='IBS Action Plan 20170131'!J10 -> 236 | ... L10: ='IBS Action Plan 20170131'!L10 -> 1509 | M10: ='IBS Action Plan 20170131'!N10 -> 2017 - 2020 | O10: ='IBS Action Plan 20170131'!P10 -> Economic | P10: ='IBS Action Plan 20170131'!Q10 -> 0 | Q10: ='IBS Action Plan 20170131'!R10 -> 0 | R10: ='IBS Action Plan 20170131'!S10 -> 437 | S10: ='IBS Action Plan 20170131'!T10 -> 3554 | T10: ='IBS Action Plan 20170131'!U10 -> 4713 | U10: ='IBS Action Plan 20170131'!V10 -> 8704 | V10: ='IBS Action Plan 20170131'!W10 -> 3481.6 | ... X10: ='IBS Action Plan 20170131'!Y10 -> Roads, other | Y10: =+G10+J10+U10 -> 11218
B11: Phillip / Blackwater / Hwy97 | C11: ='IBS Action Plan 20170131'!C11 -> 0 | D11: ='IBS Action Plan 20170131'!D11 -> 711 | E11: ='IBS Action Plan 20170131'!E11 -> 5061 | F11: ='IBS Action Plan 20170131'!F11 -> 3285 | G11: ='IBS Action Plan 20170131'!G11 -> 9057 | H11: ='IBS Action Plan 20170131'!H11 -> 7414.5 | I11: ='IBS Action Plan 20170131'!I11 -> 0.81864856 | J11: ='IBS Action Plan 20170131'!J11 -> 433 | ... L11: ='IBS Action Plan 20170131'!L11 -> 5694 | M11: ='IBS Action Plan 20170131'!N11 -> 2017 - 2021 | O11: ='IBS Action Plan 20170131'!P11 -> Economic | P11: ='IBS Action Plan 20170131'!Q11 -> 0 | Q11: ='IBS Action Plan 20170131'!R11 -> 0 | R11: ='IBS Action Plan 20170131'!S11 -> 9563 | S11: ='IBS Action Plan 20170131'!T11 -> 2026 | T11: ='IBS Action Plan 20170131'!U11 -> 55 | U11: ='IBS Action Plan 20170131'!V11 -> 11644 | V11: ='IBS Action Plan 20170131'!W11 -> 4657.6 | ... X11: ='IBS Action Plan 20170131'!Y11 -> Roads, other | Y11: =+G11+J11+U11 -> 21134
B12: Agreements | C12: ='IBS Action Plan 20170131'!C12 -> 0 | D12: ='IBS Action Plan 20170131'!D12 -> 0 | E12: ='IBS Action Plan 20170131'!E12 -> 0 | F12: ='IBS Action Plan 20170131'!F12 -> 2727 | G12: ='IBS Action Plan 20170131'!G12 -> 2727 | H12: ='IBS Action Plan 20170131'!H12 -> 1363.5 | I12: ='IBS Action Plan 20170131'!I12 -> 0.5 | J12: ='IBS Action Plan 20170131'!J12 -> 2205 | ... L12: ='IBS Action Plan 20170131'!L12 -> 4932 | M12: ='IBS Action Plan 20170131'!N12 -> 2017 - 2022 | O12: ='IBS Action Plan 20170131'!P12 -> - | P12: ='IBS Action Plan 20170131'!Q12 -> 0 | Q12: ='IBS Action Plan 20170131'!R12 -> 0 | R12: ='IBS Action Plan 20170131'!S12 -> 0 | S12: ='IBS Action Plan 20170131'!T12 -> 0 | T12: ='IBS Action Plan 20170131'!U12 -> 0 | U12: ='IBS Action Plan 20170131'!V12 -> 0 | V12: ='IBS Action Plan 20170131'!W12 -> 0 | ... X12: ='IBS Action Plan 20170131'!Y12 -> 0 | Y12: =+G12+J12+U12 -> 4932
A13: Subtotal | B13: BCTS MK TSA | C13: ='IBS Action Plan 20170131'!C13 -> 0 | D13: ='IBS Action Plan 20170131'!D13 -> 711 | E13: ='IBS Action Plan 20170131'!E13 -> 6397 | F13: ='IBS Action Plan 20170131'!F13 -> 8888 | G13: ='IBS Action Plan 20170131'!G13 -> 15996 | H13: ='IBS Action Plan 20170131'!H13 -> 11552 | I13: ='IBS Action Plan 20170131'!I13 -> 0.72218055 | J13: ='IBS Action Plan 20170131'!J13 -> 8578 | ... L13: ='IBS Action Plan 20170131'!L13 -> 19773 | M13: ='IBS Action Plan 20170131'!N13 -> - | O13: ='IBS Action Plan 20170131'!P13 -> - | P13: ='IBS Action Plan 20170131'!Q13 -> 0 | Q13: ='IBS Action Plan 20170131'!R13 -> 0 | R13: ='IBS Action Plan 20170131'!S13 -> 10000 | S13: ='IBS Action Plan 20170131'!T13 -> 5580 | T13: ='IBS Action Plan 20170131'!U13 -> 5193 | U13: ='IBS Action Plan 20170131'!V13 -> 20773 | V13: ='IBS Action Plan 20170131'!W13 -> 8309.2 | ... X13: ='IBS Action Plan 20170131'!Y13 -> 0 | Y13: =+G13+J13+U13 -> 45347
A14: Canfor MK | B14: DMK - Burden | C14: ='IBS Action Plan 20170131'!C14 -> 782 | D14: ='IBS Action Plan 20170131'!D14 -> 404 | E14: ='IBS Action Plan 20170131'!E14 -> 546 | F14: ='IBS Action Plan 20170131'!F14 -> 991 | G14: ='IBS Action Plan 20170131'!G14 -> 2723 | H14: ='IBS Action Plan 20170131'!H14 -> 2227.5 | I14: ='IBS Action Plan 20170131'!I14 -> 0.81803158 | J14: ='IBS Action Plan 20170131'!J14 -> 297 | ... L14: ='IBS Action Plan 20170131'!L14 -> 2814 | M14: ='IBS Action Plan 20170131'!N14 -> 2017-2019 | O14: ='IBS Action Plan 20170131'!P14 -> Legal | P14: ='IBS Action Plan 20170131'!Q14 -> 0 | Q14: ='IBS Action Plan 20170131'!R14 -> 0 | R14: ='IBS Action Plan 20170131'!S14 -> 11 | S14: ='IBS Action Plan 20170131'!T14 -> 20 | T14: ='IBS Action Plan 20170131'!U14 -> 10 | U14: ='IBS Action Plan 20170131'!V14 -> 41 | V14: ='IBS Action Plan 20170131'!W14 -> 3 | ... X14: ='IBS Action Plan 20170131'!Y14 -> Fieldwork indicates that the Burden beetle areas are inflated, possibly due to inclusion of 2015 polygons that weren't picked up in 2016 AOS | Y14: =+G14+J14+U14 -> 3061
B15: DMK - Chunamon | C15: ='IBS Action Plan 20170131'!C15 -> 0 | D15: ='IBS Action Plan 20170131'!D15 -> 0 | E15: ='IBS Action Plan 20170131'!E15 -> 0 | F15: ='IBS Action Plan 20170131'!F15 -> 8 | G15: ='IBS Action Plan 20170131'!G15 -> 8 | H15: ='IBS Action Plan 20170131'!H15 -> 4 | I15: ='IBS Action Plan 20170131'!I15 -> 0.5 | J15: ='IBS Action Plan 20170131'!J15 -> 382 | ... L15: ='IBS Action Plan 20170131'!L15 -> 372 | M15: ='IBS Action Plan 20170131'!N15 -> 2018-2020 | O15: ='IBS Action Plan 20170131'!P15 -> 0 | P15: ='IBS Action Plan 20170131'!Q15 -> 0 | Q15: ='IBS Action Plan 20170131'!R15 -> 0 | R15: ='IBS Action Plan 20170131'!S15 -> 0 | S15: ='IBS Action Plan 20170131'!T15 -> 0 | T15: ='IBS Action Plan 20170131'!U15 -> 0 | U15: ='IBS Action Plan 20170131'!V15 -> 0 | V15: ='IBS Action Plan 20170131'!W15 -> 0 | ... X15: ='IBS Action Plan 20170131'!Y15 -> 0 | Y15: =+G15+J15+U15 -> 390
B16: DMK - Eklund | C16: ='IBS Action Plan 20170131'!C16 -> 95 | D16: ='IBS Action Plan 20170131'!D16 -> 71 | E16: ='IBS Action Plan 20170131'!E16 -> 14 | F16: ='IBS Action Plan 20170131'!F16 -> 441 | G16: ='IBS Action Plan 20170131'!G16 -> 621 | H16: ='IBS Action Plan 20170131'!H16 -> 400.5 | I16: ='IBS Action Plan 20170131'!I16 -> 0.64492754 | J16: ='IBS Action Plan 20170131'!J16 -> 1239 | ... L16: ='IBS Action Plan 20170131'!L16 -> 1665 | M16: ='IBS Action Plan 20170131'!N16 -> 2017-2019 | O16: ='IBS Action Plan 20170131'!P16 -> Legal | P16: ='IBS Action Plan 20170131'!Q16 -> 0 | Q16: ='IBS Action Plan 20170131'!R16 -> 0 | R16: ='IBS Action Plan 20170131'!S16 -> 6 | S16: ='IBS Action Plan 20170131'!T16 -> 0 | T16: ='IBS Action Plan 20170131'!U16 -> 42 | U16: ='IBS Action Plan 20170131'!V16 -> 48 | V16: ='IBS Action Plan 20170131'!W16 -> 0 | ... X16: ='IBS Action Plan 20170131'!Y16 -> Recreation Site; isolated; access | Y16: =+G16+J16+U16 -> 1908
B17: DMK - Holder | C17: ='IBS Action Plan 20170131'!C17 -> 3 | D17: ='IBS Action Plan 20170131'!D17 -> 0 | E17: ='IBS Action Plan 20170131'!E17 -> 4 | F17: ='IBS Action Plan 20170131'!F17 -> 24 | G17: ='IBS Action Plan 20170131'!G17 -> 31 | H17: ='IBS Action Plan 20170131'!H17 -> 19 | I17: ='IBS Action Plan 20170131'!I17 -> 0.61290323 | J17: ='IBS Action Plan 20170131'!J17 -> 160 | ... L17: ='IBS Action Plan 20170131'!L17 -> 186 | M17: ='IBS Action Plan 20170131'!N17 -> 2017-2020 | O17: ='IBS Action Plan 20170131'!P17 -> Economic | P17: ='IBS Action Plan 20170131'!Q17 -> 0 | Q17: ='IBS Action Plan 20170131'!R17 -> 0 | R17: ='IBS Action Plan 20170131'!S17 -> 0 | S17: ='IBS Action Plan 20170131'!T17 -> 0 | T17: ='IBS Action Plan 20170131'!U17 -> 5 | U17: ='IBS Action Plan 20170131'!V17 -> 5 | V17: ='IBS Action Plan 20170131'!W17 -> 0 | ... X17: ='IBS Action Plan 20170131'!Y17 -> Access; isolated | Y17: =+G17+J17+U17 -> 196
B18: DMK - Manson | C18: ='IBS Action Plan 20170131'!C18 -> 0 | D18: ='IBS Action Plan 20170131'!D18 -> 10 | E18: ='IBS Action Plan 20170131'!E18 -> 25 | F18: ='IBS Action Plan 20170131'!F18 -> 0 | G18: ='IBS Action Plan 20170131'!G18 -> 35 | H18: ='IBS Action Plan 20170131'!H18 -> 35 | I18: ='IBS Action Plan 20170131'!I18 -> 1 | J18: ='IBS Action Plan 20170131'!J18 -> 612 | ... L18: ='IBS Action Plan 20170131'!L18 -> 547 | M18: ='IBS Action Plan 20170131'!N18 -> 2017-2019 | O18: ='IBS Action Plan 20170131'!P18 -> 0 | P18: ='IBS Action Plan 20170131'!Q18 -> 0 | Q18: ='IBS Action Plan 20170131'!R18 -> 0 | R18: ='IBS Action Plan 20170131'!S18 -> 0 | S18: ='IBS Action Plan 20170131'!T18 -> 0 | T18: ='IBS Action Plan 20170131'!U18 -> 0 | U18: ='IBS Action Plan 20170131'!V18 -> 0 | V18: ='IBS Action Plan 20170131'!W18 -> 0 | ... X18: ='IBS Action Plan 20170131'!Y18 -> 0 | Y18: =+G18+J18+U18 -> 647
B19: DMK - Nation | C19: ='IBS Action Plan 20170131'!C19 -> 0 | D19: ='IBS Action Plan 20170131'!D19 -> 0 | E19: ='IBS Action Plan 20170131'!E19 -> 143 | F19: ='IBS Action Plan 20170131'!F19 -> 208 | G19: ='IBS Action Plan 20170131'!G19 -> 351 | H19: ='IBS Action Plan 20170131'!H19 -> 247 | I19: ='IBS Action Plan 20170131'!I19 -> 0.7037037 | J19: ='IBS Action Plan 20170131'!J19 -> 197 | ... L19: ='IBS Action Plan 20170131'!L19 -> 503 | M19: ='IBS Action Plan 20170131'!N19 -> 2017-2019 | O19: ='IBS Action Plan 20170131'!P19 -> 0 | P19: ='IBS Action Plan 20170131'!Q19 -> 0 | Q19: ='IBS Action Plan 20170131'!R19 -> 0 | R19: ='IBS Action Plan 20170131'!S19 -> 0 | S19: ='IBS Action Plan 20170131'!T19 -> 0 | T19: ='IBS Action Plan 20170131'!U19 -> 0 | U19: ='IBS Action Plan 20170131'!V19 -> 0 | V19: ='IBS Action Plan 20170131'!W19 -> 0 | ... X19: ='IBS Action Plan 20170131'!Y19 -> 0 | Y19: =+G19+J19+U19 -> 548
B20: DMK - Ospika | C20: ='IBS Action Plan 20170131'!C20 -> 0 | D20: ='IBS Action Plan 20170131'!D20 -> 0 | E20: ='IBS Action Plan 20170131'!E20 -> 0 | F20: ='IBS Action Plan 20170131'!F20 -> 0 | G20: ='IBS Action Plan 20170131'!G20 -> 0 | H20: ='IBS Action Plan 20170131'!H20 -> 0 | I20: ='IBS Action Plan 20170131'!I20 -> 0 | J20: ='IBS Action Plan 20170131'!J20 -> 383 | ... L20: ='IBS Action Plan 20170131'!L20 -> 193 | M20: ='IBS Action Plan 20170131'!N20 -> 2019-2022 | O20: ='IBS Action Plan 20170131'!P20 -> Economic | P20: ='IBS Action Plan 20170131'!Q20 -> 0 | Q20: ='IBS Action Plan 20170131'!R20 -> 0 | R20: ='IBS Action Plan 20170131'!S20 -> 0 | S20: ='IBS Action Plan 20170131'!T20 -> 0 | T20: ='IBS Action Plan 20170131'!U20 -> 207 | U20: ='IBS Action Plan 20170131'!V20 -> 207 | V20: ='IBS Action Plan 20170131'!W20 -> 69 | ... X20: ='IBS Action Plan 20170131'!Y20 -> Roads, isolated, practicality | Y20: =+G20+J20+U20 -> 590
B21: DMK - Philip Creek | C21: ='IBS Action Plan 20170131'!C21 -> 0 | D21: ='IBS Action Plan 20170131'!D21 -> 0 | E21: ='IBS Action Plan 20170131'!E21 -> 0 | F21: ='IBS Action Plan 20170131'!F21 -> 184 | G21: ='IBS Action Plan 20170131'!G21 -> 184 | H21: ='IBS Action Plan 20170131'!H21 -> 92 | I21: ='IBS Action Plan 20170131'!I21 -> 0.5 | J21: ='IBS Action Plan 20170131'!J21 -> 900 | ... L21: ='IBS Action Plan 20170131'!L21 -> 1046 | M21: ='IBS Action Plan 20170131'!N21 -> 2017-2019 | O21: ='IBS Action Plan 20170131'!P21 -> 0 | P21: ='IBS Action Plan 20170131'!Q21 -> 0 | Q21: ='IBS Action Plan 20170131'!R21 -> 0 | R21: ='IBS Action Plan 20170131'!S21 -> 0 | S21: ='IBS Action Plan 20170131'!T21 -> 0 | T21: ='IBS Action Plan 20170131'!U21 -> 0 | U21: ='IBS Action Plan 20170131'!V21 -> 0 | V21: ='IBS Action Plan 20170131'!W21 -> 0 | ... X21: ='IBS Action Plan 20170131'!Y21 -> 0 | Y21: =+G21+J21+U21 -> 1084
B22: DMK - Rupert | C22: ='IBS Action Plan 20170131'!C22 -> 0 | D22: ='IBS Action Plan 20170131'!D22 -> 8 | E22: ='IBS Action Plan 20170131'!E22 -> 8 | F22: ='IBS Action Plan 20170131'!F22 -> 293 | G22: ='IBS Action Plan 20170131'!G22 -> 309 | H22: ='IBS Action Plan 20170131'!H22 -> 162.5 | I22: ='IBS Action Plan 20170131'!I22 -> 0.52588997 | J22: ='IBS Action Plan 20170131'!J22 -> 226 | ... L22: ='IBS Action Plan 20170131'!L22 -> 495 | M22: ='IBS Action Plan 20170131'!N22 -> 2018-2020 | O22: ='IBS Action Plan 20170131'!P22 -> 0 | P22: ='IBS Action Plan 20170131'!Q22 -> 0 | Q22: ='IBS Action Plan 20170131'!R22 -> 0 | R22: ='IBS Action Plan 20170131'!S22 -> 0 | S22: ='IBS Action Plan 20170131'!T22 -> 0 | T22: ='IBS Action Plan 20170131'!U22 -> 0 | U22: ='IBS Action Plan 20170131'!V22 -> 0 | V22: ='IBS Action Plan 20170131'!W22 -> 0 | ... X22: ='IBS Action Plan 20170131'!Y22 -> 0 | Y22: =+G22+J22+U22 -> 535
A23: Subtotal | B23: Canfor MK TSA | C23: ='IBS Action Plan 20170131'!C23 -> 880 | D23: ='IBS Action Plan 20170131'!D23 -> 493 | E23: ='IBS Action Plan 20170131'!E23 -> 740 | F23: ='IBS Action Plan 20170131'!F23 -> 2149 | G23: ='IBS Action Plan 20170131'!G23 -> 4262 | H23: ='IBS Action Plan 20170131'!H23 -> 3187.5 | I23: ='IBS Action Plan 20170131'!I23 -> 0.74788832 | J23: ='IBS Action Plan 20170131'!J23 -> 4396 | ... L23: ='IBS Action Plan 20170131'!L23 -> 7821 | M23: ='IBS Action Plan 20170131'!N23 -> 0 | O23: ='IBS Action Plan 20170131'!P23 -> 0 | P23: ='IBS Action Plan 20170131'!Q23 -> 0 | Q23: ='IBS Action Plan 20170131'!R23 -> 0 | R23: ='IBS Action Plan 20170131'!S23 -> 17 | S23: ='IBS Action Plan 20170131'!T23 -> 20 | T23: ='IBS Action Plan 20170131'!U23 -> 264 | U23: ='IBS Action Plan 20170131'!V23 -> 301 | V23: ='IBS Action Plan 20170131'!W23 -> 72 | ... X23: ='IBS Action Plan 20170131'!Y23 -> 0 | Y23: =+G23+J23+U23 -> 8959
A24: Conifex | B24: Parsnip | C24: ='IBS Action Plan 20170131'!C24 -> 1573.7891 | D24: ='IBS Action Plan 20170131'!D24 -> 163.1657 | E24: ='IBS Action Plan 20170131'!E24 -> 2418.412 | F24: ='IBS Action Plan 20170131'!F24 -> 565.98814 | G24: ='IBS Action Plan 20170131'!G24 -> 4721.355 | H24: ='IBS Action Plan 20170131'!H24 -> 4438.3609 | I24: ='IBS Action Plan 20170131'!I24 -> 0.94006084 | J24: ='IBS Action Plan 20170131'!J24 -> 343.88704 | ... L24: ='IBS Action Plan 20170131'!L24 -> 4253.27 | M24: ='IBS Action Plan 20170131'!N24 -> 2016-2020 | O24: ='IBS Action Plan 20170131'!P24 -> Economic | P24: ='IBS Action Plan 20170131'!Q24 -> 497.58506 | Q24: ='IBS Action Plan 20170131'!R24 -> 143.29147 | R24: ='IBS Action Plan 20170131'!S24 -> 862.97543 | S24: ='IBS Action Plan 20170131'!T24 -> 157.71463 | T24: ='IBS Action Plan 20170131'!U24 -> 85.922109 | U24: ='IBS Action Plan 20170131'!V24 -> 1747.4887 | V24: ='IBS Action Plan 20170131'!W24 -> 1747.4887 | ... X24: ='IBS Action Plan 20170131'!Y24 -> Road Access, practicality | Y24: =+G24+J24+U24 -> 6812.7307
B25: Chunamon | C25: ='IBS Action Plan 20170131'!C25 -> 0 | D25: ='IBS Action Plan 20170131'!D25 -> 0 | E25: ='IBS Action Plan 20170131'!E25 -> 0 | F25: ='IBS Action Plan 20170131'!F25 -> 7.60052 | G25: ='IBS Action Plan 20170131'!G25 -> 7.60052 | H25: ='IBS Action Plan 20170131'!H25 -> 3.80026 | I25: ='IBS Action Plan 20170131'!I25 -> 0.5 | J25: ='IBS Action Plan 20170131'!J25 -> 668.43456 | ... L25: ='IBS Action Plan 20170131'!L25 -> 650.04986 | M25: ='IBS Action Plan 20170131'!N25 -> 2017-2018 | O25: ='IBS Action Plan 20170131'!P25 -> Economic | P25: ='IBS Action Plan 20170131'!Q25 -> 0 | Q25: ='IBS Action Plan 20170131'!R25 -> 0 | R25: ='IBS Action Plan 20170131'!S25 -> 0 | S25: ='IBS Action Plan 20170131'!T25 -> 0 | T25: ='IBS Action Plan 20170131'!U25 -> 43.571154 | U25: ='IBS Action Plan 20170131'!V25 -> 43.571154 | V25: ='IBS Action Plan 20170131'!W25 -> 43.571154 | ... X25: ='IBS Action Plan 20170131'!Y25 -> Road Access, practicality | Y25: =+G25+J25+U25 -> 719.60623
B26: Morfee | C26: ='IBS Action Plan 20170131'!C26 -> 0 | D26: ='IBS Action Plan 20170131'!D26 -> 0 | E26: ='IBS Action Plan 20170131'!E26 -> 0 | F26: ='IBS Action Plan 20170131'!F26 -> 0 | G26: ='IBS Action Plan 20170131'!G26 -> 0 | H26: ='IBS Action Plan 20170131'!H26 -> 0 | I26: ='IBS Action Plan 20170131'!I26 -> 0 | J26: ='IBS Action Plan 20170131'!J26 -> 64.410451 | ... L26: ='IBS Action Plan 20170131'!L26 -> 64.27701 | M26: ='IBS Action Plan 20170131'!N26 -> 2017 | O26: ='IBS Action Plan 20170131'!P26 -> Economic | P26: ='IBS Action Plan 20170131'!Q26 -> 86.87382 | Q26: ='IBS Action Plan 20170131'!R26 -> 0 | R26: ='IBS Action Plan 20170131'!S26 -> 31.200416 | S26: ='IBS Action Plan 20170131'!T26 -> 0 | T26: ='IBS Action Plan 20170131'!U26 -> 11.304932 | U26: ='IBS Action Plan 20170131'!V26 -> 129.37917 | V26: ='IBS Action Plan 20170131'!W26 -> 129.37917 | ... X26: ='IBS Action Plan 20170131'!Y26 -> Road Access, practicality | Y26: =+G26+J26+U26 -> 193.78962
A27: Subtotal | B27: Conifex MK TSA | C27: ='IBS Action Plan 20170131'!C27 -> 1573.7891 | D27: ='IBS Action Plan 20170131'!D27 -> 163.1657 | E27: ='IBS Action Plan 20170131'!E27 -> 2418.412 | F27: ='IBS Action Plan 20170131'!F27 -> 573.58866 | G27: ='IBS Action Plan 20170131'!G27 -> 4728.9555 | H27: ='IBS Action Plan 20170131'!H27 -> 4442.1612 | I27: ='IBS Action Plan 20170131'!I27 -> 0.93935356 | J27: ='IBS Action Plan 20170131'!J27 -> 1076.7321 | ... L27: ='IBS Action Plan 20170131'!L27 -> 4967.5968 | M27: ='IBS Action Plan 20170131'!N27 -> 0 | O27: ='IBS Action Plan 20170131'!P27 -> 0 | P27: ='IBS Action Plan 20170131'!Q27 -> 584.45889 | Q27: ='IBS Action Plan 20170131'!R27 -> 143.29147 | R27: ='IBS Action Plan 20170131'!S27 -> 894.17585 | S27: ='IBS Action Plan 20170131'!T27 -> 157.71463 | T27: ='IBS Action Plan 20170131'!U27 -> 140.7982 | U27: ='IBS Action Plan 20170131'!V27 -> 1920.439 | V27: ='IBS Action Plan 20170131'!W27 -> 1920.439 | ... X27: ='IBS Action Plan 20170131'!Y27 -> 0 | Y27: =+G27+J27+U27 -> 7726.1266
A28: Total | B28: MK TSA | C28: ='IBS Action Plan 20170131'!C28 -> 2453.7891 | D28: ='IBS Action Plan 20170131'!D28 -> 1367.1657 | E28: ='IBS Action Plan 20170131'!E28 -> 9555.412 | F28: ='IBS Action Plan 20170131'!F28 -> 11610.589 | G28: ='IBS Action Plan 20170131'!G28 -> 24986.955 | H28: ='IBS Action Plan 20170131'!H28 -> 19181.661 | I28: ='IBS Action Plan 20170131'!I28 -> 0.767667 | J28: ='IBS Action Plan 20170131'!J28 -> 14050.732 | ... L28: ='IBS Action Plan 20170131'!L28 -> 32561.597 | M28: ='IBS Action Plan 20170131'!N28 -> 0 | O28: ='IBS Action Plan 20170131'!P28 -> 0 | P28: ='IBS Action Plan 20170131'!Q28 -> 584.45889 | Q28: ='IBS Action Plan 20170131'!R28 -> 143.29147 | R28: ='IBS Action Plan 20170131'!S28 -> 10911.176 | S28: ='IBS Action Plan 20170131'!T28 -> 5757.7146 | T28: ='IBS Action Plan 20170131'!U28 -> 5597.7982 | U28: ='IBS Action Plan 20170131'!V28 -> 22994.439 | V28: ='IBS Action Plan 20170131'!W28 -> 10301.639 | ... X28: ='IBS Action Plan 20170131'!Y28 -> 0 | Y28: =+G28+J28+U28 -> 62032.127
B29: Volume (m3; @275m3/ha) | C29: ='IBS Action Plan 20170131'!C29 -> 674792.01 | D29: ='IBS Action Plan 20170131'!D29 -> 375970.57 | E29: ='IBS Action Plan 20170131'!E29 -> 2627738.3 | F29: ='IBS Action Plan 20170131'!F29 -> 3192911.9 | G29: ='IBS Action Plan 20170131'!G29 -> 6871412.8 | H29: ='IBS Action Plan 20170131'!H29 -> 5274956.8 | I29: ='IBS Action Plan 20170131'!I29 -> 0 | J29: ='IBS Action Plan 20170131'!J29 -> 0 | ... L29: ='IBS Action Plan 20170131'!L29 -> 0 | M29: ='IBS Action Plan 20170131'!N29 -> 0 | O29: ='IBS Action Plan 20170131'!P29 -> 0 | P29: ='IBS Action Plan 20170131'!Q29 -> 0 | Q29: ='IBS Action Plan 20170131'!R29 -> 0 | R29: ='IBS Action Plan 20170131'!S29 -> 0 | S29: ='IBS Action Plan 20170131'!T29 -> 0 | T29: ='IBS Action Plan 20170131'!U29 -> 0 | U29: ='IBS Action Plan 20170131'!V29 -> 0 | V29: ='IBS Action Plan 20170131'!W29 -> 0 | ... X29: ='IBS Action Plan 20170131'!Y29 -> 0 | Y29: =+G29+J29+U29 -> 6871412.8
A30: BCTS PG | B30: Angusmac | C30: ='IBS Action Plan 20170131'!C30 -> 0 | D30: ='IBS Action Plan 20170131'!D30 -> 27 | E30: ='IBS Action Plan 20170131'!E30 -> 0 | F30: ='IBS Action Plan 20170131'!F30 -> 43 | G30: ='IBS Action Plan 20170131'!G30 -> 70 | H30: ='IBS Action Plan 20170131'!H30 -> 48.5 | I30: ='IBS Action Plan 20170131'!I30 -> 0.69285714 | J30: ='IBS Action Plan 20170131'!J30 -> 94 | ... L30: ='IBS Action Plan 20170131'!L30 -> 163 | M30: ='IBS Action Plan 20170131'!N30 -> 2018 - 19 | O30: ='IBS Action Plan 20170131'!P30 -> 0 | P30: ='IBS Action Plan 20170131'!Q30 -> 0 | Q30: ='IBS Action Plan 20170131'!R30 -> 0 | R30: ='IBS Action Plan 20170131'!S30 -> 0 | S30: ='IBS Action Plan 20170131'!T30 -> 0 | T30: ='IBS Action Plan 20170131'!U30 -> 0 | U30: ='IBS Action Plan 20170131'!V30 -> 0 | V30: ='IBS Action Plan 20170131'!W30 -> 0 | ... X30: ='IBS Action Plan 20170131'!Y30 -> 0 | Y30: =+G30+J30+U30 -> 164
B31: Chuchinka | C31: ='IBS Action Plan 20170131'!C31 -> 0 | D31: ='IBS Action Plan 20170131'!D31 -> 0 | E31: ='IBS Action Plan 20170131'!E31 -> 0 | F31: ='IBS Action Plan 20170131'!F31 -> 55 | G31: ='IBS Action Plan 20170131'!G31 -> 55 | H31: ='IBS Action Plan 20170131'!H31 -> 27.5 | I31: ='IBS Action Plan 20170131'!I31 -> 0.5 | J31: ='IBS Action Plan 20170131'!J31 -> 34 | ... L31: ='IBS Action Plan 20170131'!L31 -> 89 | M31: ='IBS Action Plan 20170131'!N31 -> 2019 - 20 | O31: ='IBS Action Plan 20170131'!P31 -> 0 | P31: ='IBS Action Plan 20170131'!Q31 -> 0 | Q31: ='IBS Action Plan 20170131'!R31 -> 0 | R31: ='IBS Action Plan 20170131'!S31 -> 0 | S31: ='IBS Action Plan 20170131'!T31 -> 0 | T31: ='IBS Action Plan 20170131'!U31 -> 0 | U31: ='IBS Action Plan 20170131'!V31 -> 0 | V31: ='IBS Action Plan 20170131'!W31 -> 0 | ... X31: ='IBS Action Plan 20170131'!Y31 -> 0 | Y31: =+G31+J31+U31 -> 89
B32: Colburne | C32: ='IBS Action Plan 20170131'!C32 -> 0 | D32: ='IBS Action Plan 20170131'!D32 -> 8 | E32: ='IBS Action Plan 20170131'!E32 -> 268 | F32: ='IBS Action Plan 20170131'!F32 -> 2160 | G32: ='IBS Action Plan 20170131'!G32 -> 2436 | H32: ='IBS Action Plan 20170131'!H32 -> 1356 | I32: ='IBS Action Plan 20170131'!I32 -> 0.55665025 | J32: ='IBS Action Plan 20170131'!J32 -> 542 | ... L32: ='IBS Action Plan 20170131'!L32 -> 2692 | M32: ='IBS Action Plan 20170131'!N32 -> 2017 - 18 | O32: ='IBS Action Plan 20170131'!P32 -> Economic | P32: ='IBS Action Plan 20170131'!Q32 -> 0 | Q32: ='IBS Action Plan 20170131'!R32 -> 0 | R32: ='IBS Action Plan 20170131'!S32 -> 0 | S32: ='IBS Action Plan 20170131'!T32 -> 0 | T32: ='IBS Action Plan 20170131'!U32 -> 28 | U32: ='IBS Action Plan 20170131'!V32 -> 28 | V32: ='IBS Action Plan 20170131'!W32 -> 11.2 | ... X32: ='IBS Action Plan 20170131'!Y32 -> Isolated | Y32: =+G32+J32+U32 -> 3006
B33: Dome | C33: ='IBS Action Plan 20170131'!C33 -> 0 | D33: ='IBS Action Plan 20170131'!D33 -> 0 | E33: ='IBS Action Plan 20170131'!E33 -> 0 | F33: ='IBS Action Plan 20170131'!F33 -> 0 | G33: ='IBS Action Plan 20170131'!G33 -> 0 | H33: ='IBS Action Plan 20170131'!H33 -> 0 | I33: ='IBS Action Plan 20170131'!I33 -> 0 | J33: ='IBS Action Plan 20170131'!J33 -> 0 | ... L33: ='IBS Action Plan 20170131'!L33 -> - | M33: ='IBS Action Plan 20170131'!N33 -> 0 | O33: ='IBS Action Plan 20170131'!P33 -> Economic | P33: ='IBS Action Plan 20170131'!Q33 -> 0 | Q33: ='IBS Action Plan 20170131'!R33 -> 0 | R33: ='IBS Action Plan 20170131'!S33 -> 0 | S33: ='IBS Action Plan 20170131'!T33 -> 0 | T33: ='IBS Action Plan 20170131'!U33 -> 70 | U33: ='IBS Action Plan 20170131'!V33 -> 70 | V33: ='IBS Action Plan 20170131'!W33 -> 28 | ... X33: ='IBS Action Plan 20170131'!Y33 -> Isolated | Y33: =+G33+J33+U33 -> 70
B34: Firth | C34: ='IBS Action Plan 20170131'!C34 -> 0 | D34: ='IBS Action Plan 20170131'!D34 -> 92 | E34: ='IBS Action Plan 20170131'!E34 -> 69 | F34: ='IBS Action Plan 20170131'!F34 -> 627 | G34: ='IBS Action Plan 20170131'!G34 -> 788 | H34: ='IBS Action Plan 20170131'!H34 -> 474.5 | I34: ='IBS Action Plan 20170131'!I34 -> 0.60215736 | J34: ='IBS Action Plan 20170131'!J34 -> 324 | ... L34: ='IBS Action Plan 20170131'!L34 -> 1099 | M34: ='IBS Action Plan 20170131'!N34 -> 2019 - 20 | O34: ='IBS Action Plan 20170131'!P34 -> 0 | P34: ='IBS Action Plan 20170131'!Q34 -> 0 | Q34: ='IBS Action Plan 20170131'!R34 -> 0 | R34: ='IBS Action Plan 20170131'!S34 -> 0 | S34: ='IBS Action Plan 20170131'!T34 -> 0 | T34: ='IBS Action Plan 20170131'!U34 -> 0 | U34: ='IBS Action Plan 20170131'!V34 -> 0 | V34: ='IBS Action Plan 20170131'!W34 -> 0 | ... X34: ='IBS Action Plan 20170131'!Y34 -> 0 | Y34: =+G34+J34+U34 -> 1112
B35: Hominka | C35: ='IBS Action Plan 20170131'!C35 -> 0 | D35: ='IBS Action Plan 20170131'!D35 -> 17 | E35: ='IBS Action Plan 20170131'!E35 -> 1023 | F35: ='IBS Action Plan 20170131'!F35 -> 2950 | G35: ='IBS Action Plan 20170131'!G35 -> 3990 | H35: ='IBS Action Plan 20170131'!H35 -> 2515 | I35: ='IBS Action Plan 20170131'!I35 -> 0.63032581 | J35: ='IBS Action Plan 20170131'!J35 -> 299 | ... L35: ='IBS Action Plan 20170131'!L35 -> 2468 | M35: ='IBS Action Plan 20170131'!N35 -> 2018 - 19 | O35: ='IBS Action Plan 20170131'!P35 -> 0 | P35: ='IBS Action Plan 20170131'!Q35 -> 0 | Q35: ='IBS Action Plan 20170131'!R35 -> 0 | R35: ='IBS Action Plan 20170131'!S35 -> 0 | S35: ='IBS Action Plan 20170131'!T35 -> 0 | T35: ='IBS Action Plan 20170131'!U35 -> 0 | U35: ='IBS Action Plan 20170131'!V35 -> 0 | V35: ='IBS Action Plan 20170131'!W35 -> 0 | ... X35: ='IBS Action Plan 20170131'!Y35 -> 0 | Y35: =+G35+J35+U35 -> 4289
B36: Mcleod | C36: ='IBS Action Plan 20170131'!C36 -> 0 | D36: ='IBS Action Plan 20170131'!D36 -> 0 | E36: ='IBS Action Plan 20170131'!E36 -> 109 | F36: ='IBS Action Plan 20170131'!F36 -> 1313 | G36: ='IBS Action Plan 20170131'!G36 -> 1422 | H36: ='IBS Action Plan 20170131'!H36 -> 765.5 | I36: ='IBS Action Plan 20170131'!I36 -> 0.5383263 | J36: ='IBS Action Plan 20170131'!J36 -> 504 | ... L36: ='IBS Action Plan 20170131'!L36 -> 1795 | M36: ='IBS Action Plan 20170131'!N36 -> 2021 - 22 | O36: ='IBS Action Plan 20170131'!P36 -> 0 | P36: ='IBS Action Plan 20170131'!Q36 -> 0 | Q36: ='IBS Action Plan 20170131'!R36 -> 0 | R36: ='IBS Action Plan 20170131'!S36 -> 0 | S36: ='IBS Action Plan 20170131'!T36 -> 0 | T36: ='IBS Action Plan 20170131'!U36 -> 0 | U36: ='IBS Action Plan 20170131'!V36 -> 0 | V36: ='IBS Action Plan 20170131'!W36 -> 0 | ... X36: ='IBS Action Plan 20170131'!Y36 -> 0 | Y36: =+G36+J36+U36 -> 1926
B37: Missinka | C37: ='IBS Action Plan 20170131'!C37 -> 0 | D37: ='IBS Action Plan 20170131'!D37 -> 0 | E37: ='IBS Action Plan 20170131'!E37 -> 0 | F37: ='IBS Action Plan 20170131'!F37 -> 0 | G37: ='IBS Action Plan 20170131'!G37 -> 0 | H37: ='IBS Action Plan 20170131'!H37 -> 0 | I37: ='IBS Action Plan 20170131'!I37 -> 0 | J37: ='IBS Action Plan 20170131'!J37 -> 0 | ... L37: ='IBS Action Plan 20170131'!L37 -> - | M37: ='IBS Action Plan 20170131'!N37 -> 0 | O37: ='IBS Action Plan 20170131'!P37 -> Economic | P37: ='IBS Action Plan 20170131'!Q37 -> 0 | Q37: ='IBS Action Plan 20170131'!R37 -> 0 | R37: ='IBS Action Plan 20170131'!S37 -> 0 | S37: ='IBS Action Plan 20170131'!T37 -> 37 | T37: ='IBS Action Plan 20170131'!U37 -> 0 | U37: ='IBS Action Plan 20170131'!V37 -> 37 | V37: ='IBS Action Plan 20170131'!W37 -> 14.8 | ... X37: ='IBS Action Plan 20170131'!Y37 -> Isolated | Y37: =+G37+J37+U37 -> 37
B38: Parsnip | C38: ='IBS Action Plan 20170131'!C38 -> 0 | D38: ='IBS Action Plan 20170131'!D38 -> 0 | E38: ='IBS Action Plan 20170131'!E38 -> 0 | F38: ='IBS Action Plan 20170131'!F38 -> 94 | G38: ='IBS Action Plan 20170131'!G38 -> 94 | H38: ='IBS Action Plan 20170131'!H38 -> 47 | I38: ='IBS Action Plan 20170131'!I38 -> 0.5 | J38: ='IBS Action Plan 20170131'!J38 -> 0 | ... L38: ='IBS Action Plan 20170131'!L38 -> 41 | M38: ='IBS Action Plan 20170131'!N38 -> 2021 - 22 | O38: ='IBS Action Plan 20170131'!P38 -> Economic | P38: ='IBS Action Plan 20170131'!Q38 -> 0 | Q38: ='IBS Action Plan 20170131'!R38 -> 0 | R38: ='IBS Action Plan 20170131'!S38 -> 2 | S38: ='IBS Action Plan 20170131'!T38 -> 0 | T38: ='IBS Action Plan 20170131'!U38 -> 0 | U38: ='IBS Action Plan 20170131'!V38 -> 2 | V38: ='IBS Action Plan 20170131'!W38 -> 0.8 | ... X38: ='IBS Action Plan 20170131'!Y38 -> Isolated | Y38: =+G38+J38+U38 -> 96
B39: Reynolds | C39: ='IBS Action Plan 20170131'!C39 -> 0 | D39: ='IBS Action Plan 20170131'!D39 -> 26 | E39: ='IBS Action Plan 20170131'!E39 -> 16 | F39: ='IBS Action Plan 20170131'!F39 -> 485 | G39: ='IBS Action Plan 20170131'!G39 -> 527 | H39: ='IBS Action Plan 20170131'!H39 -> 284.5 | I39: ='IBS Action Plan 20170131'!I39 -> 0.5398482 | J39: ='IBS Action Plan 20170131'!J39 -> 340 | ... L39: ='IBS Action Plan 20170131'!L39 -> 842 | M39: ='IBS Action Plan 20170131'!N39 -> 2020 - 21 | O39: ='IBS Action Plan 20170131'!P39 -> Economic | P39: ='IBS Action Plan 20170131'!Q39 -> 0 | Q39: ='IBS Action Plan 20170131'!R39 -> 173 | R39: ='IBS Action Plan 20170131'!S39 -> 0 | S39: ='IBS Action Plan 20170131'!T39 -> 35 | T39: ='IBS Action Plan 20170131'!U39 -> 119 | U39: ='IBS Action Plan 20170131'!V39 -> 327 | V39: ='IBS Action Plan 20170131'!W39 -> 130.8 | ... X39: ='IBS Action Plan 20170131'!Y39 -> Roads, other, NDU | Y39: =+G39+J39+U39 -> 1194
B40: Summit Lake | C40: ='IBS Action Plan 20170131'!C40 -> 0 | D40: ='IBS Action Plan 20170131'!D40 -> 166 | E40: ='IBS Action Plan 20170131'!E40 -> 132 | F40: ='IBS Action Plan 20170131'!F40 -> 9 | G40: ='IBS Action Plan 20170131'!G40 -> 307 | H40: ='IBS Action Plan 20170131'!H40 -> 302.5 | I40: ='IBS Action Plan 20170131'!I40 -> 0.98534202 | J40: ='IBS Action Plan 20170131'!J40 -> 507 | ... L40: ='IBS Action Plan 20170131'!L40 -> 811 | M40: ='IBS Action Plan 20170131'!N40 -> 2017 - 18 | O40: ='IBS Action Plan 20170131'!P40 -> 0 | P40: ='IBS Action Plan 20170131'!Q40 -> 0 | Q40: ='IBS Action Plan 20170131'!R40 -> 0 | R40: ='IBS Action Plan 20170131'!S40 -> 0 | S40: ='IBS Action Plan 20170131'!T40 -> 0 | T40: ='IBS Action Plan 20170131'!U40 -> 0 | U40: ='IBS Action Plan 20170131'!V40 -> 0 | V40: ='IBS Action Plan 20170131'!W40 -> 0 | ... X40: ='IBS Action Plan 20170131'!Y40 -> 0 | Y40: =+G40+J40+U40 -> 814
A41: Subtotal | B41: BCTS PG District | C41: ='IBS Action Plan 20170131'!C41 -> 0 | D41: ='IBS Action Plan 20170131'!D41 -> 336 | E41: ='IBS Action Plan 20170131'!E41 -> 1617 | F41: ='IBS Action Plan 20170131'!F41 -> 7736 | G41: ='IBS Action Plan 20170131'!G41 -> 9689 | H41: ='IBS Action Plan 20170131'!H41 -> 5821 | I41: ='IBS Action Plan 20170131'!I41 -> 0.60078439 | J41: ='IBS Action Plan 20170131'!J41 -> 2644 | ... L41: ='IBS Action Plan 20170131'!L41 -> 10000 | M41: ='IBS Action Plan 20170131'!N41 -> 0 | O41: ='IBS Action Plan 20170131'!P41 -> - | P41: ='IBS Action Plan 20170131'!Q41 -> 0 | Q41: ='IBS Action Plan 20170131'!R41 -> 173 | R41: ='IBS Action Plan 20170131'!S41 -> 2 | S41: ='IBS Action Plan 20170131'!T41 -> 72 | T41: ='IBS Action Plan 20170131'!U41 -> 217 | U41: ='IBS Action Plan 20170131'!V41 -> 464 | V41: ='IBS Action Plan 20170131'!W41 -> 185.6 | ... X41: ='IBS Action Plan 20170131'!Y41 -> 0 | Y41: =+G41+J41+U41 -> 12797
A42: Canfor PG | B42: DPG - Ames | C42: ='IBS Action Plan 20170131'!C42 -> 0 | D42: ='IBS Action Plan 20170131'!D42 -> 0 | E42: ='IBS Action Plan 20170131'!E42 -> 0 | F42: ='IBS Action Plan 20170131'!F42 -> 19 | G42: ='IBS Action Plan 20170131'!G42 -> 19 | H42: ='IBS Action Plan 20170131'!H42 -> 9.5 | I42: ='IBS Action Plan 20170131'!I42 -> 0.5 | J42: ='IBS Action Plan 20170131'!J42 -> 0 | ... L42: ='IBS Action Plan 20170131'!L42 -> 19 | M42: ='IBS Action Plan 20170131'!N42 -> 2017-2019 | O42: ='IBS Action Plan 20170131'!P42 -> 0 | P42: ='IBS Action Plan 20170131'!Q42 -> 0 | Q42: ='IBS Action Plan 20170131'!R42 -> 0 | R42: ='IBS Action Plan 20170131'!S42 -> 0 | S42: ='IBS Action Plan 20170131'!T42 -> 0 | T42: ='IBS Action Plan 20170131'!U42 -> 0 | U42: ='IBS Action Plan 20170131'!V42 -> 0 | V42: ='IBS Action Plan 20170131'!W42 -> 0 | ... X42: ='IBS Action Plan 20170131'!Y42 -> 0 | Y42: =+G42+J42+U42 -> 19
B43: DPG - Anzac | C43: ='IBS Action Plan 20170131'!C43 -> 0 | D43: ='IBS Action Plan 20170131'!D43 -> 443 | E43: ='IBS Action Plan 20170131'!E43 -> 383 | F43: ='IBS Action Plan 20170131'!F43 -> 3308 | G43: ='IBS Action Plan 20170131'!G43 -> 4134 | H43: ='IBS Action Plan 20170131'!H43 -> 2480 | I43: ='IBS Action Plan 20170131'!I43 -> 0.59990324 | J43: ='IBS Action Plan 20170131'!J43 -> 2048 | ... L43: ='IBS Action Plan 20170131'!L43 -> 5489 | M43: ='IBS Action Plan 20170131'!N43 -> 2017-2021 | O43: ='IBS Action Plan 20170131'!P43 -> 0 | P43: ='IBS Action Plan 20170131'!Q43 -> 0 | Q43: ='IBS Action Plan 20170131'!R43 -> 0 | R43: ='IBS Action Plan 20170131'!S43 -> 0 | S43: ='IBS Action Plan 20170131'!T43 -> 0 | T43: ='IBS Action Plan 20170131'!U43 -> 0 | U43: ='IBS Action Plan 20170131'!V43 -> 0 | V43: ='IBS Action Plan 20170131'!W43 -> 0 | ... X43: ='IBS Action Plan 20170131'!Y43 -> 0 | Y43: =+G43+J43+U43 -> 6182
B44: DPG - Chuchinka | C44: ='IBS Action Plan 20170131'!C44 -> 0 | D44: ='IBS Action Plan 20170131'!D44 -> 70 | E44: ='IBS Action Plan 20170131'!E44 -> 439 | F44: ='IBS Action Plan 20170131'!F44 -> 444 | G44: ='IBS Action Plan 20170131'!G44 -> 953 | H44: ='IBS Action Plan 20170131'!H44 -> 731 | I44: ='IBS Action Plan 20170131'!I44 -> 0.76705142 | J44: ='IBS Action Plan 20170131'!J44 -> 414 | ... L44: ='IBS Action Plan 20170131'!L44 -> 1273 | M44: ='IBS Action Plan 20170131'!N44 -> 2017-2018 | O44: ='IBS Action Plan 20170131'!P44 -> 0 | P44: ='IBS Action Plan 20170131'!Q44 -> 0 | Q44: ='IBS Action Plan 20170131'!R44 -> 0 | R44: ='IBS Action Plan 20170131'!S44 -> 0 | S44: ='IBS Action Plan 20170131'!T44 -> 0 | T44: ='IBS Action Plan 20170131'!U44 -> 0 | U44: ='IBS Action Plan 20170131'!V44 -> 0 | V44: ='IBS Action Plan 20170131'!W44 -> 0 | ... X44: ='IBS Action Plan 20170131'!Y44 -> 0 | Y44: =+G44+J44+U44 -> 1367
B45: DPG - Government | C45: ='IBS Action Plan 20170131'!C45 -> 0 | D45: ='IBS Action Plan 20170131'!D45 -> 0 | E45: ='IBS Action Plan 20170131'!E45 -> 0 | F45: ='IBS Action Plan 20170131'!F45 -> 0 | G45: ='IBS Action Plan 20170131'!G45 -> 0 | H45: ='IBS Action Plan 20170131'!H45 -> 0 | I45: ='IBS Action Plan 20170131'!I45 -> 0 | J45: ='IBS Action Plan 20170131'!J45 -> 421 | ... L45: ='IBS Action Plan 20170131'!L45 -> 421 | M45: ='IBS Action Plan 20170131'!N45 -> 2018-2019 | O45: ='IBS Action Plan 20170131'!P45 -> 0 | P45: ='IBS Action Plan 20170131'!Q45 -> 0 | Q45: ='IBS Action Plan 20170131'!R45 -> 0 | R45: ='IBS Action Plan 20170131'!S45 -> 0 | S45: ='IBS Action Plan 20170131'!T45 -> 0 | T45: ='IBS Action Plan 20170131'!U45 -> 0 | U45: ='IBS Action Plan 20170131'!V45 -> 0 | V45: ='IBS Action Plan 20170131'!W45 -> 0 | ... X45: ='IBS Action Plan 20170131'!Y45 -> 0 | Y45: =+G45+J45+U45 -> 421
B46: DPG - Herrick | C46: ='IBS Action Plan 20170131'!C46 -> 0 | D46: ='IBS Action Plan 20170131'!D46 -> 0 | E46: ='IBS Action Plan 20170131'!E46 -> 26 | F46: ='IBS Action Plan 20170131'!F46 -> 1289 | G46: ='IBS Action Plan 20170131'!G46 -> 1315 | H46: ='IBS Action Plan 20170131'!H46 -> 670.5 | I46: ='IBS Action Plan 20170131'!I46 -> 0.50988593 | J46: ='IBS Action Plan 20170131'!J46 -> 1202 | ... L46: ='IBS Action Plan 20170131'!L46 -> 2019 | M46: ='IBS Action Plan 20170131'!N46 -> 2020-2023 | O46: ='IBS Action Plan 20170131'!P46 -> Legal | P46: ='IBS Action Plan 20170131'!Q46 -> 0 | Q46: ='IBS Action Plan 20170131'!R46 -> 0 | R46: ='IBS Action Plan 20170131'!S46 -> 9 | S46: ='IBS Action Plan 20170131'!T46 -> 113 | T46: ='IBS Action Plan 20170131'!U46 -> 233 | U46: ='IBS Action Plan 20170131'!V46 -> 355 | V46: ='IBS Action Plan 20170131'!W46 -> 45 | ... X46: ='IBS Action Plan 20170131'!Y46 -> Proposed landscape biodiversity areas for A25 (old forest); likely to be some operability issues as well | Y46: =+G46+J46+U46 -> 2872
B47: DPG - McGregor | C47: ='IBS Action Plan 20170131'!C47 -> 0 | D47: ='IBS Action Plan 20170131'!D47 -> 181 | E47: ='IBS Action Plan 20170131'!E47 -> 1699 | F47: ='IBS Action Plan 20170131'!F47 -> 3131 | G47: ='IBS Action Plan 20170131'!G47 -> 5011 | H47: ='IBS Action Plan 20170131'!H47 -> 3445.5 | I47: ='IBS Action Plan 20170131'!I47 -> 0.68758731 | J47: ='IBS Action Plan 20170131'!J47 -> 417 | ... L47: ='IBS Action Plan 20170131'!L47 -> 3777 | M47: ='IBS Action Plan 20170131'!N47 -> 2017-2024 | O47: ='IBS Action Plan 20170131'!P47 -> Legal | P47: ='IBS Action Plan 20170131'!Q47 -> 0 | Q47: ='IBS Action Plan 20170131'!R47 -> 12 | R47: ='IBS Action Plan 20170131'!S47 -> 392 | S47: ='IBS Action Plan 20170131'!T47 -> 526 | T47: ='IBS Action Plan 20170131'!U47 -> 75 | U47: ='IBS Action Plan 20170131'!V47 -> 1005 | V47: ='IBS Action Plan 20170131'!W47 -> 178 | ... X47: ='IBS Action Plan 20170131'!Y47 -> Proposed landscape biodiversity areas for A25 (old forest) | Y47: =+G47+J47+U47 -> 6433
B48: DPG - McLeod | C48: ='IBS Action Plan 20170131'!C48 -> 0 | D48: ='IBS Action Plan 20170131'!D48 -> 0 | E48: ='IBS Action Plan 20170131'!E48 -> 0 | F48: ='IBS Action Plan 20170131'!F48 -> 366 | G48: ='IBS Action Plan 20170131'!G48 -> 366 | H48: ='IBS Action Plan 20170131'!H48 -> 183 | I48: ='IBS Action Plan 20170131'!I48 -> 0.5 | J48: ='IBS Action Plan 20170131'!J48 -> 3 | ... L48: ='IBS Action Plan 20170131'!L48 -> 370 | M48: ='IBS Action Plan 20170131'!N48 -> 2018-2019 | O48: ='IBS Action Plan 20170131'!P48 -> 0 | P48: ='IBS Action Plan 20170131'!Q48 -> 0 | Q48: ='IBS Action Plan 20170131'!R48 -> 0 | R48: ='IBS Action Plan 20170131'!S48 -> 0 | S48: ='IBS Action Plan 20170131'!T48 -> 0 | T48: ='IBS Action Plan 20170131'!U48 -> 0 | U48: ='IBS Action Plan 20170131'!V48 -> 0 | V48: ='IBS Action Plan 20170131'!W48 -> 0 | ... X48: ='IBS Action Plan 20170131'!Y48 -> 0 | Y48: =+G48+J48+U48 -> 369
B49: DPG - Muskeg | C49: ='IBS Action Plan 20170131'!C49 -> 0 | D49: ='IBS Action Plan 20170131'!D49 -> 0 | E49: ='IBS Action Plan 20170131'!E49 -> 0 | F49: ='IBS Action Plan 20170131'!F49 -> 21 | G49: ='IBS Action Plan 20170131'!G49 -> 21 | H49: ='IBS Action Plan 20170131'!H49 -> 10.5 | I49: ='IBS Action Plan 20170131'!I49 -> 0.5 | J49: ='IBS Action Plan 20170131'!J49 -> 191 | ... L49: ='IBS Action Plan 20170131'!L49 -> 212 | M49: ='IBS Action Plan 20170131'!N49 -> 2017-2019 | O49: ='IBS Action Plan 20170131'!P49 -> 0 | P49: ='IBS Action Plan 20170131'!Q49 -> 0 | Q49: ='IBS Action Plan 20170131'!R49 -> 0 | R49: ='IBS Action Plan 20170131'!S49 -> 0 | S49: ='IBS Action Plan 20170131'!T49 -> 0 | T49: ='IBS Action Plan 20170131'!U49 -> 0 | U49: ='IBS Action Plan 20170131'!V49 -> 0 | V49: ='IBS Action Plan 20170131'!W49 -> 0 | ... X49: ='IBS Action Plan 20170131'!Y49 -> 0 | Y49: =+G49+J49+U49 -> 212
B50: DPG - Otter | C50: ='IBS Action Plan 20170131'!C50 -> 0 | D50: ='IBS Action Plan 20170131'!D50 -> 0 | E50: ='IBS Action Plan 20170131'!E50 -> 0 | F50: ='IBS Action Plan 20170131'!F50 -> 0 | G50: ='IBS Action Plan 20170131'!G50 -> 0 | H50: ='IBS Action Plan 20170131'!H50 -> 0 | I50: ='IBS Action Plan 20170131'!I50 -> 0 | J50: ='IBS Action Plan 20170131'!J50 -> 59 | ... L50: ='IBS Action Plan 20170131'!L50 -> 57 | M50: ='IBS Action Plan 20170131'!N50 -> 2018-2020 | O50: ='IBS Action Plan 20170131'!P50 -> 0 | P50: ='IBS Action Plan 20170131'!Q50 -> 0 | Q50: ='IBS Action Plan 20170131'!R50 -> 0 | R50: ='IBS Action Plan 20170131'!S50 -> 0 | S50: ='IBS Action Plan 20170131'!T50 -> 0 | T50: ='IBS Action Plan 20170131'!U50 -> 0 | U50: ='IBS Action Plan 20170131'!V50 -> 0 | V50: ='IBS Action Plan 20170131'!W50 -> 0 | ... X50: ='IBS Action Plan 20170131'!Y50 -> 0 | Y50: =+G50+J50+U50 -> 59
B51: DPG - Pinkerton | C51: ='IBS Action Plan 20170131'!C51 -> 0 | D51: ='IBS Action Plan 20170131'!D51 -> 0 | E51: ='IBS Action Plan 20170131'!E51 -> 0 | F51: ='IBS Action Plan 20170131'!F51 -> 37 | G51: ='IBS Action Plan 20170131'!G51 -> 37 | H51: ='IBS Action Plan 20170131'!H51 -> 18.5 | I51: ='IBS Action Plan 20170131'!I51 -> 0.5 | J51: ='IBS Action Plan 20170131'!J51 -> 27 | ... L51: ='IBS Action Plan 20170131'!L51 -> 64 | M51: ='IBS Action Plan 20170131'!N51 -> 2017-2018 | O51: ='IBS Action Plan 20170131'!P51 -> 0 | P51: ='IBS Action Plan 20170131'!Q51 -> 0 | Q51: ='IBS Action Plan 20170131'!R51 -> 0 | R51: ='IBS Action Plan 20170131'!S51 -> 0 | S51: ='IBS Action Plan 20170131'!T51 -> 0 | T51: ='IBS Action Plan 20170131'!U51 -> 0 | U51: ='IBS Action Plan 20170131'!V51 -> 0 | V51: ='IBS Action Plan 20170131'!W51 -> 0 | ... X51: ='IBS Action Plan 20170131'!Y51 -> 0 | Y51: =+G51+J51+U51 -> 64
B52: DPG - Salmon | C52: ='IBS Action Plan 20170131'!C52 -> 59 | D52: ='IBS Action Plan 20170131'!D52 -> 29 | E52: ='IBS Action Plan 20170131'!E52 -> 73 | F52: ='IBS Action Plan 20170131'!F52 -> 440 | G52: ='IBS Action Plan 20170131'!G52 -> 601 | H52: ='IBS Action Plan 20170131'!H52 -> 381 | I52: ='IBS Action Plan 20170131'!I52 -> 0.63394343 | J52: ='IBS Action Plan 20170131'!J52 -> 24 | ... L52: ='IBS Action Plan 20170131'!L52 -> 620 | M52: ='IBS Action Plan 20170131'!N52 -> 2017-2018 | O52: ='IBS Action Plan 20170131'!P52 -> 0 | P52: ='IBS Action Plan 20170131'!Q52 -> 0 | Q52: ='IBS Action Plan 20170131'!R52 -> 0 | R52: ='IBS Action Plan 20170131'!S52 -> 0 | S52: ='IBS Action Plan 20170131'!T52 -> 0 | T52: ='IBS Action Plan 20170131'!U52 -> 0 | U52: ='IBS Action Plan 20170131'!V52 -> 0 | V52: ='IBS Action Plan 20170131'!W52 -> 0 | ... X52: ='IBS Action Plan 20170131'!Y52 -> 0 | Y52: =+G52+J52+U52 -> 625
B53: DPG - Stony | C53: ='IBS Action Plan 20170131'!C53 -> 0 | D53: ='IBS Action Plan 20170131'!D53 -> 0 | E53: ='IBS Action Plan 20170131'!E53 -> 0 | F53: ='IBS Action Plan 20170131'!F53 -> 0 | G53: ='IBS Action Plan 20170131'!G53 -> 0 | H53: ='IBS Action Plan 20170131'!H53 -> 0 | I53: ='IBS Action Plan 20170131'!I53 -> 0 | J53: ='IBS Action Plan 20170131'!J53 -> 235 | ... L53: ='IBS Action Plan 20170131'!L53 -> 206 | M53: ='IBS Action Plan 20170131'!N53 -> 2020 | O53: ='IBS Action Plan 20170131'!P53 -> 0 | P53: ='IBS Action Plan 20170131'!Q53 -> 0 | Q53: ='IBS Action Plan 20170131'!R53 -> 0 | R53: ='IBS Action Plan 20170131'!S53 -> 0 | S53: ='IBS Action Plan 20170131'!T53 -> 0 | T53: ='IBS Action Plan 20170131'!U53 -> 0 | U53: ='IBS Action Plan 20170131'!V53 -> 0 | V53: ='IBS Action Plan 20170131'!W53 -> 0 | ... X53: ='IBS Action Plan 20170131'!Y53 -> 0 | Y53: =+G53+J53+U53 -> 235
B54: DPG - TFL30 | C54: ='IBS Action Plan 20170131'!C54 -> 0 | D54: ='IBS Action Plan 20170131'!D54 -> 0 | E54: ='IBS Action Plan 20170131'!E54 -> 50 | F54: ='IBS Action Plan 20170131'!F54 -> 3747 | G54: ='IBS Action Plan 20170131'!G54 -> 3797 | H54: ='IBS Action Plan 20170131'!H54 -> 1923.5 | I54: ='IBS Action Plan 20170131'!I54 -> 0.50658415 | J54: ='IBS Action Plan 20170131'!J54 -> 4179 | ... L54: ='IBS Action Plan 20170131'!L54 -> 7752 | M54: ='IBS Action Plan 20170131'!N54 -> 2017-2023 | O54: ='IBS Action Plan 20170131'!P54 -> Legal | P54: ='IBS Action Plan 20170131'!Q54 -> 0 | Q54: ='IBS Action Plan 20170131'!R54 -> 0 | R54: ='IBS Action Plan 20170131'!S54 -> 0 | S54: ='IBS Action Plan 20170131'!T54 -> 891 | T54: ='IBS Action Plan 20170131'!U54 -> 1298 | U54: ='IBS Action Plan 20170131'!V54 -> 2189 | V54: ='IBS Action Plan 20170131'!W54 -> 79 | ... X54: ='IBS Action Plan 20170131'!Y54 -> TFL 30 OGMA | Y54: =+G54+J54+U54 -> 10165
... B58: DPG - Weedon | C58: ='IBS Action Plan 20170131'!C58 -> 0 | D58: ='IBS Action Plan 20170131'!D58 -> 0 | E58: ='IBS Action Plan 20170131'!E58 -> 0 | F58: ='IBS Action Plan 20170131'!F58 -> 35 | G58: ='IBS Action Plan 20170131'!G58 -> 35 | H58: ='IBS Action Plan 20170131'!H58 -> 17.5 | I58: ='IBS Action Plan 20170131'!I58 -> 0.5 | J58: ='IBS Action Plan 20170131'!J58 -> 6 | ... L58: ='IBS Action Plan 20170131'!L58 -> 41 | M58: ='IBS Action Plan 20170131'!N58 -> 2018 | O58: ='IBS Action Plan 20170131'!P58 -> 0 | P58: ='IBS Action Plan 20170131'!Q58 -> 0 | Q58: ='IBS Action Plan 20170131'!R58 -> 0 | R58: ='IBS Action Plan 20170131'!S58 -> 0 | S58: ='IBS Action Plan 20170131'!T58 -> 0 | T58: ='IBS Action Plan 20170131'!U58 -> 0 | U58: ='IBS Action Plan 20170131'!V58 -> 0 | V58: ='IBS Action Plan 20170131'!W58 -> 0 | ... X58: ='IBS Action Plan 20170131'!Y58 -> 0 | Y58: =+G58+J58+U58 -> 41
A59: Subtotal | B59: Canfor PG District + TFL 30 | C59: ='IBS Action Plan 20170131'!C59 -> 59 | D59: ='IBS Action Plan 20170131'!D59 -> 723 | E59: ='IBS Action Plan 20170131'!E59 -> 2671 | F59: ='IBS Action Plan 20170131'!F59 -> 13515 | G59: ='IBS Action Plan 20170131'!G59 -> 16968 | H59: ='IBS Action Plan 20170131'!H59 -> 10210.5 | I59: ='IBS Action Plan 20170131'!I59 -> 0.60175035 | J59: ='IBS Action Plan 20170131'!J59 -> 10555 | ... L59: ='IBS Action Plan 20170131'!L59 -> 24281 | M59: ='IBS Action Plan 20170131'!N59 -> 0 | O59: ='IBS Action Plan 20170131'!P59 -> 0 | P59: ='IBS Action Plan 20170131'!Q59 -> 0 | Q59: ='IBS Action Plan 20170131'!R59 -> 12 | R59: ='IBS Action Plan 20170131'!S59 -> 415 | S59: ='IBS Action Plan 20170131'!T59 -> 1530 | T59: ='IBS Action Plan 20170131'!U59 -> 1622 | U59: ='IBS Action Plan 20170131'!V59 -> 3579 | V59: ='IBS Action Plan 20170131'!W59 -> 332 | ... X59: ='IBS Action Plan 20170131'!Y59 -> 0 | Y59: =+G59+J59+U59 -> 31102
A60: Sinclar | B60: Bear Lake West | C60: ='IBS Action Plan 20170131'!C60 -> 44 | D60: ='IBS Action Plan 20170131'!D60 -> 805 | E60: ='IBS Action Plan 20170131'!E60 -> 2236 | F60: ='IBS Action Plan 20170131'!F60 -> 3023 | G60: ='IBS Action Plan 20170131'!G60 -> 6108 | H60: ='IBS Action Plan 20170131'!H60 -> 4596.5 | I60: ='IBS Action Plan 20170131'!I60 -> 0.75253766 | J60: ='IBS Action Plan 20170131'!J60 -> 149 | ... L60: ='IBS Action Plan 20170131'!L60 -> 6119 | M60: ='IBS Action Plan 20170131'!N60 -> 2017-23 | O60: ='IBS Action Plan 20170131'!P60 -> 0 | P60: ='IBS Action Plan 20170131'!Q60 -> 0 | Q60: ='IBS Action Plan 20170131'!R60 -> 0 | R60: ='IBS Action Plan 20170131'!S60 -> 0 | S60: ='IBS Action Plan 20170131'!T60 -> 0 | T60: ='IBS Action Plan 20170131'!U60 -> 0 | U60: ='IBS Action Plan 20170131'!V60 -> 0 | V60: ='IBS Action Plan 20170131'!W60 -> 0 | ... X60: ='IBS Action Plan 20170131'!Y60 -> 0 | Y60: =+G60+J60+U60 -> 6257
B61: Carp | C61: ='IBS Action Plan 20170131'!C61 -> 117 | D61: ='IBS Action Plan 20170131'!D61 -> 17 | E61: ='IBS Action Plan 20170131'!E61 -> 128 | F61: ='IBS Action Plan 20170131'!F61 -> 169 | G61: ='IBS Action Plan 20170131'!G61 -> 431 | H61: ='IBS Action Plan 20170131'!H61 -> 346.5 | I61: ='IBS Action Plan 20170131'!I61 -> 0.80394432 | J61: ='IBS Action Plan 20170131'!J61 -> 36 | ... L61: ='IBS Action Plan 20170131'!L61 -> 462 | M61: ='IBS Action Plan 20170131'!N61 -> 2017-23 | O61: ='IBS Action Plan 20170131'!P61 -> 0 | P61: ='IBS Action Plan 20170131'!Q61 -> 0 | Q61: ='IBS Action Plan 20170131'!R61 -> 0 | R61: ='IBS Action Plan 20170131'!S61 -> 0 | S61: ='IBS Action Plan 20170131'!T61 -> 0 | T61: ='IBS Action Plan 20170131'!U61 -> 0 | U61: ='IBS Action Plan 20170131'!V61 -> 0 | V61: ='IBS Action Plan 20170131'!W61 -> 0 | ... X61: ='IBS Action Plan 20170131'!Y61 -> 0 | Y61: =+G61+J61+U61 -> 467
B62: Wichcika | C62: ='IBS Action Plan 20170131'!C62 -> 0 | D62: ='IBS Action Plan 20170131'!D62 -> 40 | E62: ='IBS Action Plan 20170131'!E62 -> 278 | F62: ='IBS Action Plan 20170131'!F62 -> 1335 | G62: ='IBS Action Plan 20170131'!G62 -> 1653 | H62: ='IBS Action Plan 20170131'!H62 -> 985.5 | I62: ='IBS Action Plan 20170131'!I62 -> 0.59618875 | J62: ='IBS Action Plan 20170131'!J62 -> 32 | ... L62: ='IBS Action Plan 20170131'!L62 -> 1537 | M62: ='IBS Action Plan 20170131'!N62 -> 2017-23 | O62: ='IBS Action Plan 20170131'!P62 -> Legal | P62: ='IBS Action Plan 20170131'!Q62 -> 0 | Q62: ='IBS Action Plan 20170131'!R62 -> 0 | R62: ='IBS Action Plan 20170131'!S62 -> 7 | S62: ='IBS Action Plan 20170131'!T62 -> 67 | T62: ='IBS Action Plan 20170131'!U62 -> 0 | U62: ='IBS Action Plan 20170131'!V62 -> 74 | V62: ='IBS Action Plan 20170131'!W62 -> 8 | ... X62: ='IBS Action Plan 20170131'!Y62 -> A14/A17 NDU Biodiversity; Road Access, practicality | Y62: =+G62+J62+U62 -> 1759
B63: Parsnip | C63: ='IBS Action Plan 20170131'!C63 -> 0 | D63: ='IBS Action Plan 20170131'!D63 -> 825 | E63: ='IBS Action Plan 20170131'!E63 -> 2328 | F63: ='IBS Action Plan 20170131'!F63 -> 2241 | G63: ='IBS Action Plan 20170131'!G63 -> 5394 | H63: ='IBS Action Plan 20170131'!H63 -> 4273.5 | I63: ='IBS Action Plan 20170131'!I63 -> 0.79226919 | J63: ='IBS Action Plan 20170131'!J63 -> 111 | ... L63: ='IBS Action Plan 20170131'!L63 -> 4219 | M63: ='IBS Action Plan 20170131'!N63 -> 2017-21 | O63: ='IBS Action Plan 20170131'!P63 -> Legal | P63: ='IBS Action Plan 20170131'!Q63 -> 4 | Q63: ='IBS Action Plan 20170131'!R63 -> 431 | R63: ='IBS Action Plan 20170131'!S63 -> 1389 | S63: ='IBS Action Plan 20170131'!T63 -> 2926 | T63: ='IBS Action Plan 20170131'!U63 -> 18 | U63: ='IBS Action Plan 20170131'!V63 -> 4768 | V63: ='IBS Action Plan 20170131'!W63 -> 2092 | ... X63: ='IBS Action Plan 20170131'!Y63 -> A14/A17 NDU Biodiversity; Road Access, practicality | Y63: =+G63+J63+U63 -> 10273
B64: Missinka Winton | C64: ='IBS Action Plan 20170131'!C64 -> 0 | D64: ='IBS Action Plan 20170131'!D64 -> 79 | E64: ='IBS Action Plan 20170131'!E64 -> 1681 | F64: ='IBS Action Plan 20170131'!F64 -> 1373 | G64: ='IBS Action Plan 20170131'!G64 -> 3133 | H64: ='IBS Action Plan 20170131'!H64 -> 2446.5 | I64: ='IBS Action Plan 20170131'!I64 -> 0.78088094 | J64: ='IBS Action Plan 20170131'!J64 -> 136 | ... L64: ='IBS Action Plan 20170131'!L64 -> 2563 | M64: ='IBS Action Plan 20170131'!N64 -> 2021-23 | O64: ='IBS Action Plan 20170131'!P64 -> Legal | P64: ='IBS Action Plan 20170131'!Q64 -> 0 | Q64: ='IBS Action Plan 20170131'!R64 -> 38 | R64: ='IBS Action Plan 20170131'!S64 -> 125 | S64: ='IBS Action Plan 20170131'!T64 -> 352 | T64: ='IBS Action Plan 20170131'!U64 -> 6 | U64: ='IBS Action Plan 20170131'!V64 -> 521 | V64: ='IBS Action Plan 20170131'!W64 -> 205 | ... X64: ='IBS Action Plan 20170131'!Y64 -> A14/A17 NDU Biodiversity; Road Access, practicality | Y64: =+G64+J64+U64 -> 3790
B65: Missinka Lakeland | C65: ='IBS Action Plan 20170131'!C65 -> 0 | D65: ='IBS Action Plan 20170131'!D65 -> 0 | E65: ='IBS Action Plan 20170131'!E65 -> 66 | F65: ='IBS Action Plan 20170131'!F65 -> 674 | G65: ='IBS Action Plan 20170131'!G65 -> 740 | H65: ='IBS Action Plan 20170131'!H65 -> 403 | I65: ='IBS Action Plan 20170131'!I65 -> 0.54459459 | J65: ='IBS Action Plan 20170131'!J65 -> 44 | ... L65: ='IBS Action Plan 20170131'!L65 -> 644 | M65: ='IBS Action Plan 20170131'!N65 -> 2021-23 | O65: ='IBS Action Plan 20170131'!P65 -> 0 | P65: ='IBS Action Plan 20170131'!Q65 -> 0 | Q65: ='IBS Action Plan 20170131'!R65 -> 0 | R65: ='IBS Action Plan 20170131'!S65 -> 0 | S65: ='IBS Action Plan 20170131'!T65 -> 0 | T65: ='IBS Action Plan 20170131'!U65 -> 0 | U65: ='IBS Action Plan 20170131'!V65 -> 0 | V65: ='IBS Action Plan 20170131'!W65 -> 0 | ... X65: ='IBS Action Plan 20170131'!Y65 -> 0 | Y65: =+G65+J65+U65 -> 784
B66: Table | C66: ='IBS Action Plan 20170131'!C66 -> 0 | D66: ='IBS Action Plan 20170131'!D66 -> 0 | E66: ='IBS Action Plan 20170131'!E66 -> 1706 | F66: ='IBS Action Plan 20170131'!F66 -> 1244 | G66: ='IBS Action Plan 20170131'!G66 -> 2950 | H66: ='IBS Action Plan 20170131'!H66 -> 2328 | I66: ='IBS Action Plan 20170131'!I66 -> 0.78915254 | J66: ='IBS Action Plan 20170131'!J66 -> 153 | ... L66: ='IBS Action Plan 20170131'!L66 -> 2643 | M66: ='IBS Action Plan 20170131'!N66 -> 2021-23 | O66: ='IBS Action Plan 20170131'!P66 -> 0 | P66: ='IBS Action Plan 20170131'!Q66 -> 0 | Q66: ='IBS Action Plan 20170131'!R66 -> 0 | R66: ='IBS Action Plan 20170131'!S66 -> 0 | S66: ='IBS Action Plan 20170131'!T66 -> 0 | T66: ='IBS Action Plan 20170131'!U66 -> 0 | U66: ='IBS Action Plan 20170131'!V66 -> 0 | V66: ='IBS Action Plan 20170131'!W66 -> 0 | ... X66: ='IBS Action Plan 20170131'!Y66 -> 0 | Y66: =+G66+J66+U66 -> 3103
B67: Angusmac | C67: ='IBS Action Plan 20170131'!C67 -> 0 | D67: ='IBS Action Plan 20170131'!D67 -> 8 | E67: ='IBS Action Plan 20170131'!E67 -> 0 | F67: ='IBS Action Plan 20170131'!F67 -> 5 | G67: ='IBS Action Plan 20170131'!G67 -> 13 | H67: ='IBS Action Plan 20170131'!H67 -> 10.5 | I67: ='IBS Action Plan 20170131'!I67 -> 0.80769231 | J67: ='IBS Action Plan 20170131'!J67 -> 54 | ... L67: ='IBS Action Plan 20170131'!L67 -> 60 | M67: ='IBS Action Plan 20170131'!N67 -> 2020 | O67: ='IBS Action Plan 20170131'!P67 -> 0 | P67: ='IBS Action Plan 20170131'!Q67 -> 0 | Q67: ='IBS Action Plan 20170131'!R67 -> 0 | R67: ='IBS Action Plan 20170131'!S67 -> 0 | S67: ='IBS Action Plan 20170131'!T67 -> 0 | T67: ='IBS Action Plan 20170131'!U67 -> 0 | U67: ='IBS Action Plan 20170131'!V67 -> 0 | V67: ='IBS Action Plan 20170131'!W67 -> 0 | ... X67: ='IBS Action Plan 20170131'!Y67 -> 0 | Y67: =+G67+J67+U67 -> 67
B68: Bill'S Creek | C68: ='IBS Action Plan 20170131'!C68 -> 144 | D68: ='IBS Action Plan 20170131'!D68 -> 339 | E68: ='IBS Action Plan 20170131'!E68 -> 1054 | F68: ='IBS Action Plan 20170131'!F68 -> 1007 | G68: ='IBS Action Plan 20170131'!G68 -> 2544 | H68: ='IBS Action Plan 20170131'!H68 -> 2040.5 | I68: ='IBS Action Plan 20170131'!I68 -> 0.80208333 | J68: ='IBS Action Plan 20170131'!J68 -> 61 | ... L68: ='IBS Action Plan 20170131'!L68 -> 2519 | M68: ='IBS Action Plan 20170131'!N68 -> 2016-23 | O68: ='IBS Action Plan 20170131'!P68 -> 0 | P68: ='IBS Action Plan 20170131'!Q68 -> 0 | Q68: ='IBS Action Plan 20170131'!R68 -> 0 | R68: ='IBS Action Plan 20170131'!S68 -> 0 | S68: ='IBS Action Plan 20170131'!T68 -> 0 | T68: ='IBS Action Plan 20170131'!U68 -> 0 | U68: ='IBS Action Plan 20170131'!V68 -> 0 | V68: ='IBS Action Plan 20170131'!W68 -> 0 | ... X68: ='IBS Action Plan 20170131'!Y68 -> 0 | Y68: =+G68+J68+U68 -> 2605
B69: Kerry | C69: ='IBS Action Plan 20170131'!C69 -> 0 | D69: ='IBS Action Plan 20170131'!D69 -> 0 | E69: ='IBS Action Plan 20170131'!E69 -> 82 | F69: ='IBS Action Plan 20170131'!F69 -> 169 | G69: ='IBS Action Plan 20170131'!G69 -> 251 | H69: ='IBS Action Plan 20170131'!H69 -> 166.5 | I69: ='IBS Action Plan 20170131'!I69 -> 0.66334661 | J69: ='IBS Action Plan 20170131'!J69 -> 140 | ... L69: ='IBS Action Plan 20170131'!L69 -> 389 | M69: ='IBS Action Plan 20170131'!N69 -> 2020 | O69: ='IBS Action Plan 20170131'!P69 -> 0 | P69: ='IBS Action Plan 20170131'!Q69 -> 0 | Q69: ='IBS Action Plan 20170131'!R69 -> 0 | R69: ='IBS Action Plan 20170131'!S69 -> 0 | S69: ='IBS Action Plan 20170131'!T69 -> 0 | T69: ='IBS Action Plan 20170131'!U69 -> 0 | U69: ='IBS Action Plan 20170131'!V69 -> 0 | V69: ='IBS Action Plan 20170131'!W69 -> 0 | ... X69: ='IBS Action Plan 20170131'!Y69 -> 0 | Y69: =+G69+J69+U69 -> 391
B70: Goose | C70: ='IBS Action Plan 20170131'!C70 -> 0 | D70: ='IBS Action Plan 20170131'!D70 -> 0 | E70: ='IBS Action Plan 20170131'!E70 -> 15 | F70: ='IBS Action Plan 20170131'!F70 -> 102 | G70: ='IBS Action Plan 20170131'!G70 -> 117 | H70: ='IBS Action Plan 20170131'!H70 -> 66 | I70: ='IBS Action Plan 20170131'!I70 -> 0.56410256 | J70: ='IBS Action Plan 20170131'!J70 -> 65 | ... L70: ='IBS Action Plan 20170131'!L70 -> 182 | M70: ='IBS Action Plan 20170131'!N70 -> 2020 | O70: ='IBS Action Plan 20170131'!P70 -> 0 | P70: ='IBS Action Plan 20170131'!Q70 -> 0 | Q70: ='IBS Action Plan 20170131'!R70 -> 0 | R70: ='IBS Action Plan 20170131'!S70 -> 0 | S70: ='IBS Action Plan 20170131'!T70 -> 0 | T70: ='IBS Action Plan 20170131'!U70 -> 0 | U70: ='IBS Action Plan 20170131'!V70 -> 0 | V70: ='IBS Action Plan 20170131'!W70 -> 0 | ... X70: ='IBS Action Plan 20170131'!Y70 -> 0 | Y70: =+G70+J70+U70 -> 182
B71: Tacheeda | C71: ='IBS Action Plan 20170131'!C71 -> 59 | D71: ='IBS Action Plan 20170131'!D71 -> 130 | E71: ='IBS Action Plan 20170131'!E71 -> 126 | F71: ='IBS Action Plan 20170131'!F71 -> 286 | G71: ='IBS Action Plan 20170131'!G71 -> 601 | H71: ='IBS Action Plan 20170131'!H71 -> 458 | I71: ='IBS Action Plan 20170131'!I71 -> 0.76206323 | J71: ='IBS Action Plan 20170131'!J71 -> 52 | ... L71: ='IBS Action Plan 20170131'!L71 -> 590 | M71: ='IBS Action Plan 20170131'!N71 -> 2017-19 | O71: ='IBS Action Plan 20170131'!P71 -> 0 | P71: ='IBS Action Plan 20170131'!Q71 -> 0 | Q71: ='IBS Action Plan 20170131'!R71 -> 0 | R71: ='IBS Action Plan 20170131'!S71 -> 0 | S71: ='IBS Action Plan 20170131'!T71 -> 0 | T71: ='IBS Action Plan 20170131'!U71 -> 0 | U71: ='IBS Action Plan 20170131'!V71 -> 0 | V71: ='IBS Action Plan 20170131'!W71 -> 0 | ... X71: ='IBS Action Plan 20170131'!Y71 -> 0 | Y71: =+G71+J71+U71 -> 653
A72: Subtotal | B72: Sinclar PG District | C72: ='IBS Action Plan 20170131'!C72 -> 364 | D72: ='IBS Action Plan 20170131'!D72 -> 2243 | E72: ='IBS Action Plan 20170131'!E72 -> 9700 | F72: ='IBS Action Plan 20170131'!F72 -> 11628 | G72: ='IBS Action Plan 20170131'!G72 -> 23935 | H72: ='IBS Action Plan 20170131'!H72 -> 18121 | I72: ='IBS Action Plan 20170131'!I72 -> 0.75709212 | J72: ='IBS Action Plan 20170131'!J72 -> 1033 | ... L72: ='IBS Action Plan 20170131'!L72 -> 21927 | M72: ='IBS Action Plan 20170131'!N72 -> 0 | O72: ='IBS Action Plan 20170131'!P72 -> 0 | P72: ='IBS Action Plan 20170131'!Q72 -> 4 | Q72: ='IBS Action Plan 20170131'!R72 -> 469 | R72: ='IBS Action Plan 20170131'!S72 -> 1521 | S72: ='IBS Action Plan 20170131'!T72 -> 3345 | T72: ='IBS Action Plan 20170131'!U72 -> 24 | U72: ='IBS Action Plan 20170131'!V72 -> 5363 | V72: ='IBS Action Plan 20170131'!W72 -> 2305 | ... X72: ='IBS Action Plan 20170131'!Y72 -> 0 | Y72: =+G72+J72+U72 -> 30331
A73: Total | B73: PG District | C73: ='IBS Action Plan 20170131'!C73 -> 423 | D73: ='IBS Action Plan 20170131'!D73 -> 3302 | E73: ='IBS Action Plan 20170131'!E73 -> 13988 | F73: ='IBS Action Plan 20170131'!F73 -> 32879 | G73: ='IBS Action Plan 20170131'!G73 -> 50592 | H73: ='IBS Action Plan 20170131'!H73 -> 34152.5 | I73: ='IBS Action Plan 20170131'!I73 -> 0.67505732 | J73: ='IBS Action Plan 20170131'!J73 -> 14232 | ... L73: ='IBS Action Plan 20170131'!L73 -> 56208 | M73: ='IBS Action Plan 20170131'!N73 -> 0 | O73: ='IBS Action Plan 20170131'!P73 -> 0 | P73: ='IBS Action Plan 20170131'!Q73 -> 4 | Q73: ='IBS Action Plan 20170131'!R73 -> 654 | R73: ='IBS Action Plan 20170131'!S73 -> 1938 | S73: ='IBS Action Plan 20170131'!T73 -> 4947 | T73: ='IBS Action Plan 20170131'!U73 -> 1863 | U73: ='IBS Action Plan 20170131'!V73 -> 9406 | V73: ='IBS Action Plan 20170131'!W73 -> 2822.6 | ... X73: ='IBS Action Plan 20170131'!Y73 -> 0 | Y73: =+G73+J73+U73 -> 74230
B74: Volume (m3; @275m3/ha) | C74: ='IBS Action Plan 20170131'!C74 -> 116325 | D74: ='IBS Action Plan 20170131'!D74 -> 908050 | E74: ='IBS Action Plan 20170131'!E74 -> 3846700 | F74: ='IBS Action Plan 20170131'!F74 -> 9041725 | G74: ='IBS Action Plan 20170131'!G74 -> 13912800 | H74: ='IBS Action Plan 20170131'!H74 -> 9391937.5 | I74: ='IBS Action Plan 20170131'!I74 -> 0 | J74: ='IBS Action Plan 20170131'!J74 -> 0 | ... L74: ='IBS Action Plan 20170131'!L74 -> 0 | M74: ='IBS Action Plan 20170131'!N74 -> 0 | O74: ='IBS Action Plan 20170131'!P74 -> 0 | P74: ='IBS Action Plan 20170131'!Q74 -> 0 | Q74: ='IBS Action Plan 20170131'!R74 -> 0 | R74: ='IBS Action Plan 20170131'!S74 -> 0 | S74: ='IBS Action Plan 20170131'!T74 -> 0 | T74: ='IBS Action Plan 20170131'!U74 -> 0 | U74: ='IBS Action Plan 20170131'!V74 -> 0 | V74: ='IBS Action Plan 20170131'!W74 -> 0 | ... X74: ='IBS Action Plan 20170131'!Y74 -> 0
A75: Total | B75: Within Omineca Region | C75: ='IBS Action Plan 20170131'!C75 -> 2876.7891 | D75: ='IBS Action Plan 20170131'!D75 -> 4669.1657 | E75: ='IBS Action Plan 20170131'!E75 -> 23543.412 | F75: ='IBS Action Plan 20170131'!F75 -> 44489.589 | G75: ='IBS Action Plan 20170131'!G75 -> 75578.955 | H75: ='IBS Action Plan 20170131'!H75 -> 53334.161 | I75: ='IBS Action Plan 20170131'!I75 -> 0.70567476 | J75: ='IBS Action Plan 20170131'!J75 -> 28282.732 | ... L75: ='IBS Action Plan 20170131'!L75 -> 88769.597 | M75: ='IBS Action Plan 20170131'!N75 -> 0 | O75: ='IBS Action Plan 20170131'!P75 -> 0 | P75: ='IBS Action Plan 20170131'!Q75 -> 588.45889 | Q75: ='IBS Action Plan 20170131'!R75 -> 797.29147 | R75: ='IBS Action Plan 20170131'!S75 -> 12849.176 | S75: ='IBS Action Plan 20170131'!T75 -> 10704.715 | T75: ='IBS Action Plan 20170131'!U75 -> 7460.7982 | U75: ='IBS Action Plan 20170131'!V75 -> 32400.439 | V75: ='IBS Action Plan 20170131'!W75 -> 13124.239 | W75: ='IBS Action Plan 20170131'!X75 -> 19276.2 | Y75: =+G75+J75+U75 -> 136262.13
B76: Volume (m3; @275m3/ha) | C76: ='IBS Action Plan 20170131'!C76 -> 791117.01 | D76: ='IBS Action Plan 20170131'!D76 -> 1284020.6 | E76: ='IBS Action Plan 20170131'!E76 -> 6474438.3 | F76: ='IBS Action Plan 20170131'!F76 -> 12234637 | G76: ='IBS Action Plan 20170131'!G76 -> 20784213 | H76: ='IBS Action Plan 20170131'!H76 -> 14666894 | I76: ='IBS Action Plan 20170131'!I76 -> 0 | J76: ='IBS Action Plan 20170131'!J76 -> 0 | ... L76: ='IBS Action Plan 20170131'!L76 -> 0 | M76: ='IBS Action Plan 20170131'!N76 -> 0
Y77: ='IBS Action Plan 20170131'!Z76 -> 0
A78: ='IBS Action Plan 20170131'!A77 -> 0 | B78: ='IBS Action Plan 20170131'!B77 -> 0 | C78: ='IBS Action Plan 20170131'!C77 -> 0 | D78: ='IBS Action Plan 20170131'!D77 -> 0 | E78: ='IBS Action Plan 20170131'!E77 -> 0 | F78: ='IBS Action Plan 20170131'!F77 -> 0 | G78: ='IBS Action Plan 20170131'!G77 -> 0 | H78: ='IBS Action Plan 20170131'!H77 -> 0 | ... L78: ='IBS Action Plan 20170131'!L77 -> 0 | M78: ='IBS Action Plan 20170131'!N77 -> 0 | N78: ='IBS Action Plan 20170131'!O77 -> 0 | O78: ='IBS Action Plan 20170131'!P77 -> 0 | P78: ='IBS Action Plan 20170131'!Q77 -> 0 | Q78: ='IBS Action Plan 20170131'!R77 -> 0 | R78: ='IBS Action Plan 20170131'!S77 -> 0 | S78: ='IBS Action Plan 20170131'!T77 -> 0 | T78: ='IBS Action Plan 20170131'!U77 -> 0 | ... Y78: ='IBS Action Plan 20170131'!Z77 -> 0

Sheet Total AOS Slide
A1: Spruce Beetle Action Plan - Omineca Region | B1: ='IBS Action Plan 20170131'!A1 -> Spruce Beetle Action Plan - Omineca Region
A2: 42766 | B2: ='IBS Action Plan 20170131'!A2 -> 42766
A4: Merged 2014-2016 Aerial Overview Survey (AOS) Information | O4: Constrained | Y4: Total
A5: Licensee Operating Area | B5: Licensee by Timber Supply Area | C5: SEVERITY | G5: Total | H5: Estimated | I5: % Area to Harvest | J5: Monitor | K5: Steep Slope | L5: Conventional | M5: Proposed | O5: Reason for Constraint | P5: SEVERITY | V5: Cable | W5: Conventional | X5: Rationale | Y5: ='IBS Action Plan 20170131'!Z5:Z7 -> Total Area AOS + Monitor + Constrained (ha)
C6: VS | D6: S | E6: M | F6: L | G6: Area | H6: Average | I6: / | J6: Trap Tree/Trace | K6: Area (ha) | L6: Area (ha) | M6: Action | P6: VS | Q6: S | R6: M | S6: L | T6: T | U6: Total | V6: Area | W6: Area | X6: NDU, Road, Other
C7: Hectares | D7: Hectares | E7: Hectares | F7: Hectares | G7: AOS (ha) | H7: Area to Harvest (ha) | I7: Total Area AOS | J7: (ha) | K7: All severity | L7: All severity | M7: Year | P7: Hectares | Q7: Hectares | R7: Hectares | S7: Hectares | T7: Hectares | U7: Hectares | V7: Hectares | W7: Hectares
C8: 50-100% | D8: 30-49% | E8: 11-29% | F8: 1-10% | G8: VS,S,M,L | J8: 0-1%
A9: BCTS MK | B9: Klawli / Gillis | C9: 0 | D9: 0 | E9: 588 | F9: 1346 | G9: ='IBS Action Plan 20170131'!G8 -> 0 | H9: =C9+D9+E9+F9*0.5 -> 1261 | I9: =IF(G9<1,0,H9/G9) -> 0 | J9: 5704 | K9: 0 | L9: 7638 | M9: 2020 - 22 | O9: - | P9: - | Q9: - | R9: - | S9: - | T9: 425 | U9: =SUM(P9:T9) -> 425 | V9: 170 | W9: 255 | X9: Other | Y9: =+G9+J9+U9 -> 6129
B10: Parsnip / Clearwater / Pardonet | C10: 0 | D10: 0 | E10: 748 | F10: 1530 | G10: =SUM(C10:F10) -> 2278 | H10: =C10+D10+E10+F10*0.5 -> 1513 | I10: =IF(G10<1,0,H10/G10) -> 0.6641791 | J10: 236 | K10: 1005 | L10: 1509 | M10: 2017 - 2020 | O10: Economic | P10: - | Q10: - | R10: 437 | S10: 3554 | T10: 4713 | U10: =SUM(P10:T10) -> 8704 | V10: 3481.6 | W10: 5222.4 | X10: Roads, other | Y10: =+G10+J10+U10 -> 11218
B11: Phillip / Blackwater / Hwy97 | C11: 0 | D11: 711 | E11: 5061 | F11: 3285 | G11: =SUM(C11:F11) -> 9057 | H11: =C11+D11+E11+F11*0.5 -> 7414.5 | I11: =IF(G11<1,0,H11/G11) -> 0.81864856 | J11: 433 | K11: 3796 | L11: 5694 | M11: 2017 - 2021 | O11: Economic | P11: - | Q11: - | R11: 9563 | S11: 2026 | T11: 55 | U11: =SUM(P11:T11) -> 11644 | V11: 4657.6 | W11: 6986.4 | X11: Roads, other | Y11: =+G11+J11+U11 -> 21134
B12: Agreements | C12: 0 | D12: 0 | E12: 0 | F12: 2727 | G12: =SUM(C12:F12) -> 2727 | H12: =C12+D12+E12+F12*0.5 -> 1363.5 | I12: =IF(G12<1,0,H12/G12) -> 0.5 | J12: 2205 | K12: 0 | L12: 4932 | M12: 2017 - 2022 | O12: - | P12: - | Q12: - | R12: - | S12: - | T12: - | U12: =SUM(P12:T12) -> 0 | V12: 0 | W12: 0 | Y12: =+G12+J12+U12 -> 4932
A13: Subtotal | B13: BCTS MK TSA | C13: =SUM(C9:C12) -> 0 | D13: =SUM(D9:D12) -> 711 | E13: =SUM(E9:E12) -> 6397 | F13: =SUM(F9:F12) -> 8888 | G13: =SUM(C13:F13) -> 15996 | H13: =C13+D13+E13+F13*0.5 -> 11552 | I13: =IF(G13<1,0,H13/G13) -> 0.72218055 | J13: =SUM(J9:J12) -> 8578 | K13: =SUM(K9:K12) -> 4801 | L13: =SUM(L9:L12) -> 19773 | M13: - | O13: - | P13: =SUM(P9:P12) -> 0 | Q13: =SUM(Q9:Q12) -> 0 | R13: =SUM(R9:R12) -> 10000 | S13: =SUM(S9:S12) -> 5580 | T13: =SUM(T9:T12) -> 5193 | U13: =SUM(U9:U12) -> 20773 | V13: =SUM(V9:V12) -> 8309.2 | W13: =SUM(W9:W12) -> 12463.8 | Y13: =+G13+J13+U13 -> 45347
A14: Canfor MK | B14: DMK - Burden | C14: 782 | D14: 404 | E14: 546 | F14: 991 | G14: =SUM(C14:F14) -> 2723 | H14: =C14+D14+E14+F14*0.5 -> 2227.5 | I14: =IF(G14<1,0,H14/G14) -> 0.81803158 | J14: 297 | K14: 205 | L14: 2814 | M14: 2017-2019 | O14: ='IBS Action Plan 20170131'!P14 -> Legal | P14: ='IBS Action Plan 20170131'!Q14 -> 0 | Q14: ='IBS Action Plan 20170131'!R14 -> 0 | R14: ='IBS Action Plan 20170131'!S14 -> 11 | S14: ='IBS Action Plan 20170131'!T14 -> 20 | T14: ='IBS Action Plan 20170131'!U14 -> 10 | U14: ='IBS Action Plan 20170131'!V14 -> 41 | V14: ='IBS Action Plan 20170131'!W14 -> 3 | ... X14: ='IBS Action Plan 20170131'!Y14 -> Fieldwork indicates that the Burden beetle areas are inflated, possibly due to inclusion of 2015 polygons that weren't picked up in 2016 AOS | Y14: =+G14+J14+U14 -> 3061
B15: DMK - Chunamon | C15: 0 | D15: 0 | E15: 0 | F15: 8 | G15: =SUM(C15:F15) -> 8 | H15: =C15+D15+E15+F15*0.5 -> 4 | I15: =IF(G15<1,0,H15/G15) -> 0.5 | J15: 382 | K15: 17 | L15: 372 | M15: 2018-2020 | O15: ='IBS Action Plan 20170131'!P15 -> 0 | P15: ='IBS Action Plan 20170131'!Q15 -> 0 | Q15: ='IBS Action Plan 20170131'!R15 -> 0 | R15: ='IBS Action Plan 20170131'!S15 -> 0 | S15: ='IBS Action Plan 20170131'!T15 -> 0 | T15: ='IBS Action Plan 20170131'!U15 -> 0 | U15: ='IBS Action Plan 20170131'!V15 -> 0 | V15: ='IBS Action Plan 20170131'!W15 -> 0 | ... X15: ='IBS Action Plan 20170131'!Y15 -> 0 | Y15: =+G15+J15+U15 -> 390
B16: DMK - Eklund | C16: 95 | D16: 71 | E16: 14 | F16: 441 | G16: =SUM(C16:F16) -> 621 | H16: =C16+D16+E16+F16*0.5 -> 400.5 | I16: =IF(G16<1,0,H16/G16) -> 0.64492754 | J16: 1239 | K16: 195 | L16: 1665 | M16: 2017-2019 | O16: ='IBS Action Plan 20170131'!P16 -> Legal | P16: ='IBS Action Plan 20170131'!Q16 -> 0 | Q16: ='IBS Action Plan 20170131'!R16 -> 0 | R16: ='IBS Action Plan 20170131'!S16 -> 6 | S16: ='IBS Action Plan 20170131'!T16 -> 0 | T16: ='IBS Action Plan 20170131'!U16 -> 42 | U16: ='IBS Action Plan 20170131'!V16 -> 48 | V16: ='IBS Action Plan 20170131'!W16 -> 0 | ... X16: ='IBS Action Plan 20170131'!Y16 -> Recreation Site; isolated; access | Y16: =+G16+J16+U16 -> 1908
B17: DMK - Holder | C17: 3 | D17: 0 | E17: 4 | F17: 24 | G17: =SUM(C17:F17) -> 31 | H17: =C17+D17+E17+F17*0.5 -> 19 | I17: =IF(G17<1,0,H17/G17) -> 0.61290323 | J17: 160 | K17: 4 | L17: 186 | M17: 2017-2020 | O17: ='IBS Action Plan 20170131'!P17 -> Economic | P17: ='IBS Action Plan 20170131'!Q17 -> 0 | Q17: ='IBS Action Plan 20170131'!R17 -> 0 | R17: ='IBS Action Plan 20170131'!S17 -> 0 | S17: ='IBS Action Plan 20170131'!T17 -> 0 | T17: ='IBS Action Plan 20170131'!U17 -> 5 | U17: ='IBS Action Plan 20170131'!V17 -> 5 | V17: ='IBS Action Plan 20170131'!W17 -> 0 | ... X17: ='IBS Action Plan 20170131'!Y17 -> Access; isolated | Y17: =+G17+J17+U17 -> 196
B18: DMK - Manson | C18: 0 | D18: 10 | E18: 25 | F18: 0 | G18: =SUM(C18:F18) -> 35 | H18: =C18+D18+E18+F18*0.5 -> 35 | I18: =IF(G18<1,0,H18/G18) -> 1 | J18: 612 | K18: 100 | L18: 547 | M18: 2017-2019 | O18: ='IBS Action Plan 20170131'!P18 -> 0 | P18: ='IBS Action Plan 20170131'!Q18 -> 0 | Q18: ='IBS Action Plan 20170131'!R18 -> 0 | R18: ='IBS Action Plan 20170131'!S18 -> 0 | S18: ='IBS Action Plan 20170131'!T18 -> 0 | T18: ='IBS Action Plan 20170131'!U18 -> 0 | U18: ='IBS Action Plan 20170131'!V18 -> 0 | V18: ='IBS Action Plan 20170131'!W18 -> 0 | ... X18: ='IBS Action Plan 20170131'!Y18 -> 0 | Y18: =+G18+J18+U18 -> 647
B19: DMK - Nation | C19: 0 | D19: 0 | E19: 143 | F19: 208 | G19: =SUM(C19:F19) -> 351 | H19: =C19+D19+E19+F19*0.5 -> 247 | I19: =IF(G19<1,0,H19/G19) -> 0.7037037 | J19: 197 | K19: 46 | L19: 503 | M19: 2017-2019 | O19: ='IBS Action Plan 20170131'!P19 -> 0 | P19: ='IBS Action Plan 20170131'!Q19 -> 0 | Q19: ='IBS Action Plan 20170131'!R19 -> 0 | R19: ='IBS Action Plan 20170131'!S19 -> 0 | S19: ='IBS Action Plan 20170131'!T19 -> 0 | T19: ='IBS Action Plan 20170131'!U19 -> 0 | U19: ='IBS Action Plan 20170131'!V19 -> 0 | V19: ='IBS Action Plan 20170131'!W19 -> 0 | ... X19: ='IBS Action Plan 20170131'!Y19 -> 0 | Y19: =+G19+J19+U19 -> 548
B20: DMK - Ospika | C20: 0 | D20: 0 | E20: 0 | F20: 0 | G20: 0 | H20: =C20+D20+E20+F20*0.5 -> 0 | I20: =IF(G20<1,0,H20/G20) -> 0 | J20: 383 | K20: 190 | L20: 193 | M20: 2019-2022 | O20: ='IBS Action Plan 20170131'!P20 -> Economic | P20: ='IBS Action Plan 20170131'!Q20 -> 0 | Q20: ='IBS Action Plan 20170131'!R20 -> 0 | R20: ='IBS Action Plan 20170131'!S20 -> 0 | S20: ='IBS Action Plan 20170131'!T20 -> 0 | T20: ='IBS Action Plan 20170131'!U20 -> 207 | U20: ='IBS Action Plan 20170131'!V20 -> 207 | V20: ='IBS Action Plan 20170131'!W20 -> 69 | ... X20: ='IBS Action Plan 20170131'!Y20 -> Roads, isolated, practicality | Y20: =+G20+J20+U20 -> 590
B21: DMK - Philip Creek | C21: 0 | D21: 0 | E21: 0 | F21: 184 | G21: =SUM(C21:F21) -> 184 | H21: =C21+D21+E21+F21*0.5 -> 92 | I21: =IF(G21<1,0,H21/G21) -> 0.5 | J21: 900 | K21: 39 | L21: 1046 | M21: 2017-2019 | O21: ='IBS Action Plan 20170131'!P21 -> 0 | P21: ='IBS Action Plan 20170131'!Q21 -> 0 | Q21: ='IBS Action Plan 20170131'!R21 -> 0 | R21: ='IBS Action Plan 20170131'!S21 -> 0 | S21: ='IBS Action Plan 20170131'!T21 -> 0 | T21: ='IBS Action Plan 20170131'!U21 -> 0 | U21: ='IBS Action Plan 20170131'!V21 -> 0 | V21: ='IBS Action Plan 20170131'!W21 -> 0 | ... X21: ='IBS Action Plan 20170131'!Y21 -> 0 | Y21: =+G21+J21+U21 -> 1084
B22: DMK - Rupert | C22: 0 | D22: 8 | E22: 8 | F22: 293 | G22: =SUM(C22:F22) -> 309 | H22: =C22+D22+E22+F22*0.5 -> 162.5 | I22: =IF(G22<1,0,H22/G22) -> 0.52588997 | J22: 226 | K22: 41 | L22: 495 | M22: 2018-2020 | O22: ='IBS Action Plan 20170131'!P22 -> 0 | P22: ='IBS Action Plan 20170131'!Q22 -> 0 | Q22: ='IBS Action Plan 20170131'!R22 -> 0 | R22: ='IBS Action Plan 20170131'!S22 -> 0 | S22: ='IBS Action Plan 20170131'!T22 -> 0 | T22: ='IBS Action Plan 20170131'!U22 -> 0 | U22: ='IBS Action Plan 20170131'!V22 -> 0 | V22: ='IBS Action Plan 20170131'!W22 -> 0 | ... X22: ='IBS Action Plan 20170131'!Y22 -> 0 | Y22: =+G22+J22+U22 -> 535
A23: Subtotal | B23: Canfor MK TSA | C23: =SUM(C14:C22) -> 880 | D23: =SUM(D14:D22) -> 493 | E23: =SUM(E14:E22) -> 740 | F23: =SUM(F14:F22) -> 2149 | G23: =SUM(C23:F23) -> 4262 | H23: =C23+D23+E23+F23*0.5 -> 3187.5 | I23: =IF(G23<1,0,H23/G23) -> 0.74788832 | J23: =SUM(J14:J22) -> 4396 | K23: =SUM(K14:K22) -> 837 | L23: =SUM(L14:L22) -> 7821 | O23: ='IBS Action Plan 20170131'!P23 -> 0 | P23: ='IBS Action Plan 20170131'!Q23 -> 0 | Q23: ='IBS Action Plan 20170131'!R23 -> 0 | R23: ='IBS Action Plan 20170131'!S23 -> 17 | S23: ='IBS Action Plan 20170131'!T23 -> 20 | T23: ='IBS Action Plan 20170131'!U23 -> 264 | U23: ='IBS Action Plan 20170131'!V23 -> 301 | V23: ='IBS Action Plan 20170131'!W23 -> 72 | ... X23: ='IBS Action Plan 20170131'!Y23 -> 0 | Y23: =+G23+J23+U23 -> 8959
A24: Conifex | B24: Parsnip | C24: 1573.7891 | D24: 163.1657 | E24: 2418.412 | F24: 565.98814 | G24: =SUM(C24:F24) -> 4721.355 | H24: =C24+D24+E24+F24*0.5 -> 4438.3609 | I24: =IF(G24<1,0,H24/G24) -> 0.94006084 | J24: 343.88704 | K24: 811.97203 | L24: 4253.27 | M24: 2016-2020 | O24: ='IBS Action Plan 20170131'!P24 -> Economic | P24: ='IBS Action Plan 20170131'!Q24 -> 497.58506 | Q24: ='IBS Action Plan 20170131'!R24 -> 143.29147 | R24: ='IBS Action Plan 20170131'!S24 -> 862.97543 | S24: ='IBS Action Plan 20170131'!T24 -> 157.71463 | T24: ='IBS Action Plan 20170131'!U24 -> 85.922109 | U24: ='IBS Action Plan 20170131'!V24 -> 1747.4887 | V24: ='IBS Action Plan 20170131'!W24 -> 1747.4887 | ... X24: ='IBS Action Plan 20170131'!Y24 -> Road Access, practicality | Y24: =+G24+J24+U24 -> 6812.7307
B25: Chunamon | C25: 0 | D25: 0 | E25: 0 | F25: 7.60052 | G25: =SUM(C25:F25) -> 7.60052 | H25: =C25+D25+E25+F25*0.5 -> 3.80026 | I25: =IF(G25<1,0,H25/G25) -> 0.5 | J25: 668.43456 | K25: 26.11866 | L25: 650.04986 | M25: 2017-2018 | O25: ='IBS Action Plan 20170131'!P25 -> Economic | P25: ='IBS Action Plan 20170131'!Q25 -> 0 | Q25: ='IBS Action Plan 20170131'!R25 -> 0 | R25: ='IBS Action Plan 20170131'!S25 -> 0 | S25: ='IBS Action Plan 20170131'!T25 -> 0 | T25: ='IBS Action Plan 20170131'!U25 -> 43.571154 | U25: ='IBS Action Plan 20170131'!V25 -> 43.571154 | V25: ='IBS Action Plan 20170131'!W25 -> 43.571154 | ... X25: ='IBS Action Plan 20170131'!Y25 -> Road Access, practicality | Y25: =+G25+J25+U25 -> 719.60623
B26: Morfee | C26: 0 | D26: 0 | E26: 0 | F26: 0 | G26: 0 | H26: =C26+D26+E26+F26*0.5 -> 0 | I26: =IF(G26<1,0,H26/G26) -> 0 | J26: 64.410451 | K26: 0 | L26: 64.27701 | M26: 2017 | O26: ='IBS Action Plan 20170131'!P26 -> Economic | P26: ='IBS Action Plan 20170131'!Q26 -> 86.87382 | Q26: ='IBS Action Plan 20170131'!R26 -> 0 | R26: ='IBS Action Plan 20170131'!S26 -> 31.200416 | S26: ='IBS Action Plan 20170131'!T26 -> 0 | T26: ='IBS Action Plan 20170131'!U26 -> 11.304932 | U26: ='IBS Action Plan 20170131'!V26 -> 129.37917 | V26: ='IBS Action Plan 20170131'!W26 -> 129.37917 | ... X26: ='IBS Action Plan 20170131'!Y26 -> Road Access, practicality | Y26: =+G26+J26+U26 -> 193.78962
A27: Subtotal | B27: Conifex MK TSA | C27: =SUM(C24:C26) -> 1573.7891 | D27: =SUM(D24:D26) -> 163.1657 | E27: =SUM(E24:E26) -> 2418.412 | F27: =SUM(F24:F26) -> 573.58866 | G27: =SUM(C27:F27) -> 4728.9555 | H27: =C27+D27+E27+F27*0.5 -> 4442.1612 | I27: =IF(G27<1,0,H27/G27) -> 0.93935356 | J27: =SUM(J24:J26) -> 1076.7321 | K27: =SUM(K24:K26) -> 838.09069 | L27: =SUM(L24:L26) -> 4967.5968 | O27: ='IBS Action Plan 20170131'!P27 -> 0 | P27: ='IBS Action Plan 20170131'!Q27 -> 584.45889 | Q27: ='IBS Action Plan 20170131'!R27 -> 143.29147 | R27: ='IBS Action Plan 20170131'!S27 -> 894.17585 | S27: ='IBS Action Plan 20170131'!T27 -> 157.71463 | T27: ='IBS Action Plan 20170131'!U27 -> 140.7982 | U27: ='IBS Action Plan 20170131'!V27 -> 1920.439 | V27: ='IBS Action Plan 20170131'!W27 -> 1920.439 | ... X27: ='IBS Action Plan 20170131'!Y27 -> 0 | Y27: =+G27+J27+U27 -> 7726.1266
A28: Total | B28: MK TSA | C28: =C13+C23+C27 -> 2453.7891 | D28: =D13+D23+D27 -> 1367.1657 | E28: =E13+E23+E27 -> 9555.412 | F28: =F13+F23+F27 -> 11610.589 | G28: =G13+G23+G27 -> 24986.955 | H28: =C28+D28+E28+F28*0.5 -> 19181.661 | I28: =IF(G28<1,0,H28/G28) -> 0.767667 | J28: =J13+J23+J27 -> 14050.732 | K28: =K13+K23+K27 -> 6476.0907 | L28: =L13+L23+L27 -> 32561.597 | O28: ='IBS Action Plan 20170131'!P28 -> 0 | P28: ='IBS Action Plan 20170131'!Q28 -> 584.45889 | Q28: ='IBS Action Plan 20170131'!R28 -> 143.29147 | R28: ='IBS Action Plan 20170131'!S28 -> 10911.176 | S28: ='IBS Action Plan 20170131'!T28 -> 5757.7146 | T28: ='IBS Action Plan 20170131'!U28 -> 5597.7982 | U28: ='IBS Action Plan 20170131'!V28 -> 22994.439 | V28: ='IBS Action Plan 20170131'!W28 -> 10301.639 | W28: ='IBS Action Plan 20170131'!X28 -> 12692.8 | Y28: =+G28+J28+U28 -> 62032.127
B29: Volume (m3; @275m3/ha) | C29: =C28*275 -> 674792.01 | D29: =D28*275 -> 375970.57 | E29: =E28*275 -> 2627738.3 | F29: =F28*275 -> 3192911.9 | G29: =G28*275 -> 6871412.8 | H29: =C29+D29+E29+F29*0.5 -> 5274956.8 | Y29: =+G29+J29+U29 -> 6871412.8
A30: BCTS PG | B30: Angusmac | C30: 0 | D30: 27 | E30: 0 | F30: 43 | G30: =SUM(C30:F30) -> 70 | H30: =C30+D30+E30+F30*0.5 -> 48.5 | I30: =IF(G30<1,0,H30/G30) -> 0.69285714 | J30: 94 | K30: 1 | L30: 163 | M30: 2018 - 19 | P30: - | Q30: - | R30: - | S30: - | T30: - | U30: =SUM(P30:T30) -> 0 | Y30: =+G30+J30+U30 -> 164
B31: Chuchinka | C31: 0 | D31: 0 | E31: 0 | F31: 55 | G31: =SUM(C31:F31) -> 55 | H31: =C31+D31+E31+F31*0.5 -> 27.5 | I31: =IF(G31<1,0,H31/G31) -> 0.5 | J31: 34 | K31: - | L31: 89 | M31: 2019 - 20 | P31: - | Q31: - | R31: - | S31: - | T31: - | U31: =SUM(P31:T31) -> 0 | Y31: =+G31+J31+U31 -> 89
B32: Colburne | C32: 0 | D32: 8 | E32: 268 | F32: 2160 | G32: =SUM(C32:F32) -> 2436 | H32: =C32+D32+E32+F32*0.5 -> 1356 | I32: =IF(G32<1,0,H32/G32) -> 0.55665025 | J32: 542 | K32: 285 | L32: 2692 | M32: 2017 - 18 | O32: Economic | P32: - | Q32: - | R32: - | S32: - | T32: 28 | U32: =SUM(P32:T32) -> 28 | X32: Isolated | Y32: =+G32+J32+U32 -> 3006
B33: Dome | C33: 0 | D33: 0 | E33: 0 | F33: 0 | G33: 0 | H33: =C33+D33+E33+F33*0.5 -> 0 | I33: =IF(G33<1,0,H33/G33) -> 0 | J33: 0 | K33: - | L33: - | O33: Economic | P33: - | Q33: - | R33: - | S33: - | T33: 70 | U33: =SUM(P33:T33) -> 70 | X33: Isolated | Y33: =+G33+J33+U33 -> 70
B34: Firth | C34: 0 | D34: 92 | E34: 69 | F34: 627 | G34: =SUM(C34:F34) -> 788 | H34: =C34+D34+E34+F34*0.5 -> 474.5 | I34: =IF(G34<1,0,H34/G34) -> 0.60215736 | J34: 324 | K34: 13 | L34: 1099 | M34: 2019 - 20 | P34: - | Q34: - | R34: - | S34: - | T34: - | U34: =SUM(P34:T34) -> 0 | Y34: =+G34+J34+U34 -> 1112
B35: Hominka | C35: 0 | D35: 17 | E35: 1023 | F35: 2950 | G35: =SUM(C35:F35) -> 3990 | H35: =C35+D35+E35+F35*0.5 -> 2515 | I35: =IF(G35<1,0,H35/G35) -> 0.63032581 | J35: 299 | K35: 1822 | L35: 2468 | M35: 2018 - 19 | P35: - | Q35: - | R35: - | S35: - | T35: - | U35: =SUM(P35:T35) -> 0 | Y35: =+G35+J35+U35 -> 4289
B36: Mcleod | C36: 0 | D36: 0 | E36: 109 | F36: 1313 | G36: =SUM(C36:F36) -> 1422 | H36: =C36+D36+E36+F36*0.5 -> 765.5 | I36: =IF(G36<1,0,H36/G36) -> 0.5383263 | J36: 504 | K36: 132 | L36: 1795 | M36: 2021 - 22 | P36: - | Q36: - | R36: - | S36: - | T36: - | U36: =SUM(P36:T36) -> 0 | Y36: =+G36+J36+U36 -> 1926
B37: Missinka | C37: 0 | D37: 0 | E37: 0 | F37: 0 | G37: 0 | H37: =C37+D37+E37+F37*0.5 -> 0 | I37: =IF(G37<1,0,H37/G37) -> 0 | J37: 0 | K37: - | L37: - | O37: Economic | P37: - | Q37: - | R37: - | S37: 37 | T37: - | U37: =SUM(P37:T37) -> 37 | X37: Isolated | Y37: =+G37+J37+U37 -> 37
B38: Parsnip | C38: 0 | D38: 0 | E38: 0 | F38: 94 | G38: =SUM(C38:F38) -> 94 | H38: =C38+D38+E38+F38*0.5 -> 47 | I38: =IF(G38<1,0,H38/G38) -> 0.5 | J38: 0 | K38: 53 | L38: 41 | M38: 2021 - 22 | O38: Economic | P38: - | Q38: - | R38: 2 | S38: - | T38: - | U38: =SUM(P38:T38) -> 2 | X38: Isolated | Y38: =+G38+J38+U38 -> 96
B39: Reynolds | C39: 0 | D39: 26 | E39: 16 | F39: 485 | G39: =SUM(C39:F39) -> 527 | H39: =C39+D39+E39+F39*0.5 -> 284.5 | I39: =IF(G39<1,0,H39/G39) -> 0.5398482 | J39: 340 | K39: 25 | L39: 842 | M39: 2020 - 21 | O39: Economic | P39: - | Q39: 173 | R39: 0 | S39: 35 | T39: 119 | U39: =SUM(P39:T39) -> 327 | X39: Roads, other, NDU | Y39: =+G39+J39+U39 -> 1194
B40: Summit Lake | C40: 0 | D40: 166 | E40: 132 | F40: 9 | G40: =SUM(C40:F40) -> 307 | H40: =C40+D40+E40+F40*0.5 -> 302.5 | I40: =IF(G40<1,0,H40/G40) -> 0.98534202 | J40: 507 | K40: 5 | L40: 811 | M40: 2017 - 18 | P40: - | R40: - | S40: - | T40: - | U40: =SUM(P40:T40) -> 0 | Y40: =+G40+J40+U40 -> 814
A41: Subtotal | B41: BCTS PG District | C41: =SUM(C30:C40) -> 0 | D41: =SUM(D30:D40) -> 336 | E41: =SUM(E30:E40) -> 1617 | F41: =SUM(F30:F40) -> 7736 | G41: =SUM(C41:F41) -> 9689 | H41: =C41+D41+E41+F41*0.5 -> 5821 | I41: =IF(G41<1,0,H41/G41) -> 0.60078439 | J41: =SUM(J30:J40) -> 2644 | K41: =SUM(K30:K40) -> 2336 | L41: =SUM(L30:L40) -> 10000 | O41: - | P41: =SUM(P30:P40) -> 0 | Q41: =SUM(Q30:Q40) -> 173 | R41: =SUM(R30:R40) -> 2 | S41: =SUM(S30:S40) -> 72 | T41: =SUM(T30:T40) -> 217 | U41: =SUM(P41:T41) -> 464 | V41: =SUM(V30:V40) -> 0 | W41: =SUM(W30:W40) -> 0 | Y41: =+G41+J41+U41 -> 12797
A42: Canfor PG | B42: DPG - Ames | C42: 0 | D42: 0 | E42: 0 | F42: 19 | G42: =SUM(C42:F42) -> 19 | H42: =C42+D42+E42+F42*0.5 -> 9.5 | I42: =IF(G42<1,0,H42/G42) -> 0.5 | J42: 0 | K42: - | L42: 19 | M42: 2017-2019 | P42: - | Q42: - | R42: - | S42: - | T42: - | U42: =SUM(P42:T42) -> 0 | Y42: =+G42+J42+U42 -> 19
B43: DPG - Anzac | C43: 0 | D43: 443 | E43: 383 | F43: 3308 | G43: =SUM(C43:F43) -> 4134 | H43: =C43+D43+E43+F43*0.5 -> 2480 | I43: =IF(G43<1,0,H43/G43) -> 0.59990324 | J43: 2048 | K43: 693 | L43: 5489 | M43: 2017-2021 | P43: - | Q43: - | R43: - | S43: - | T43: - | U43: =SUM(P43:T43) -> 0 | Y43: =+G43+J43+U43 -> 6182
B44: DPG - Chuchinka | C44: 0 | D44: 70 | E44: 439 | F44: 444 | G44: =SUM(C44:F44) -> 953 | H44: =C44+D44+E44+F44*0.5 -> 731 | I44: =IF(G44<1,0,H44/G44) -> 0.76705142 | J44: 414 | K44: 94 | L44: 1273 | M44: 2017-2018 | P44: - | Q44: - | R44: - | S44: - | T44: - | U44: =SUM(P44:T44) -> 0 | Y44: =+G44+J44+U44 -> 1367
B45: DPG - Government | C45: 0 | D45: 0 | E45: 0 | F45: 0 | G45: 0 | H45: =C45+D45+E45+F45*0.5 -> 0 | I45: =IF(G45<1,0,H45/G45) -> 0 | J45: 421 | K45: - | L45: 421 | M45: 2018-2019 | P45: - | Q45: - | R45: - | S45: - | T45: - | U45: =SUM(P45:T45) -> 0 | Y45: =+G45+J45+U45 -> 421
B46: DPG - Herrick | C46: 0 | D46: 0 | E46: 26 | F46: 1289 | G46: =SUM(C46:F46) -> 1315 | H46: =C46+D46+E46+F46*0.5 -> 670.5 | I46: =IF(G46<1,0,H46/G46) -> 0.50988593 | J46: 1202 | K46: 497 | L46: 2019 | M46: 2020-2023 | O46: Legal | P46: - | Q46: - | R46: 9 | S46: 113 | T46: 233 | U46: =SUM(P46:T46) -> 355 | X46: Proposed landscape biodiversity areas for A25 (old forest); likely to be some operability issues as well | Y46: =+G46+J46+U46 -> 2872
B47: DPG - McGregor | C47: 0 | D47: 181 | E47: 1699 | F47: 3131 | G47: =SUM(C47:F47) -> 5011 | H47: =C47+D47+E47+F47*0.5 -> 3445.5 | I47: =IF(G47<1,0,H47/G47) -> 0.68758731 | J47: 417 | K47: 1651 | L47: 3777 | M47: 2017-2024 | O47: Legal | P47: - | Q47: 12 | R47: 392 | S47: 526 | T47: 75 | U47: =SUM(P47:T47) -> 1005 | X47: Proposed landscape biodiversity areas for A25 (old forest) | Y47: =+G47+J47+U47 -> 6433
B48: DPG - McLeod | C48: 0 | D48: 0 | E48: 0 | F48: 366 | G48: =SUM(C48:F48) -> 366 | H48: =C48+D48+E48+F48*0.5 -> 183 | I48: =IF(G48<1,0,H48/G48) -> 0.5 | J48: 3 | K48: - | L48: 370 | M48: 2018-2019 | P48: - | Q48: - | R48: - | S48: - | T48: - | U48: =SUM(P48:T48) -> 0 | Y48: =+G48+J48+U48 -> 369
B49: DPG - Muskeg | C49: 0 | D49: 0 | E49: 0 | F49: 21 | G49: =SUM(C49:F49) -> 21 | H49: =C49+D49+E49+F49*0.5 -> 10.5 | I49: =IF(G49<1,0,H49/G49) -> 0.5 | J49: 191 | K49: - | L49: 212 | M49: 2017-2019 | P49: - | Q49: - | R49: - | S49: - | T49: - | U49: =SUM(P49:T49) -> 0 | Y49: =+G49+J49+U49 -> 212
B50: DPG - Otter | C50: 0 | D50: 0 | E50: 0 | F50: 0 | G50: 0 | H50: =C50+D50+E50+F50*0.5 -> 0 | I50: =IF(G50<1,0,H50/G50) -> 0 | J50: 59 | K50: 2 | L50: 57 | M50: 2018-2020 | P50: - | Q50: - | R50: - | S50: - | T50: - | U50: =SUM(P50:T50) -> 0 | Y50: =+G50+J50+U50 -> 59
B51: DPG - Pinkerton | C51: 0 | D51: 0 | E51: 0 | F51: 37 | G51: =SUM(C51:F51) -> 37 | H51: =C51+D51+E51+F51*0.5 -> 18.5 | I51: =IF(G51<1,0,H51/G51) -> 0.5 | J51: 27 | K51: - | L51: 64 | M51: 2017-2018 | P51: - | Q51: - | R51: - | S51: - | T51: - | U51: =SUM(P51:T51) -> 0 | Y51: =+G51+J51+U51 -> 64
B52: DPG - Salmon | C52: 59 | D52: 29 | E52: 73 | F52: 440 | G52: =SUM(C52:F52) -> 601 | H52: =C52+D52+E52+F52*0.5 -> 381 | I52: =IF(G52<1,0,H52/G52) -> 0.63394343 | J52: 24 | K52: 5 | L52: 620 | M52: 2017-2018 | P52: - | Q52: - | R52: - | S52: - | T52: - | U52: =SUM(P52:T52) -> 0 | Y52: =+G52+J52+U52 -> 625
B53: DPG - Stony | C53: 0 | D53: 0 | E53: 0 | F53: 0 | G53: =SUM(C53:F53) -> 0 | H53: =C53+D53+E53+F53*0.5 -> 0 | I53: =IF(G53<1,0,H53/G53) -> 0 | J53: 235 | K53: 29 | L53: 206 | M53: 2020 | P53: - | Q53: - | R53: - | S53: - | T53: - | U53: =SUM(P53:T53) -> 0 | Y53: =+G53+J53+U53 -> 235
B54: DPG - TFL30 | C54: 0 | D54: 0 | E54: 50 | F54: 3747 | G54: =SUM(C54:F54) -> 3797 | H54: =C54+D54+E54+F54*0.5 -> 1923.5 | I54: =IF(G54<1,0,H54/G54) -> 0.50658415 | J54: 4179 | K54: 224 | L54: 7752 | M54: 2017-2023 | O54: Legal | P54: - | Q54: - | R54: 0 | S54: 891 | T54: 1298 | U54: =SUM(P54:T54) -> 2189 | X54: TFL 30 OGMA | Y54: =+G54+J54+U54 -> 10165
B55: DPG - Torpy | C55: 0 | D55: 0 | E55: 1 | F55: 0 | G55: =SUM(C55:F55) -> 1 | H55: =C55+D55+E55+F55*0.5 -> 1 | I55: =IF(G55<1,0,H55/G55) -> 1 | J55: 0 | K55: - | L55: 1 | M55: 2019-2021 | O55: Legal | P55: - | Q55: - | R55: 14 | S55: - | T55: 16 | U55: =SUM(P55:T55) -> 30 | X55: A25 NDU Biodiversity | Y55: =+G55+J55+U55 -> 31
B56: DPG - Tumuch | C56: 0 | D56: 0 | E56: 0 | F56: 15 | G56: =SUM(C56:F56) -> 15 | H56: =C56+D56+E56+F56*0.5 -> 7.5 | I56: =IF(G56<1,0,H56/G56) -> 0.5 | J56: 293 | K56: 35 | L56: 273 | M56: 2017-2019 | P56: - | Q56: - | R56: - | S56: - | T56: - | U56: =SUM(P56:T56) -> 0 | Y56: =+G56+J56+U56 -> 308
B57: DPG - War | C57: 0 | D57: 0 | E57: 0 | F57: 663 | G57: =SUM(C57:F57) -> 663 | H57: =C57+D57+E57+F57*0.5 -> 331.5 | I57: =IF(G57<1,0,H57/G57) -> 0.5 | J57: 1036 | K57: 12 | L57: 1687 | M57: 2017-2018 | P57: - | Q57: - | R57: - | S57: - | T57: - | U57: =SUM(P57:T57) -> 0 | Y57: =+G57+J57+U57 -> 1699
B58: DPG - Weedon | C58: 0 | D58: 0 | E58: 0 | F58: 35 | G58: =SUM(C58:F58) -> 35 | H58: =C58+D58+E58+F58*0.5 -> 17.5 | I58: =IF(G58<1,0,H58/G58) -> 0.5 | J58: 6 | K58: - | L58: 41 | M58: 2018 | P58: - | Q58: - | R58: - | S58: - | T58: - | U58: =SUM(P58:T58) -> 0 | Y58: =+G58+J58+U58 -> 41
A59: Subtotal | B59: Canfor PG District + TFL 30 | C59: =SUM(C42:C58) -> 59 | D59: =SUM(D42:D58) -> 723 | E59: =SUM(E42:E58) -> 2671 | F59: =SUM(F42:F58) -> 13515 | G59: =SUM(C59:F59) -> 16968 | H59: =C59+D59+E59+F59*0.5 -> 10210.5 | I59: =IF(G59<1,0,H59/G59) -> 0.60175035 | J59: =SUM(J42:J58) -> 10555 | K59: =SUM(K42:K58) -> 3242 | L59: =SUM(L42:L58) -> 24281 | P59: =SUM(P42:P58) -> 0 | Q59: =SUM(Q42:Q58) -> 12 | R59: =SUM(R42:R58) -> 415 | S59: =SUM(S42:S58) -> 1530 | T59: =SUM(T42:T58) -> 1622 | U59: =SUM(P59:T59) -> 3579 | V59: =SUM(V42:V58) -> 0 | W59: =SUM(W42:W58) -> 0 | X59: =SUM(X42:X58) -> 0 | Y59: =+G59+J59+U59 -> 31102
A60: Sinclar | B60: Bear Lake West | C60: 44 | D60: 805 | E60: 2236 | F60: 3023 | G60: =SUM(C60:F60) -> 6108 | H60: =C60+D60+E60+F60*0.5 -> 4596.5 | I60: =IF(G60<1,0,H60/G60) -> 0.75253766 | J60: 149 | K60: 138 | L60: =C60+D60+E60+F60+J60-K60 -> 6119 | M60: 2017-23 | P60: 0 | Q60: 0 | R60: 0 | S60: 0 | T60: 0 | U60: =SUM(P60:T60) -> 0 | V60: 0 | Y60: =+G60+J60+U60 -> 6257
B61: Carp | C61: 117 | D61: 17 | E61: 128 | F61: 169 | G61: =SUM(C61:F61) -> 431 | H61: =C61+D61+E61+F61*0.5 -> 346.5 | I61: =IF(G61<1,0,H61/G61) -> 0.80394432 | J61: 36 | K61: 5 | L61: =C61+D61+E61+F61+J61-K61 -> 462 | M61: 2017-23 | P61: 0 | Q61: 0 | R61: 0 | S61: 0 | T61: 0 | U61: =SUM(P61:T61) -> 0 | V61: 0 | Y61: =+G61+J61+U61 -> 467
B62: Wichcika | C62: 0 | D62: 40 | E62: =254+24 -> 278 | F62: =1025+310 -> 1335 | G62: =SUM(C62:F62) -> 1653 | H62: =C62+D62+E62+F62*0.5 -> 985.5 | I62: =IF(G62<1,0,H62/G62) -> 0.59618875 | J62: =31+1 -> 32 | K62: 148 | L62: =C62+D62+E62+F62+J62-K62 -> 1537 | M62: 2017-23 | O62: Legal | P62: 0 | Q62: 0 | R62: 7 | S62: 67 | T62: 0 | U62: =SUM(P62:T62) -> 74 | V62: 8 | W62: =U62-V62 -> 66 | X62: A14/A17 NDU Biodiversity; Road Access, practicality | Y62: =+G62+J62+U62 -> 1759
B63: Parsnip | C63: 0 | D63: =145+680 -> 825 | E63: =603+1725 -> 2328 | F63: =322+1919 -> 2241 | G63: =SUM(C63:F63) -> 5394 | H63: =C63+D63+E63+F63*0.5 -> 4273.5 | I63: =IF(G63<1,0,H63/G63) -> 0.79226919 | J63: =19+92 -> 111 | K63: 1286 | L63: =C63+D63+E63+F63+J63-K63 -> 4219 | M63: 2017-21 | O63: Legal | P63: 4 | Q63: 431 | R63: 1389 | S63: 2926 | T63: 18 | U63: =SUM(P63:T63) -> 4768 | V63: 2092 | W63: =U63-V63 -> 2676 | X63: A14/A17 NDU Biodiversity; Road Access, practicality | Y63: =+G63+J63+U63 -> 10273
B64: Missinka Winton | C64: 0 | D64: =7+72 -> 79 | E64: =613+1068 -> 1681 | F64: =348+1025 -> 1373 | G64: =SUM(C64:F64) -> 3133 | H64: =C64+D64+E64+F64*0.5 -> 2446.5 | I64: =IF(G64<1,0,H64/G64) -> 0.78088094 | J64: =1+135 -> 136 | K64: 706 | L64: =C64+D64+E64+F64+J64-K64 -> 2563 | M64: 2021-23 | O64: Legal | P64: 0 | Q64: 38 | R64: 125 | S64: 352 | T64: 6 | U64: =SUM(P64:T64) -> 521 | V64: 205 | W64: =U64-V64 -> 316 | X64: A14/A17 NDU Biodiversity; Road Access, practicality | Y64: =+G64+J64+U64 -> 3790
B65: Missinka Lakeland | C65: 0 | D65: 0 | E65: 66 | F65: 674 | G65: =SUM(C65:F65) -> 740 | H65: =C65+D65+E65+F65*0.5 -> 403 | I65: =IF(G65<1,0,H65/G65) -> 0.54459459 | J65: 44 | K65: 140 | L65: =C65+D65+E65+F65+J65-K65 -> 644 | M65: 2021-23 | P65: 0 | Q65: 0 | R65: 0 | S65: 0 | T65: 0 | U65: =SUM(P65:T65) -> 0 | Y65: =+G65+J65+U65 -> 784
B66: Table | C66: 0 | D66: 0 | E66: =89+1617 -> 1706 | F66: =419+825 -> 1244 | G66: =SUM(C66:F66) -> 2950 | H66: =C66+D66+E66+F66*0.5 -> 2328 | I66: =IF(G66<1,0,H66/G66) -> 0.78915254 | J66: =18+135 -> 153 | K66: 460 | L66: =C66+D66+E66+F66+J66-K66 -> 2643 | M66: 2021-23 | P66: 0 | Q66: 0 | R66: 0 | S66: 0 | T66: 0 | U66: =SUM(P66:T66) -> 0 | Y66: =+G66+J66+U66 -> 3103
B67: Angusmac | C67: 0 | D67: 8 | E67: 0 | F67: 5 | G67: =SUM(C67:F67) -> 13 | H67: =C67+D67+E67+F67*0.5 -> 10.5 | I67: =IF(G67<1,0,H67/G67) -> 0.80769231 | J67: 54 | K67: 7 | L67: =C67+D67+E67+F67+J67-K67 -> 60 | M67: 2020 | P67: 0 | Q67: 0 | R67: 0 | S67: 0 | T67: 0 | U67: =SUM(P67:T67) -> 0 | Y67: =+G67+J67+U67 -> 67
B68: Bill'S Creek | C68: 144 | D68: 339 | E68: 1054 | F68: 1007 | G68: =SUM(C68:F68) -> 2544 | H68: =C68+D68+E68+F68*0.5 -> 2040.5 | I68: =IF(G68<1,0,H68/G68) -> 0.80208333 | J68: 61 | K68: 86 | L68: =C68+D68+E68+F68+J68-K68 -> 2519 | M68: 2016-23 | P68: 0 | Q68: 0 | R68: 0 | S68: 0 | T68: 0 | U68: =SUM(P68:T68) -> 0 | Y68: =+G68+J68+U68 -> 2605
B69: Kerry | C69: 0 | D69: 0 | E69: 82 | F69: 169 | G69: =SUM(C69:F69) -> 251 | H69: =C69+D69+E69+F69*0.5 -> 166.5 | I69: =IF(G69<1,0,H69/G69) -> 0.66334661 | J69: 140 | K69: 2 | L69: =C69+D69+E69+F69+J69-K69 -> 389 | M69: 2020 | P69: 0 | Q69: 0 | R69: 0 | S69: 0 | T69: 0 | U69: =SUM(P69:T69) -> 0 | Y69: =+G69+J69+U69 -> 391
B70: Goose | C70: 0 | D70: 0 | E70: 15 | F70: 102 | G70: =SUM(C70:F70) -> 117 | H70: =C70+D70+E70+F70*0.5 -> 66 | I70: =IF(G70<1,0,H70/G70) -> 0.56410256 | J70: 65 | K70: 0 | L70: =C70+D70+E70+F70+J70-K70 -> 182 | M70: 2020 | P70: 0 | Q70: 0 | R70: 0 | S70: 0 | T70: 0 | U70: =SUM(P70:T70) -> 0 | Y70: =+G70+J70+U70 -> 182
B71: Tacheeda | C71: 59 | D71: 130 | E71: 126 | F71: 286 | G71: =SUM(C71:F71) -> 601 | H71: =C71+D71+E71+F71*0.5 -> 458 | I71: =IF(G71<1,0,H71/G71) -> 0.76206323 | J71: 52 | K71: 63 | L71: =C71+D71+E71+F71+J71-K71 -> 590 | M71: 2017-19 | P71: 0 | Q71: 0 | R71: 0 | S71: 0 | T71: 0 | U71: =SUM(P71:T71) -> 0 | Y71: =+G71+J71+U71 -> 653
A72: Subtotal | B72: Sinclar PG District | C72: =SUM(C60:C71) -> 364 | D72: =SUM(D60:D71) -> 2243 | E72: =SUM(E60:E71) -> 9700 | F72: =SUM(F60:F71) -> 11628 | G72: =SUM(C72:F72) -> 23935 | H72: =C72+D72+E72+F72*0.5 -> 18121 | I72: =IF(G72<1,0,H72/G72) -> 0.75709212 | J72: =SUM(J60:J71) -> 1033 | K72: =SUM(K60:K71) -> 3041 | L72: =SUM(L60:L71) -> 21927 | P72: =SUM(P60:P71) -> 4 | Q72: =SUM(Q60:Q71) -> 469 | R72: =SUM(R60:R71) -> 1521 | S72: =SUM(S60:S71) -> 3345 | T72: =SUM(T60:T71) -> 24 | U72: =SUM(P72:T72) -> 5363 | V72: =SUM(V60:V71) -> 2305 | W72: =SUM(W60:W71) -> 3058 | X72: =SUM(X60:X71) -> 0 | Y72: =+G72+J72+U72 -> 30331
A73: Total | B73: PG District | C73: =+C41+C59+C72 -> 423 | D73: =+D41+D59+D72 -> 3302 | E73: =+E41+E59+E72 -> 13988 | F73: =+F41+F59+F72 -> 32879 | G73: =+G41+G59+G72 -> 50592 | H73: =+H41+H59+H72 -> 34152.5 | I73: =IF(G73<1,0,H73/G73) -> 0.67505732 | J73: =+J41+J59+J72 -> 14232 | K73: =+K41+K59+K72 -> 8619 | L73: =+L41+L59+L72 -> 56208 | P73: =+P41+P59+P72 -> 4 | Q73: =+Q41+Q59+Q72 -> 654 | R73: =+R41+R59+R72 -> 1938 | S73: =+S41+S59+S72 -> 4947 | T73: =+T41+T59+T72 -> 1863 | U73: =+U41+U59+U72 -> 9406 | V73: =+V41+V59+V72 -> 2305 | W73: =+W41+W59+W72 -> 3058 | Y73: =+G73+J73+U73 -> 74230
B74: Volume (m3; @275m3/ha) | C74: =C73*275 -> 116325 | D74: =D73*275 -> 908050 | E74: =E73*275 -> 3846700 | F74: =F73*275 -> 9041725 | G74: =G73*275 -> 13912800 | H74: =H73*275 -> 9391937.5
A75: Total | B75: Total Within Omineca Region | C75: =C28+C73 -> 2876.7891 | D75: =D28+D73 -> 4669.1657 | E75: =E28+E73 -> 23543.412 | F75: =F28+F73 -> 44489.589 | G75: =G28+G73 -> 75578.955 | H75: =H28+H73 -> 53334.161 | I75: =IF(G75<1,0,H75/G75) -> 0.70567476 | J75: =J28+J73 -> 28282.732 | K75: =K28+K73 -> 15095.091 | L75: =L28+L73 -> 88769.597 | P75: =P28+P73 -> 588.45889 | Q75: =Q28+Q73 -> 797.29147 | R75: =R28+R73 -> 12849.176 | S75: =S28+S73 -> 10704.715 | T75: =T28+T73 -> 7460.7982 | U75: =U28+U73 -> 32400.439 | V75: =V28+V73 -> 12606.639 | W75: =W28+W73 -> 15750.8 | Y75: =+G75+J75+U75 -> 136262.13
B76: Volume (m3; @275m3/ha) | C76: =+C29+C74 -> 791117.01 | D76: =+D29+D74 -> 1284020.6 | E76: =+E29+E74 -> 6474438.3 | F76: =+F29+F74 -> 12234637 | G76: =+G29+G74 -> 20784213 | H76: =+H29+H74 -> 14666894

Sheet Assumptions
B1: ='IBS Action Plan 20170131'!A1 -> Spruce Beetle Action Plan - Omineca Region
B2: ='IBS Action Plan 20170131'!A2 -> 42766
B4: Assumptions
A5: - | B5: Using the agreed to area/volume net downs per Omineca Spruce Beetle Outbreak Area/Volume Net Down Mackenzie and Prince George Timber Supply Areas, December 12, 2016
A6: - | B6: This is a high-level 'snap shot' in time, using assumptions agreed to at collaborative meetings with FLNRO and licensees in the PG TSA
A7: - | B7: A 'check-in' is planned in summer 2017, or early winter of 2017-18, to follow up on net downs and assumptions used for this summary
A8: - | B8: Stand shelf life is accepted as an average of seven years from the time the stand is over 1000 points from ground survey
A9: - | B9: More deliberate work is planned to compare and contrast Aerial Overview Survey (AOS) information and ground probes, to assess infested areas
A10: - | B10: Further net downs may be necessary for aspatial assumptions, as these may be under-estimated considering operational constraints and stand level retention requirements
A11: - | B11: Trap trees will continue to be utilized, particularly where areas are not proposed for harvest in the immediate future
A12: - | B12: Hauling strategies will continue to be implemented to help mitigate further spread of the spruce beetle infestation

Sheet MK TSA
A1: Spruce Beetle Action Plan - Mackenzie Timber Supply Area
A2: ='IBS Action Plan 20170131'!A2 -> 42766
A4: Merged 2014-2016 Aerial Overview Survey Information | O4: Constrained | Y4: Total
A5: Licensee Operating Area | B5: Subunit/Drainage | C5: SEVERITY | G5: Total | H5: Weighted | I5: ='PG TSA'!I5 -> Estimated Area to Harvest ÷ Total Area AOS (%) | K5: Cable | L5: Conventional | M5: Proposed | O5: Reason for Constraint | P5: SEVERITY | V5: Cable | W5: Conventional | X5: Rationale | Y5: Proposed Action
C6: VS | D6: S | E6: M | F6: L | G6: Hectares | H6: Average | J6: Monitor | K6: Hectares | L6: Hectares | M6: Action | P6: VS | Q6: S | R6: M | S6: L | T6: T | U6: Total | V6: Area | W6: Area | X6: NDU, Road, Other | Y6: +
C7: Hectares | D7: Hectares | E7: Hectares | F7: Hectares | G7: Infested (ha) | H7: Infested (ha) | J7: Trap Tree/Trace | K7: All severity | L7: All severity | M7: Year | P7: Hectares | Q7: Hectares | R7: Hectares | S7: Hectares | T7: Hectares | U7: Hectares | V7: Hectares | W7: Hectares | Y7: Constrained
C8: 50-100% | D8: 30-49% | E8: 11-29% | F8: 1-10% | J8: 0-1%
A9: BCTS MK | B9: ='IBS Action Plan 20170131'!B9 -> Klawli / Gillis | C9: ='IBS Action Plan 20170131'!C9 -> 0 | D9: ='IBS Action Plan 20170131'!D9 -> 0 | E9: ='IBS Action Plan 20170131'!E9 -> 588 | F9: ='IBS Action Plan 20170131'!F9 -> 1346 | G9: ='IBS Action Plan 20170131'!G9 -> 1934 | H9: ='IBS Action Plan 20170131'!H9 -> 1261 | I9: ='IBS Action Plan 20170131'!I9 -> 0.65201655 | ... L9: ='IBS Action Plan 20170131'!L9 -> 7638 | M9: ='IBS Action Plan 20170131'!N9 -> 2020 - 22 | O9: ='IBS Action Plan 20170131'!P9 -> Economic | P9: ='IBS Action Plan 20170131'!Q9 -> 0 | Q9: ='IBS Action Plan 20170131'!R9 -> 0 | R9: ='IBS Action Plan 20170131'!S9 -> 0 | S9: ='IBS Action Plan 20170131'!T9 -> 0 | T9: ='IBS Action Plan 20170131'!U9 -> 425 | U9: ='IBS Action Plan 20170131'!V9 -> 425 | V9: ='IBS Action Plan 20170131'!W9 -> 170 | ... Y9: ='IBS Action Plan 20170131'!Z9 -> 8063
B10: ='IBS Action Plan 20170131'!B10 -> Parsnip / Clearwater / Pardonet | C10: ='IBS Action Plan 20170131'!C10 -> 0 | D10: ='IBS Action Plan 20170131'!D10 -> 0 | E10: ='IBS Action Plan 20170131'!E10 -> 748 | F10: ='IBS Action Plan 20170131'!F10 -> 1530 | G10: ='IBS Action Plan 20170131'!G10 -> 2278 | H10: ='IBS Action Plan 20170131'!H10 -> 1513 | I10: ='IBS Action Plan 20170131'!I10 -> 0.6641791 | ... L10: ='IBS Action Plan 20170131'!L10 -> 1509 | M10: ='IBS Action Plan 20170131'!N10 -> 2017 - 2020 | O10: ='IBS Action Plan 20170131'!P10 -> Economic | P10: ='IBS Action Plan 20170131'!Q10 -> 0 | Q10: ='IBS Action Plan 20170131'!R10 -> 0 | R10: ='IBS Action Plan 20170131'!S10 -> 437 | S10: ='IBS Action Plan 20170131'!T10 -> 3554 | T10: ='IBS Action Plan 20170131'!U10 -> 4713 | U10: ='IBS Action Plan 20170131'!V10 -> 8704 | V10: ='IBS Action Plan 20170131'!W10 -> 3481.6 | ... Y10: ='IBS Action Plan 20170131'!Z10 -> 11218
B11: ='IBS Action Plan 20170131'!B11 -> Phillip / Blackwater / Hwy97 | C11: ='IBS Action Plan 20170131'!C11 -> 0 | D11: ='IBS Action Plan 20170131'!D11 -> 711 | E11: ='IBS Action Plan 20170131'!E11 -> 5061 | F11: ='IBS Action Plan 20170131'!F11 -> 3285 | G11: ='IBS Action Plan 20170131'!G11 -> 9057 | H11: ='IBS Action Plan 20170131'!H11 -> 7414.5 | I11: ='IBS Action Plan 20170131'!I11 -> 0.81864856 | ... L11: ='IBS Action Plan 20170131'!L11 -> 5694 | M11: ='IBS Action Plan 20170131'!N11 -> 2017 - 2021 | O11: ='IBS Action Plan 20170131'!P11 -> Economic | P11: ='IBS Action Plan 20170131'!Q11 -> 0 | Q11: ='IBS Action Plan 20170131'!R11 -> 0 | R11: ='IBS Action Plan 20170131'!S11 -> 9563 | S11: ='IBS Action Plan 20170131'!T11 -> 2026 | T11: ='IBS Action Plan 20170131'!U11 -> 55 | U11: ='IBS Action Plan 20170131'!V11 -> 11644 | V11: ='IBS Action Plan 20170131'!W11 -> 4657.6 | ... Y11: ='IBS Action Plan 20170131'!Z11 -> 21134
B12: ='IBS Action Plan 20170131'!B12 -> Agreements | C12: ='IBS Action Plan 20170131'!C12 -> 0 | D12: ='IBS Action Plan 20170131'!D12 -> 0 | E12: ='IBS Action Plan 20170131'!E12 -> 0 | F12: ='IBS Action Plan 20170131'!F12 -> 2727 | G12: ='IBS Action Plan 20170131'!G12 -> 2727 | H12: ='IBS Action Plan 20170131'!H12 -> 1363.5 | I12: ='IBS Action Plan 20170131'!I12 -> 0.5 | ... L12: ='IBS Action Plan 20170131'!L12 -> 4932 | M12: ='IBS Action Plan 20170131'!N12 -> 2017 - 2022 | O12: ='IBS Action Plan 20170131'!P12 -> - | P12: ='IBS Action Plan 20170131'!Q12 -> 0 | Q12: ='IBS Action Plan 20170131'!R12 -> 0 | R12: ='IBS Action Plan 20170131'!S12 -> 0 | S12: ='IBS Action Plan 20170131'!T12 -> 0 | T12: ='IBS Action Plan 20170131'!U12 -> 0 | U12: ='IBS Action Plan 20170131'!V12 -> 0 | V12: ='IBS Action Plan 20170131'!W12 -> 0 | ... Y12: ='IBS Action Plan 20170131'!Z12 -> 4932
A13: Subtotal | B13: ='IBS Action Plan 20170131'!B13 -> BCTS MK TSA | C13: ='IBS Action Plan 20170131'!C13 -> 0 | D13: ='IBS Action Plan 20170131'!D13 -> 711 | E13: ='IBS Action Plan 20170131'!E13 -> 6397 | F13: ='IBS Action Plan 20170131'!F13 -> 8888 | G13: ='IBS Action Plan 20170131'!G13 -> 15996 | H13: ='IBS Action Plan 20170131'!H13 -> 11552 | I13: ='IBS Action Plan 20170131'!I13 -> 0.72218055 | ... L13: ='IBS Action Plan 20170131'!L13 -> 19773 | M13: ='IBS Action Plan 20170131'!N13 -> - | O13: ='IBS Action Plan 20170131'!P13 -> - | P13: ='IBS Action Plan 20170131'!Q13 -> 0 | Q13: ='IBS Action Plan 20170131'!R13 -> 0 | R13: ='IBS Action Plan 20170131'!S13 -> 10000 | S13: ='IBS Action Plan 20170131'!T13 -> 5580 | T13: ='IBS Action Plan 20170131'!U13 -> 5193 | U13: ='IBS Action Plan 20170131'!V13 -> 20773 | V13: ='IBS Action Plan 20170131'!W13 -> 8309.2 | ... Y13: ='IBS Action Plan 20170131'!Z13 -> 45347
A14: Canfor MK | B14: ='IBS Action Plan 20170131'!B14 -> DMK - Burden | C14: ='IBS Action Plan 20170131'!C14 -> 782 | D14: ='IBS Action Plan 20170131'!D14 -> 404 | E14: ='IBS Action Plan 20170131'!E14 -> 546 | F14: ='IBS Action Plan 20170131'!F14 -> 991 | G14: ='IBS Action Plan 20170131'!G14 -> 2723 | H14: ='IBS Action Plan 20170131'!H14 -> 2227.5 | I14: ='IBS Action Plan 20170131'!I14 -> 0.81803158 | ... L14: ='IBS Action Plan 20170131'!L14 -> 2814 | M14: ='IBS Action Plan 20170131'!N14 -> 2017-2019 | O14: ='IBS Action Plan 20170131'!P14 -> Legal | P14: ='IBS Action Plan 20170131'!Q14 -> 0 | Q14: ='IBS Action Plan 20170131'!R14 -> 0 | R14: ='IBS Action Plan 20170131'!S14 -> 11 | S14: ='IBS Action Plan 20170131'!T14 -> 20 | T14: ='IBS Action Plan 20170131'!U14 -> 10 | U14: ='IBS Action Plan 20170131'!V14 -> 41 | V14: ='IBS Action Plan 20170131'!W14 -> 3 | ... Y14: ='IBS Action Plan 20170131'!Z14 -> 3061
B15: ='IBS Action Plan 20170131'!B15 -> DMK - Chunamon | C15: ='IBS Action Plan 20170131'!C15 -> 0 | D15: ='IBS Action Plan 20170131'!D15 -> 0 | E15: ='IBS Action Plan 20170131'!E15 -> 0 | F15: ='IBS Action Plan 20170131'!F15 -> 8 | G15: ='IBS Action Plan 20170131'!G15 -> 8 | H15: ='IBS Action Plan 20170131'!H15 -> 4 | I15: ='IBS Action Plan 20170131'!I15 -> 0.5 | ... L15: ='IBS Action Plan 20170131'!L15 -> 372 | M15: ='IBS Action Plan 20170131'!N15 -> 2018-2020 | O15: ='IBS Action Plan 20170131'!P15 -> 0 | P15: ='IBS Action Plan 20170131'!Q15 -> 0 | Q15: ='IBS Action Plan 20170131'!R15 -> 0 | R15: ='IBS Action Plan 20170131'!S15 -> 0 | S15: ='IBS Action Plan 20170131'!T15 -> 0 | T15: ='IBS Action Plan 20170131'!U15 -> 0 | U15: ='IBS Action Plan 20170131'!V15 -> 0 | V15: ='IBS Action Plan 20170131'!W15 -> 0 | ... Y15: ='IBS Action Plan 20170131'!Z15 -> 390
B16: ='IBS Action Plan 20170131'!B16 -> DMK - Eklund | C16: ='IBS Action Plan 20170131'!C16 -> 95 | D16: ='IBS Action Plan 20170131'!D16 -> 71 | E16: ='IBS Action Plan 20170131'!E16 -> 14 | F16: ='IBS Action Plan 20170131'!F16 -> 441 | G16: ='IBS Action Plan 20170131'!G16 -> 621 | H16: ='IBS Action Plan 20170131'!H16 -> 400.5 | I16: ='IBS Action Plan 20170131'!I16 -> 0.64492754 | ... L16: ='IBS Action Plan 20170131'!L16 -> 1665 | M16: ='IBS Action Plan 20170131'!N16 -> 2017-2019 | O16: ='IBS Action Plan 20170131'!P16 -> Legal | P16: ='IBS Action Plan 20170131'!Q16 -> 0 | Q16: ='IBS Action Plan 20170131'!R16 -> 0 | R16: ='IBS Action Plan 20170131'!S16 -> 6 | S16: ='IBS Action Plan 20170131'!T16 -> 0 | T16: ='IBS Action Plan 20170131'!U16 -> 42 | U16: ='IBS Action Plan 20170131'!V16 -> 48 | V16: ='IBS Action Plan 20170131'!W16 -> 0 | ... Y16: ='IBS Action Plan 20170131'!Z16 -> 1908
B17: ='IBS Action Plan 20170131'!B17 -> DMK - Holder | C17: ='IBS Action Plan 20170131'!C17 -> 3 | D17: ='IBS Action Plan 20170131'!D17 -> 0 | E17: ='IBS Action Plan 20170131'!E17 -> 4 | F17: ='IBS Action Plan 20170131'!F17 -> 24 | G17: ='IBS Action Plan 20170131'!G17 -> 31 | H17: ='IBS Action Plan 20170131'!H17 -> 19 | I17: ='IBS Action Plan 20170131'!I17 -> 0.61290323 | ... L17: ='IBS Action Plan 20170131'!L17 -> 186 | M17: ='IBS Action Plan 20170131'!N17 -> 2017-2020 | O17: ='IBS Action Plan 20170131'!P17 -> Economic | P17: ='IBS Action Plan 20170131'!Q17 -> 0 | Q17: ='IBS Action Plan 20170131'!R17 -> 0 | R17: ='IBS Action Plan 20170131'!S17 -> 0 | S17: ='IBS Action Plan 20170131'!T17 -> 0 | T17: ='IBS Action Plan 20170131'!U17 -> 5 | U17: ='IBS Action Plan 20170131'!V17 -> 5 | V17: ='IBS Action Plan 20170131'!W17 -> 0 | ... Y17: ='IBS Action Plan 20170131'!Z17 -> 196
B18: ='IBS Action Plan 20170131'!B18 -> DMK - Manson | C18: ='IBS Action Plan 20170131'!C18 -> 0 | D18: ='IBS Action Plan 20170131'!D18 -> 10 | E18: ='IBS Action Plan 20170131'!E18 -> 25 | F18: ='IBS Action Plan 20170131'!F18 -> 0 | G18: ='IBS Action Plan 20170131'!G18 -> 35 | H18: ='IBS Action Plan 20170131'!H18 -> 35 | I18: ='IBS Action Plan 20170131'!I18 -> 1 | ... L18: ='IBS Action Plan 20170131'!L18 -> 547 | M18: ='IBS Action Plan 20170131'!N18 -> 2017-2019 | O18: ='IBS Action Plan 20170131'!P18 -> 0 | P18: ='IBS Action Plan 20170131'!Q18 -> 0 | Q18: ='IBS Action Plan 20170131'!R18 -> 0 | R18: ='IBS Action Plan 20170131'!S18 -> 0 | S18: ='IBS Action Plan 20170131'!T18 -> 0 | T18: ='IBS Action Plan 20170131'!U18 -> 0 | U18: ='IBS Action Plan 20170131'!V18 -> 0 | V18: ='IBS Action Plan 20170131'!W18 -> 0 | ... Y18: ='IBS Action Plan 20170131'!Z18 -> 647
B19: ='IBS Action Plan 20170131'!B19 -> DMK - Nation | C19: ='IBS Action Plan 20170131'!C19 -> 0 | D19: ='IBS Action Plan 20170131'!D19 -> 0 | E19: ='IBS Action Plan 20170131'!E19 -> 143 | F19: ='IBS Action Plan 20170131'!F19 -> 208 | G19: ='IBS Action Plan 20170131'!G19 -> 351 | H19: ='IBS Action Plan 20170131'!H19 -> 247 | I19: ='IBS Action Plan 20170131'!I19 -> 0.7037037 | ... L19: ='IBS Action Plan 20170131'!L19 -> 503 | M19: ='IBS Action Plan 20170131'!N19 -> 2017-2019 | O19: ='IBS Action Plan 20170131'!P19 -> 0 | P19: ='IBS Action Plan 20170131'!Q19 -> 0 | Q19: ='IBS Action Plan 20170131'!R19 -> 0 | R19: ='IBS Action Plan 20170131'!S19 -> 0 | S19: ='IBS Action Plan 20170131'!T19 -> 0 | T19: ='IBS Action Plan 20170131'!U19 -> 0 | U19: ='IBS Action Plan 20170131'!V19 -> 0 | V19: ='IBS Action Plan 20170131'!W19 -> 0 | ... Y19: ='IBS Action Plan 20170131'!Z19 -> 548
B20: ='IBS Action Plan 20170131'!B20 -> DMK - Ospika | C20: ='IBS Action Plan 20170131'!C20 -> 0 | D20: ='IBS Action Plan 20170131'!D20 -> 0 | E20: ='IBS Action Plan 20170131'!E20 -> 0 | F20: ='IBS Action Plan 20170131'!F20 -> 0 | G20: ='IBS Action Plan 20170131'!G20 -> 0 | H20: ='IBS Action Plan 20170131'!H20 -> 0 | I20: ='IBS Action Plan 20170131'!I20 -> 0 | ... L20: ='IBS Action Plan 20170131'!L20 -> 193 | M20: ='IBS Action Plan 20170131'!N20 -> 2019-2022 | O20: ='IBS Action Plan 20170131'!P20 -> Economic | P20: ='IBS Action Plan 20170131'!Q20 -> 0 | Q20: ='IBS Action Plan 20170131'!R20 -> 0 | R20: ='IBS Action Plan 20170131'!S20 -> 0 | S20: ='IBS Action Plan 20170131'!T20 -> 0 | T20: ='IBS Action Plan 20170131'!U20 -> 207 | U20: ='IBS Action Plan 20170131'!V20 -> 207 | V20: ='IBS Action Plan 20170131'!W20 -> 69 | ... Y20: ='IBS Action Plan 20170131'!Z20 -> 590
B21: ='IBS Action Plan 20170131'!B21 -> DMK - Philip Creek | C21: ='IBS Action Plan 20170131'!C21 -> 0 | D21: ='IBS Action Plan 20170131'!D21 -> 0 | E21: ='IBS Action Plan 20170131'!E21 -> 0 | F21: ='IBS Action Plan 20170131'!F21 -> 184 | G21: ='IBS Action Plan 20170131'!G21 -> 184 | H21: ='IBS Action Plan 20170131'!H21 -> 92 | I21: ='IBS Action Plan 20170131'!I21 -> 0.5 | ... L21: ='IBS Action Plan 20170131'!L21 -> 1046 | M21: ='IBS Action Plan 20170131'!N21 -> 2017-2019 | O21: ='IBS Action Plan 20170131'!P21 -> 0 | P21: ='IBS Action Plan 20170131'!Q21 -> 0 | Q21: ='IBS Action Plan 20170131'!R21 -> 0 | R21: ='IBS Action Plan 20170131'!S21 -> 0 | S21: ='IBS Action Plan 20170131'!T21 -> 0 | T21: ='IBS Action Plan 20170131'!U21 -> 0 | U21: ='IBS Action Plan 20170131'!V21 -> 0 | V21: ='IBS Action Plan 20170131'!W21 -> 0 | ... Y21: ='IBS Action Plan 20170131'!Z21 -> 1084
B22: ='IBS Action Plan 20170131'!B22 -> DMK - Rupert | C22: ='IBS Action Plan 20170131'!C22 -> 0 | D22: ='IBS Action Plan 20170131'!D22 -> 8 | E22: ='IBS Action Plan 20170131'!E22 -> 8 | F22: ='IBS Action Plan 20170131'!F22 -> 293 | G22: ='IBS Action Plan 20170131'!G22 -> 309 | H22: ='IBS Action Plan 20170131'!H22 -> 162.5 | I22: ='IBS Action Plan 20170131'!I22 -> 0.52588997 | ... L22: ='IBS Action Plan 20170131'!L22 -> 495 | M22: ='IBS Action Plan 20170131'!N22 -> 2018-2020 | O22: ='IBS Action Plan 20170131'!P22 -> 0 | P22: ='IBS Action Plan 20170131'!Q22 -> 0 | Q22: ='IBS Action Plan 20170131'!R22 -> 0 | R22: ='IBS Action Plan 20170131'!S22 -> 0 | S22: ='IBS Action Plan 20170131'!T22 -> 0 | T22: ='IBS Action Plan 20170131'!U22 -> 0 | U22: ='IBS Action Plan 20170131'!V22 -> 0 | V22: ='IBS Action Plan 20170131'!W22 -> 0 | ... Y22: ='IBS Action Plan 20170131'!Z22 -> 535
A23: Subtotal | B23: ='IBS Action Plan 20170131'!B23 -> Canfor MK TSA | C23: ='IBS Action Plan 20170131'!C23 -> 880 | D23: ='IBS Action Plan 20170131'!D23 -> 493 | E23: ='IBS Action Plan 20170131'!E23 -> 740 | F23: ='IBS Action Plan 20170131'!F23 -> 2149 | G23: ='IBS Action Plan 20170131'!G23 -> 4262 | H23: ='IBS Action Plan 20170131'!H23 -> 3187.5 | I23: ='IBS Action Plan 20170131'!I23 -> 0.74788832 | ... L23: ='IBS Action Plan 20170131'!L23 -> 7821 | M23: ='IBS Action Plan 20170131'!N23 -> 0 | O23: ='IBS Action Plan 20170131'!P23 -> 0 | P23: ='IBS Action Plan 20170131'!Q23 -> 0 | Q23: ='IBS Action Plan 20170131'!R23 -> 0 | R23: ='IBS Action Plan 20170131'!S23 -> 17 | S23: ='IBS Action Plan 20170131'!T23 -> 20 | T23: ='IBS Action Plan 20170131'!U23 -> 264 | U23: ='IBS Action Plan 20170131'!V23 -> 301 | V23: ='IBS Action Plan 20170131'!W23 -> 72 | ... Y23: ='IBS Action Plan 20170131'!Z23 -> 8959
A24: Conifex | B24: ='IBS Action Plan 20170131'!B24 -> Parsnip | C24: ='IBS Action Plan 20170131'!C24 -> 1573.7891 | D24: ='IBS Action Plan 20170131'!D24 -> 163.1657 | E24: ='IBS Action Plan 20170131'!E24 -> 2418.412 | F24: ='IBS Action Plan 20170131'!F24 -> 565.98814 | G24: ='IBS Action Plan 20170131'!G24 -> 4721.355 | H24: ='IBS Action Plan 20170131'!H24 -> 4438.3609 | I24: ='IBS Action Plan 20170131'!I24 -> 0.94006084 | ... L24: ='IBS Action Plan 20170131'!L24 -> 4253.27 | M24: ='IBS Action Plan 20170131'!N24 -> 2016-2020 | O24: ='IBS Action Plan 20170131'!P24 -> Economic | P24: ='IBS Action Plan 20170131'!Q24 -> 497.58506 | Q24: ='IBS Action Plan 20170131'!R24 -> 143.29147 | R24: ='IBS Action Plan 20170131'!S24 -> 862.97543 | S24: ='IBS Action Plan 20170131'!T24 -> 157.71463 | T24: ='IBS Action Plan 20170131'!U24 -> 85.922109 | U24: ='IBS Action Plan 20170131'!V24 -> 1747.4887 | V24: ='IBS Action Plan 20170131'!W24 -> 1747.4887 | ... Y24: ='IBS Action Plan 20170131'!Z24 -> 6812.7307
B25: ='IBS Action Plan 20170131'!B25 -> Chunamon | C25: ='IBS Action Plan 20170131'!C25 -> 0 | D25: ='IBS Action Plan 20170131'!D25 -> 0 | E25: ='IBS Action Plan 20170131'!E25 -> 0 | F25: ='IBS Action Plan 20170131'!F25 -> 7.60052 | G25: ='IBS Action Plan 20170131'!G25 -> 7.60052 | H25: ='IBS Action Plan 20170131'!H25 -> 3.80026 | I25: ='IBS Action Plan 20170131'!I25 -> 0.5 | ... L25: ='IBS Action Plan 20170131'!L25 -> 650.04986 | M25: ='IBS Action Plan 20170131'!N25 -> 2017-2018 | O25: ='IBS Action Plan 20170131'!P25 -> Economic | P25: ='IBS Action Plan 20170131'!Q25 -> 0 | Q25: ='IBS Action Plan 20170131'!R25 -> 0 | R25: ='IBS Action Plan 20170131'!S25 -> 0 | S25: ='IBS Action Plan 20170131'!T25 -> 0 | T25: ='IBS Action Plan 20170131'!U25 -> 43.571154 | U25: ='IBS Action Plan 20170131'!V25 -> 43.571154 | V25: ='IBS Action Plan 20170131'!W25 -> 43.571154 | ... Y25: ='IBS Action Plan 20170131'!Z25 -> 719.60623
B26: ='IBS Action Plan 20170131'!B26 -> Morfee | C26: ='IBS Action Plan 20170131'!C26 -> 0 | D26: ='IBS Action Plan 20170131'!D26 -> 0 | E26: ='IBS Action Plan 20170131'!E26 -> 0 | F26: ='IBS Action Plan 20170131'!F26 -> 0 | G26: ='IBS Action Plan 20170131'!G26 -> 0 | H26: ='IBS Action Plan 20170131'!H26 -> 0 | I26: ='IBS Action Plan 20170131'!I26 -> 0 | ... L26: ='IBS Action Plan 20170131'!L26 -> 64.27701 | M26: ='IBS Action Plan 20170131'!N26 -> 2017 | O26: ='IBS Action Plan 20170131'!P26 -> Economic | P26: ='IBS Action Plan 20170131'!Q26 -> 86.87382 | Q26: ='IBS Action Plan 20170131'!R26 -> 0 | R26: ='IBS Action Plan 20170131'!S26 -> 31.200416 | S26: ='IBS Action Plan 20170131'!T26 -> 0 | T26: ='IBS Action Plan 20170131'!U26 -> 11.304932 | U26: ='IBS Action Plan 20170131'!V26 -> 129.37917 | V26: ='IBS Action Plan 20170131'!W26 -> 129.37917 | ... Y26: ='IBS Action Plan 20170131'!Z26 -> 193.78962
A27: Subtotal | B27: ='IBS Action Plan 20170131'!B27 -> Conifex MK TSA | C27: ='IBS Action Plan 20170131'!C27 -> 1573.7891 | D27: ='IBS Action Plan 20170131'!D27 -> 163.1657 | E27: ='IBS Action Plan 20170131'!E27 -> 2418.412 | F27: ='IBS Action Plan 20170131'!F27 -> 573.58866 | G27: ='IBS Action Plan 20170131'!G27 -> 4728.9555 | H27: ='IBS Action Plan 20170131'!H27 -> 4442.1612 | I27: ='IBS Action Plan 20170131'!I27 -> 0.93935356 | ... L27: ='IBS Action Plan 20170131'!L27 -> 4967.5968 | M27: ='IBS Action Plan 20170131'!N27 -> 0 | O27: ='IBS Action Plan 20170131'!P27 -> 0 | P27: ='IBS Action Plan 20170131'!Q27 -> 584.45889 | Q27: ='IBS Action Plan 20170131'!R27 -> 143.29147 | R27: ='IBS Action Plan 20170131'!S27 -> 894.17585 | S27: ='IBS Action Plan 20170131'!T27 -> 157.71463 | T27: ='IBS Action Plan 20170131'!U27 -> 140.7982 | U27: ='IBS Action Plan 20170131'!V27 -> 1920.439 | V27: ='IBS Action Plan 20170131'!W27 -> 1920.439 | ... Y27: ='IBS Action Plan 20170131'!Z27 -> 7726.1266
A28: Total | B28: ='IBS Action Plan 20170131'!B28 -> MK TSA | C28: ='IBS Action Plan 20170131'!C28 -> 2453.7891 | D28: ='IBS Action Plan 20170131'!D28 -> 1367.1657 | E28: ='IBS Action Plan 20170131'!E28 -> 9555.412 | F28: ='IBS Action Plan 20170131'!F28 -> 11610.589 | G28: ='IBS Action Plan 20170131'!G28 -> 24986.955 | H28: ='IBS Action Plan 20170131'!H28 -> 19181.661 | I28: ='IBS Action Plan 20170131'!I28 -> 0.767667 | ... L28: ='IBS Action Plan 20170131'!L28 -> 32561.597 | M28: ='IBS Action Plan 20170131'!N28 -> 0 | O28: ='IBS Action Plan 20170131'!P28 -> 0 | P28: ='IBS Action Plan 20170131'!Q28 -> 584.45889 | Q28: ='IBS Action Plan 20170131'!R28 -> 143.29147 | R28: ='IBS Action Plan 20170131'!S28 -> 10911.176 | S28: ='IBS Action Plan 20170131'!T28 -> 5757.7146 | T28: ='IBS Action Plan 20170131'!U28 -> 5597.7982 | U28: ='IBS Action Plan 20170131'!V28 -> 22994.439 | V28: ='IBS Action Plan 20170131'!W28 -> 10301.639 | ... Y28: ='IBS Action Plan 20170131'!Z28 -> 62032.127
B29: ='IBS Action Plan 20170131'!B29 -> Volume (m3; @275m3/ha) | C29: ='IBS Action Plan 20170131'!C29 -> 674792.01 | D29: ='IBS Action Plan 20170131'!D29 -> 375970.57 | E29: ='IBS Action Plan 20170131'!E29 -> 2627738.3 | F29: ='IBS Action Plan 20170131'!F29 -> 3192911.9 | G29: ='IBS Action Plan 20170131'!G29 -> 6871412.8 | H29: ='IBS Action Plan 20170131'!H29 -> 5274956.8 | J29: ='IBS Action Plan 20170131'!J29 -> 0 | K29: ='IBS Action Plan 20170131'!K29 -> 0 | L29: ='IBS Action Plan 20170131'!L29 -> 0 | M29: ='IBS Action Plan 20170131'!N29 -> 0 | O29: ='IBS Action Plan 20170131'!P29 -> 0 | P29: ='IBS Action Plan 20170131'!Q29 -> 0 | Q29: ='IBS Action Plan 20170131'!R29 -> 0 | R29: ='IBS Action Plan 20170131'!S29 -> 0 | S29: ='IBS Action Plan 20170131'!T29 -> 0 | T29: ='IBS Action Plan 20170131'!U29 -> 0 | U29: ='IBS Action Plan 20170131'!V29 -> 0 | V29: ='IBS Action Plan 20170131'!W29 -> 0 | ... Y29: ='IBS Action Plan 20170131'!Z29 -> 6871412.8
A30: BCTS PG | B30: Angusmac | C30: ='IBS Action Plan 20170131'!C30 -> 0 | D30: 27 | E30: 0 | F30: 43 | G30: =SUM(C30:F30) -> 70 | H30: =#REF! -> #REF! | J30: 94 | K30: 1 | L30: 163 | M30: 2018 - 19 | P30: - | Q30: - | R30: - | S30: - | T30: - | U30: =SUM(P30:T30) -> 0 | Y30: =+G30+U30 -> 70
B31: Chuchinka | C31: ='IBS Action Plan 20170131'!C31 -> 0 | D31: 0 | E31: 0 | F31: 55 | G31: =SUM(C31:F31) -> 55 | H31: =#REF! -> #REF! | J31: 34 | K31: - | L31: 89 | M31: 2019 - 20 | P31: - | Q31: - | R31: - | S31: - | T31: - | U31: =SUM(P31:T31) -> 0 | Y31: =+G31+U31 -> 55
B32: Colburne | C32: ='IBS Action Plan 20170131'!C32 -> 0 | D32: 8 | E32: 268 | F32: 2160 | G32: =SUM(C32:F32) -> 2436 | H32: =#REF! -> #REF! | J32: 542 | K32: 285 | L32: 2692 | M32: 2017 - 18 | P32: - | Q32: - | R32: - | S32: - | T32: 28 | U32: =SUM(P32:T32) -> 28 | X32: Isolated | Y32: =+G32+U32 -> 2464
B33: Dome | C33: ='IBS Action Plan 20170131'!C33 -> 0 | D33: 0 | E33: 0 | F33: 0 | G33: 0 | H33: =#REF! -> #REF! | J33: 0 | K33: - | L33: - | P33: - | Q33: - | R33: - | S33: - | T33: 70 | U33: =SUM(P33:T33) -> 70 | X33: Isolated | Y33: =+G33+U33 -> 70
B34: Firth | C34: ='IBS Action Plan 20170131'!C34 -> 0 | D34: 92 | E34: 69 | F34: 627 | G34: =SUM(C34:F34) -> 788 | H34: =#REF! -> #REF! | J34: 324 | K34: 13 | L34: 1099 | M34: 2019 - 20 | P34: - | Q34: - | R34: - | S34: - | T34: - | U34: =SUM(P34:T34) -> 0 | Y34: =+G34+U34 -> 788
B35: Hominka | C35: ='IBS Action Plan 20170131'!C35 -> 0 | D35: 17 | E35: 1023 | F35: 2950 | G35: =SUM(C35:F35) -> 3990 | H35: =#REF! -> #REF! | J35: 299 | K35: 1822 | L35: 2468 | M35: 2018 - 19 | P35: - | Q35: - | R35: - | S35: - | T35: - | U35: =SUM(P35:T35) -> 0 | Y35: =+G35+U35 -> 3990
B36: Mcleod | C36: ='IBS Action Plan 20170131'!C36 -> 0 | D36: 0 | E36: 109 | F36: 1313 | G36: =SUM(C36:F36) -> 1422 | H36: =#REF! -> #REF! | J36: 504 | K36: 132 | L36: 1795 | M36: 2021 - 22 | P36: - | Q36: - | R36: - | S36: - | T36: - | U36: =SUM(P36:T36) -> 0 | Y36: =+G36+U36 -> 1422
B37: Missinka | C37: ='IBS Action Plan 20170131'!C37 -> 0 | D37: 0 | E37: 0 | F37: 0 | G37: 0 | H37: =#REF! -> #REF! | J37: 0 | K37: - | L37: - | P37: - | Q37: - | R37: - | S37: 37 | T37: - | U37: =SUM(P37:T37) -> 37 | X37: Isolated | Y37: =+G37+U37 -> 37
B38: Parsnip | C38: ='IBS Action Plan 20170131'!C38 -> 0 | D38: 0 | E38: 0 | F38: 94 | G38: =SUM(C38:F38) -> 94 | H38: =#REF! -> #REF! | J38: 0 | K38: 53 | L38: 41 | M38: 2021 - 22 | P38: - | Q38: - | R38: 2 | S38: - | T38: - | U38: =SUM(P38:T38) -> 2 | X38: Isolated | Y38: =+G38+U38 -> 96
B39: Reynolds | C39: ='IBS Action Plan 20170131'!C39 -> 0 | D39: 26 | E39: 16 | F39: 485 | G39: =SUM(C39:F39) -> 527 | H39: =#REF! -> #REF! | J39: 340 | K39: 25 | L39: 842 | M39: 2020 - 21 | P39: - | Q39: 173 | R39: 0 | S39: 35 | T39: 119 | U39: =SUM(P39:T39) -> 327 | X39: Roads, other, NDU | Y39: =+G39+U39 -> 854
B40: Summit Lake | C40: ='IBS Action Plan 20170131'!C40 -> 0 | D40: 166 | E40: 132 | F40: 9 | G40: =SUM(C40:F40) -> 307 | H40: =#REF! -> #REF! | J40: 507 | K40: 5 | L40: 811 | M40: 2017 - 18 | P40: - | R40: - | S40: - | T40: - | U40: =SUM(P40:T40) -> 0 | Y40: =+G40+U40 -> 307
A41: Subtotal | B41: BCTS PG TSA | C41: ='IBS Action Plan 20170131'!C41 -> 0 | D41: =SUM(D30:D40) -> 336 | E41: =SUM(E30:E40) -> 1617 | F41: =SUM(F30:F40) -> 7736 | G41: =SUM(C41:F41) -> 9689 | H41: =#REF! -> #REF! | J41: =SUM(J30:J40) -> 2644 | K41: =SUM(K30:K40) -> 2336 | L41: =SUM(L30:L40) -> 10000 | O41: - | P41: =SUM(P30:P40) -> 0 | Q41: =SUM(Q30:Q40) -> 173 | R41: =SUM(R30:R40) -> 2 | S41: =SUM(S30:S40) -> 72 | T41: =SUM(T30:T40) -> 217 | U41: =SUM(P41:T41) -> 464 | V41: =SUM(V30:V40) -> 0 | W41: =SUM(W30:W40) -> 0 | Y41: =+G41+U41 -> 10153
A42: Canfor PG | B42: DPG - Ames | C42: ='IBS Action Plan 20170131'!C42 -> 0 | D42: 0 | E42: 0 | F42: 19 | G42: =SUM(C42:F42) -> 19 | H42: =#REF! -> #REF! | J42: 0 | K42: - | L42: 19 | M42: 2017-2019 | P42: - | Q42: - | R42: - | S42: - | T42: - | U42: =SUM(P42:T42) -> 0 | Y42: =+G42+U42 -> 19
B43: DPG - Anzac | C43: ='IBS Action Plan 20170131'!C43 -> 0 | D43: 443 | E43: 383 | F43: 3308 | G43: =SUM(C43:F43) -> 4134 | H43: =#REF! -> #REF! | J43: 2048 | K43: 693 | L43: 5489 | M43: 2017-2021 | P43: - | Q43: - | R43: - | S43: - | T43: - | U43: =SUM(P43:T43) -> 0 | Y43: =+G43+U43 -> 4134
B44: DPG - Chuchinka | C44: ='IBS Action Plan 20170131'!C44 -> 0 | D44: 70 | E44: 439 | F44: 444 | G44: =SUM(C44:F44) -> 953 | H44: =#REF! -> #REF! | J44: 414 | K44: 94 | L44: 1273 | M44: 2017-2018 | P44: - | Q44: - | R44: - | S44: - | T44: - | U44: =SUM(P44:T44) -> 0 | Y44: =+G44+U44 -> 953
B45: DPG - Government | C45: ='IBS Action Plan 20170131'!C45 -> 0 | D45: 0 | E45: 0 | F45: 0 | G45: 0 | H45: =#REF! -> #REF! | J45: 421 | K45: - | L45: 421 | M45: 2018-2019 | P45: - | Q45: - | R45: - | S45: - | T45: - | U45: =SUM(P45:T45) -> 0 | Y45: =+G45+U45 -> 0
B46: DPG - Herrick | C46: ='IBS Action Plan 20170131'!C46 -> 0 | D46: 0 | E46: 26 | F46: 1289 | G46: =SUM(C46:F46) -> 1315 | H46: =#REF! -> #REF! | J46: 1202 | K46: 497 | L46: 2019 | M46: 2020-2023 | O46: A25 | P46: - | Q46: - | R46: 9 | S46: 113 | T46: 233 | U46: =SUM(P46:T46) -> 355 | X46: Proposed landscape biodiversity areas for A25 (old forest); likely to be some operability issues as well | Y46: =+G46+U46 -> 1670
B47: DPG - McGregor | C47: ='IBS Action Plan 20170131'!C47 -> 0 | D47: 181 | E47: 1699 | F47: 3131 | G47: =SUM(C47:F47) -> 5011 | H47: =#REF! -> #REF! | J47: 417 | K47: 1651 | L47: 3777 | M47: 2017-2024 | O47: A25 | P47: - | Q47: 12 | R47: 392 | S47: 526 | T47: 75 | U47: =SUM(P47:T47) -> 1005 | X47: Proposed landscape biodiversity areas for A25 (old forest) | Y47: =+G47+U47 -> 6016
B48: DPG - McLeod | C48: ='IBS Action Plan 20170131'!C48 -> 0 | D48: 0 | E48: 0 | F48: 366 | G48: =SUM(C48:F48) -> 366 | H48: =#REF! -> #REF! | J48: 3 | K48: - | L48: 370 | M48: 2018-2019 | P48: - | Q48: - | R48: - | S48: - | T48: - | U48: =SUM(P48:T48) -> 0 | Y48: =+G48+U48 -> 366
B49: DPG - Muskeg | C49: ='IBS Action Plan 20170131'!C49 -> 0 | D49: 0 | E49: 0 | F49: 21 | G49: =SUM(C49:F49) -> 21 | H49: =#REF! -> #REF! | J49: 191 | K49: - | L49: 212 | M49: 2017-2019 | P49: - | Q49: - | R49: - | S49: - | T49: - | U49: =SUM(P49:T49) -> 0 | Y49: =+G49+U49 -> 21
B50: DPG - Otter | C50: ='IBS Action Plan 20170131'!C50 -> 0 | D50: 0 | E50: 0 | F50: 0 | G50: 0 | H50: =#REF! -> #REF! | J50: 59 | K50: 2 | L50: 57 | M50: 2018-2020 | P50: - | Q50: - | R50: - | S50: - | T50: - | U50: =SUM(P50:T50) -> 0 | Y50: =+G50+U50 -> 0
B51: DPG - Pinkerton | C51: ='IBS Action Plan 20170131'!C51 -> 0 | D51: 0 | E51: 0 | F51: 37 | G51: =SUM(C51:F51) -> 37 | H51: =#REF! -> #REF! | J51: 27 | K51: - | L51: 64 | M51: 2017-2018 | P51: - | Q51: - | R51: - | S51: - | T51: - | U51: =SUM(P51:T51) -> 0 | Y51: =+G51+U51 -> 37
B52: DPG - Salmon | C52: ='IBS Action Plan 20170131'!C52 -> 59 | D52: 29 | E52: 73 | F52: 440 | G52: =SUM(C52:F52) -> 601 | H52: =#REF! -> #REF! | J52: 24 | K52: 5 | L52: 620 | M52: 2017-2018 | P52: - | Q52: - | R52: - | S52: - | T52: - | U52: =SUM(P52:T52) -> 0 | Y52: =+G52+U52 -> 601
B53: DPG - Stony | C53: ='IBS Action Plan 20170131'!C53 -> 0 | D53: 0 | E53: 0 | F53: 0 | G53: =SUM(C53:F53) -> 0 | H53: =#REF! -> #REF! | J53: 235 | K53: 29 | L53: 206 | M53: 2020 | P53: - | Q53: - | R53: - | S53: - | T53: - | U53: =SUM(P53:T53) -> 0 | Y53: =+G53+U53 -> 0
B54: DPG - TFL30 | C54: ='IBS Action Plan 20170131'!C54 -> 0 | D54: 0 | E54: 50 | F54: 3747 | G54: =SUM(C54:F54) -> 3797 | H54: =#REF! -> #REF! | J54: 4179 | K54: 224 | L54: 7752 | M54: 2017-2023 | O54: TFL Ogma | P54: - | Q54: - | R54: 0 | S54: 891 | T54: 1298 | U54: =SUM(P54:T54) -> 2189 | Y54: =+G54+U54 -> 5986
B55: DPG - Torpy | C55: ='IBS Action Plan 20170131'!C55 -> 0 | D55: 0 | E55: 1 | F55: 0 | G55: =SUM(C55:F55) -> 1 | H55: =#REF! -> #REF! | J55: 0 | K55: - | L55: 1 | M55: 2019-2021 | O55: A25 | P55: - | Q55: - | R55: 14 | S55: - | T55: 16 | U55: =SUM(P55:T55) -> 30 | Y55: =+G55+U55 -> 31
B56: DPG - Tumuch | C56: ='IBS Action Plan 20170131'!C56 -> 0 | D56: 0 | E56: 0 | F56: 15 | G56: =SUM(C56:F56) -> 15 | H56: =#REF! -> #REF! | J56: 293 | K56: 35 | L56: 273 | M56: 2017-2019 | P56: - | Q56: - | R56: - | S56: - | T56: - | U56: =SUM(P56:T56) -> 0 | Y56: =+G56+U56 -> 15
B57: DPG - War | C57: ='IBS Action Plan 20170131'!C57 -> 0 | D57: 0 | E57: 0 | F57: 663 | G57: =SUM(C57:F57) -> 663 | H57: =#REF! -> #REF! | J57: 1036 | K57: 12 | L57: 1687 | M57: 2017-2018 | P57: - | Q57: - | R57: - | S57: - | T57: - | U57: =SUM(P57:T57) -> 0 | Y57: =+G57+U57 -> 663
B58: DPG - Weedon | C58: ='IBS Action Plan 20170131'!C58 -> 0 | D58: 0 | E58: 0 | F58: 35 | G58: =SUM(C58:F58) -> 35 | H58: =#REF! -> #REF! | J58: 6 | K58: - | L58: 41 | M58: 2018 | P58: - | Q58: - | R58: - | S58: - | T58: - | U58: =SUM(P58:T58) -> 0 | Y58: =+G58+U58 -> 35
A59: Subtotal | B59: Canfor PG TSA | C59: ='IBS Action Plan 20170131'!C59 -> 59 | D59: =SUM(D42:D58) -> 723 | E59: =SUM(E42:E58) -> 2671 | F59: =SUM(F42:F58) -> 13515 | G59: =SUM(C59:F59) -> 16968 | H59: =#REF! -> #REF! | J59: =SUM(J42:J58) -> 10555 | K59: =SUM(K42:K58) -> 3242 | L59: =SUM(L42:L58) -> 24281 | P59: =SUM(P42:P58) -> 0 | Q59: =SUM(Q42:Q58) -> 12 | R59: =SUM(R42:R58) -> 415 | S59: =SUM(S42:S58) -> 1530 | T59: =SUM(T42:T58) -> 1622 | U59: =SUM(P59:T59) -> 3579 | V59: =SUM(V42:V58) -> 0 | W59: =SUM(W42:W58) -> 0 | X59: =SUM(X42:X58) -> 0 | Y59: =+G59+U59 -> 20547
A60: Sinclar | B60: Bear Lake West | C60: ='IBS Action Plan 20170131'!C60 -> 44 | D60: 805 | E60: 2236 | F60: 3023 | G60: =SUM(C60:F60) -> 6108 | H60: =#REF! -> #REF! | J60: 149 | K60: 138 | L60: =C60+D60+E60+F60+J60-K60 -> 6119 | M60: 2017-23 | P60: 0 | Q60: 0 | R60: 0 | S60: 0 | T60: 0 | U60: =SUM(P60:T60) -> 0 | V60: 0 | Y60: =+G60+U60 -> 6108
B61: Carp | C61: ='IBS Action Plan 20170131'!C61 -> 117 | D61: 17 | E61: 128 | F61: 169 | G61: =SUM(C61:F61) -> 431 | H61: =#REF! -> #REF! | J61: 36 | K61: 5 | L61: =C61+D61+E61+F61+J61-K61 -> 462 | M61: 2017-23 | P61: 0 | Q61: 0 | R61: 0 | S61: 0 | T61: 0 | U61: =SUM(P61:T61) -> 0 | V61: 0 | Y61: =+G61+U61 -> 431
B62: Wichcika | C62: ='IBS Action Plan 20170131'!C62 -> 0 | D62: 40 | E62: =254+24 -> 278 | F62: =1025+310 -> 1335 | G62: =SUM(C62:F62) -> 1653 | H62: =#REF! -> #REF! | J62: =31+1 -> 32 | K62: 148 | L62: =C62+D62+E62+F62+J62-K62 -> 1537 | M62: 2017-23 | O62: A14/A17 NDU | P62: 0 | Q62: 0 | R62: 7 | S62: 67 | T62: 0 | U62: =SUM(P62:T62) -> 74 | V62: 8 | W62: =U62-V62 -> 66 | X62: A14/A17 NDU Biodiversity; Road Access, practicality | Y62: =+G62+U62 -> 1727
B63: Parsnip | C63: ='IBS Action Plan 20170131'!C63 -> 0 | D63: =145+680 -> 825 | E63: =603+1725 -> 2328 | F63: =322+1919 -> 2241 | G63: =SUM(C63:F63) -> 5394 | H63: =#REF! -> #REF! | J63: =19+92 -> 111 | K63: 1286 | L63: =C63+D63+E63+F63+J63-K63 -> 4219 | M63: 2017-21 | O63: A14/A17 NDU | P63: 4 | Q63: 431 | R63: 1389 | S63: 2926 | T63: 18 | U63: =SUM(P63:T63) -> 4768 | V63: 2092 | W63: =U63-V63 -> 2676 | X63: A14/A17 NDU Biodiversity; Road Access, practicality | Y63: =+G63+U63 -> 10162
B64: Missinka Winton | C64: ='IBS Action Plan 20170131'!C64 -> 0 | D64: =7+72 -> 79 | E64: =613+1068 -> 1681 | F64: =348+1025 -> 1373 | G64: =SUM(C64:F64) -> 3133 | H64: =#REF! -> #REF! | J64: =1+135 -> 136 | K64: 706 | L64: =C64+D64+E64+F64+J64-K64 -> 2563 | M64: 2021-23 | O64: A14/A17 NDU | P64: 0 | Q64: 38 | R64: 125 | S64: 352 | T64: 6 | U64: =SUM(P64:T64) -> 521 | V64: 205 | W64: =U64-V64 -> 316 | X64: A14/A17 NDU Biodiversity; Road Access, practicality | Y64: =+G64+U64 -> 3654
B65: Missinka Lakeland | C65: ='IBS Action Plan 20170131'!C65 -> 0 | D65: 0 | E65: 66 | F65: 674 | G65: =SUM(C65:F65) -> 740 | H65: =#REF! -> #REF! | J65: 44 | K65: 140 | L65: =C65+D65+E65+F65+J65-K65 -> 644 | M65: 2021-23 | P65: 0 | Q65: 0 | R65: 0 | S65: 0 | T65: 0 | U65: =SUM(P65:T65) -> 0 | Y65: =+G65+U65 -> 740
B66: Table | C66: ='IBS Action Plan 20170131'!C66 -> 0 | D66: 0 | E66: =89+1617 -> 1706 | F66: =419+825 -> 1244 | G66: =SUM(C66:F66) -> 2950 | H66: =#REF! -> #REF! | J66: =18+135 -> 153 | K66: 460 | L66: =C66+D66+E66+F66+J66-K66 -> 2643 | M66: 2021-23 | P66: 0 | Q66: 0 | R66: 0 | S66: 0 | T66: 0 | U66: =SUM(P66:T66) -> 0 | Y66: =+G66+U66 -> 2950
B67: Angusmac | C67: ='IBS Action Plan 20170131'!C67 -> 0 | D67: 8 | E67: 0 | F67: 5 | G67: =SUM(C67:F67) -> 13 | H67: =#REF! -> #REF! | J67: 54 | K67: 7 | L67: =C67+D67+E67+F67+J67-K67 -> 60 | M67: 2020 | P67: 0 | Q67: 0 | R67: 0 | S67: 0 | T67: 0 | U67: =SUM(P67:T67) -> 0 | Y67: =+G67+U67 -> 13
B68: Bill'S Creek | C68: ='IBS Action Plan 20170131'!C68 -> 144 | D68: 339 | E68: 1054 | F68: 1007 | G68: =SUM(C68:F68) -> 2544 | H68: =#REF! -> #REF! | J68: 61 | K68: 86 | L68: =C68+D68+E68+F68+J68-K68 -> 2519 | M68: 2016-23 | P68: 0 | Q68: 0 | R68: 0 | S68: 0 | T68: 0 | U68: =SUM(P68:T68) -> 0 | Y68: =+G68+U68 -> 2544
B69: Kerry | C69: ='IBS Action Plan 20170131'!C69 -> 0 | D69: 0 | E69: 82 | F69: 169 | G69: =SUM(C69:F69) -> 251 | H69: =#REF! -> #REF! | J69: 140 | K69: 2 | L69: =C69+D69+E69+F69+J69-K69 -> 389 | M69: 2020 | P69: 0 | Q69: 0 | R69: 0 | S69: 0 | T69: 0 | U69: =SUM(P69:T69) -> 0 | Y69: =+G69+U69 -> 251
B70: Goose | C70: ='IBS Action Plan 20170131'!C70 -> 0 | D70: 0 | E70: 15 | F70: 102 | G70: =SUM(C70:F70) -> 117 | H70: =#REF! -> #REF! | J70: 65 | K70: 0 | L70: =C70+D70+E70+F70+J70-K70 -> 182 | M70: 2020 | P70: 0 | Q70: 0 | R70: 0 | S70: 0 | T70: 0 | U70: =SUM(P70:T70) -> 0 | Y70: =+G70+U70 -> 117
B71: Tacheeda | C71: ='IBS Action Plan 20170131'!C71 -> 59 | D71: 130 | E71: 126 | F71: 286 | G71: =SUM(C71:F71) -> 601 | H71: =#REF! -> #REF! | J71: 52 | K71: 63 | L71: =C71+D71+E71+F71+J71-K71 -> 590 | M71: 2017-19 | P71: 0 | Q71: 0 | R71: 0 | S71: 0 | T71: 0 | U71: =SUM(P71:T71) -> 0 | Y71: =+G71+U71 -> 601
A72: Subtotal | B72: Sinclar PG TSA | C72: ='IBS Action Plan 20170131'!C72 -> 364 | D72: =SUM(D60:D71) -> 2243 | E72: =SUM(E60:E71) -> 9700 | F72: =SUM(F60:F71) -> 11628 | G72: =SUM(C72:F72) -> 23935 | H72: =SUM(H60:H71) -> #REF! | J72: =SUM(J60:J71) -> 1033 | K72: =SUM(K60:K71) -> 3041 | L72: =SUM(L60:L71) -> 21927 | P72: =SUM(P60:P71) -> 4 | Q72: =SUM(Q60:Q71) -> 469 | R72: =SUM(R60:R71) -> 1521 | S72: =SUM(S60:S71) -> 3345 | T72: =SUM(T60:T71) -> 24 | U72: =SUM(P72:T72) -> 5363 | V72: =SUM(V60:V71) -> 2305 | W72: =SUM(W60:W71) -> 3058 | X72: =SUM(X60:X71) -> 0 | Y72: =SUM(Y60:Y71) -> 29298
A73: Total | B73: PG TSA | C73: ='IBS Action Plan 20170131'!C73 -> 423 | D73: =+D41+D59+D72 -> 3302 | E73: =+E41+E59+E72 -> 13988 | F73: =+F41+F59+F72 -> 32879 | G73: =+G41+G59+G72 -> 50592 | H73: =+H41+H59+H72 -> #REF! | J73: =+J41+J59+J72 -> 14232 | K73: =+K41+K59+K72 -> 8619 | L73: =+L41+L59+L72 -> 56208 | P73: =+P41+P59+P72 -> 4 | Q73: =+Q41+Q59+Q72 -> 654 | R73: =+R41+R59+R72 -> 1938 | S73: =+S41+S59+S72 -> 4947 | T73: =+T41+T59+T72 -> 1863 | U73: =+U41+U59+U72 -> 9406 | V73: =+V41+V59+V72 -> 2305 | W73: =+W41+W59+W72 -> 3058 | Y73: =+Y41+Y59+Y72 -> 59998
B74: Volume (m3; weighted average) | C74: ='IBS Action Plan 20170131'!C74 -> 116325 | D74: =#REF! -> #REF! | E74: =#REF! -> #REF! | F74: =#REF! -> #REF! | G74: =#REF! -> #REF! | J74: =#REF! -> #REF!
A75: Total | B75: Omineca Region | C75: ='IBS Action Plan 20170131'!C75 -> 2876.7891 | D75: =D28+D73 -> 4669.1657 | E75: =E28+E73 -> 23543.412 | F75: =F28+F73 -> 44489.589 | G75: =G28+G73 -> 75578.955 | H75: =H28+H73 -> #REF! | J75: =J28+J73 -> 28282.732 | K75: =K28+K73 -> 15095.091 | L75: =L28+L73 -> 88769.597 | P75: =P28+P73 -> 588.45889 | Q75: =Q28+Q73 -> 797.29147 | R75: =R28+R73 -> 12849.176 | S75: =S28+S73 -> 10704.715 | T75: =T28+T73 -> 7460.7982 | U75: =U28+U73 -> 32400.439 | V75: =V28+V73 -> 12606.639 | W75: =W28+W73 -> 15750.8 | Y75: =+G75+U75 -> 107979.39
B76: Volume (m3; weighted average) | C76: ='IBS Action Plan 20170131'!C76 -> 791117.01 | D76: =+D29+D74 -> #REF! | E76: =+E29+E74 -> #REF! | F76: =+F29+F74 -> #REF! | G76: =+G29+G74 -> #REF! | H76: =+H29+H74 -> 5274956.8 | J76: =+J29+J74 -> #REF!

Sheet PG TSA
A1: Spruce Beetle Action Plan - Prince George Timber Supply Area
A2: ='IBS Action Plan 20170131'!A2 -> 42766
A4: Merged 2014-2016 Aerial Overview Survey Information | O4: Constrained | Y4: Total
A5: Licensee Operating Area | B5: Subunit/Drainage | C5: SEVERITY | G5: Total | H5: Weighted | I5: ='IBS Action Plan 20170131'!I5 -> Estimated Area to Harvest ÷ Total Area AOS (%) | K5: Cable | L5: Conventional | M5: Proposed | O5: Reason for Constraint | P5: SEVERITY | V5: Cable | W5: Conventional | X5: Rationale | Y5: Proposed Action
C6: VS | D6: S | E6: M | F6: L | G6: Hectares | H6: Average | I6: ='IBS Action Plan 20170131'!I6 -> 0 | J6: Monitor | K6: Hectares | L6: Hectares | M6: Action | P6: VS | Q6: S | R6: M | S6: L | T6: T | U6: Total | V6: Area | W6: Area | X6: NDU, Road, Other | Y6: +
C7: Hectares | D7: Hectares | E7: Hectares | F7: Hectares | G7: Infested (ha) | H7: Infested (ha) | I7: ='IBS Action Plan 20170131'!I7 -> 0 | J7: Trap Tree/Trace | K7: All severity | L7: All severity | M7: Year | P7: Hectares | Q7: Hectares | R7: Hectares | S7: Hectares | T7: Hectares | U7: Hectares | V7: Hectares | W7: Hectares | Y7: Constrained
C8: 50-100% | D8: 30-49% | E8: 11-29% | F8: 1-10% | J8: 0-1%
A9: BCTS MK | B9: Klawli / Gillis | C9: 0 | D9: 0 | E9: 588 | F9: 1346 | G9: =SUM(C9:F9) -> 1934 | H9: =#REF! -> #REF! | I9: =#REF! -> #REF! | J9: 5704 | K9: 0 | L9: 7638 | M9: 2020 - 22 | P9: - | Q9: - | R9: - | S9: - | T9: 425 | U9: =SUM(P9:T9) -> 425 | V9: 170 | W9: 255 | X9: Other | Y9: =+G9+U9 -> 2359
B10: Parsnip / Clearwater / Pardonet | C10: 0 | D10: 0 | E10: 748 | F10: 1530 | G10: =SUM(C10:F10) -> 2278 | H10: =#REF! -> #REF! | I10: =#REF! -> #REF! | J10: 236 | K10: 1005 | L10: 1509 | M10: 2017 - 2020 | P10: - | Q10: - | R10: 437 | S10: 3554 | T10: 4713 | U10: =SUM(P10:T10) -> 8704 | V10: 3481.6 | W10: 5222.4 | X10: Roads, other | Y10: =+G10+U10 -> 10982
B11: Phillip / Blackwater / Hwy97 | C11: 0 | D11: 711 | E11: 5061 | F11: 3285 | G11: =SUM(C11:F11) -> 9057 | H11: =#REF! -> #REF! | I11: =#REF! -> #REF! | J11: 433 | K11: 3796 | L11: 5694 | M11: 2017 - 2021 | P11: - | Q11: - | R11: 9563 | S11: 2026 | T11: 55 | U11: =SUM(P11:T11) -> 11644 | V11: 4657.6 | W11: 6986.4 | X11: Roads, other | Y11: =+G11+U11 -> 20701
B12: Agreements | C12: 0 | D12: 0 | E12: 0 | F12: 2727 | G12: =SUM(C12:F12) -> 2727 | H12: =#REF! -> #REF! | I12: =#REF! -> #REF! | J12: 2205 | K12: 0 | L12: 4932 | M12: 2017 - 2022 | P12: - | Q12: - | R12: - | S12: - | T12: - | U12: =SUM(P12:T12) -> 0 | V12: 0 | W12: 0 | Y12: =+G12+U12 -> 2727
A13: Subtotal | B13: BCTS MK TSA | C13: =SUM(C9:C12) -> 0 | D13: =SUM(D9:D12) -> 711 | E13: =SUM(E9:E12) -> 6397 | F13: =SUM(F9:F12) -> 8888 | G13: =SUM(C13:F13) -> 15996 | H13: =#REF! -> #REF! | I13: =#REF! -> #REF! | J13: =SUM(J9:J12) -> 8578 | K13: =SUM(K9:K12) -> 4801 | L13: =SUM(L9:L12) -> 19773 | M13: - | O13: - | P13: =SUM(P9:P12) -> 0 | Q13: =SUM(Q9:Q12) -> 0 | R13: =SUM(R9:R12) -> 10000 | S13: =SUM(S9:S12) -> 5580 | T13: =SUM(T9:T12) -> 5193 | U13: =SUM(U9:U12) -> 20773 | V13: =SUM(V9:V12) -> 8309.2 | W13: =SUM(W9:W12) -> 12463.8 | Y13: =+G13+U13 -> 36769
A14: Canfor MK | B14: DMK - Burden | C14: 782 | D14: 404 | E14: 546 | F14: 991 | G14: =SUM(C14:F14) -> 2723 | H14: =#REF! -> #REF! | I14: =#REF! -> #REF! | J14: 297 | K14: 205 | L14: 2814 | M14: 2017-2019 | U14: =SUM(P14:T14) -> 0 | X14: Fieldwork indicates that the Burden beetle areas are inflated, possibly due to inclusion of 2015 polygons that weren't picked up in 2016 AOS | Y14: =+G14+U14 -> 2723
B15: DMK - Chunamon | C15: 0 | D15: 0 | E15: 0 | F15: 8 | G15: =SUM(C15:F15) -> 8 | H15: =#REF! -> #REF! | I15: =#REF! -> #REF! | J15: 382 | K15: 17 | L15: 372 | M15: 2018-2020 | U15: =SUM(P15:T15) -> 0 | Y15: =+G15+U15 -> 8
B16: DMK - Eklund | C16: 95 | D16: 71 | E16: 14 | F16: 441 | G16: =SUM(C16:F16) -> 621 | H16: =#REF! -> #REF! | I16: =#REF! -> #REF! | J16: 1239 | K16: 195 | L16: 1665 | M16: 2017-2019 | U16: =SUM(P16:T16) -> 0 | Y16: =+G16+U16 -> 621
B17: DMK - Holder | C17: 3 | D17: 0 | E17: 4 | F17: 24 | G17: =SUM(C17:F17) -> 31 | H17: =#REF! -> #REF! | I17: =#REF! -> #REF! | J17: 160 | K17: 4 | L17: 186 | M17: 2017-2020 | U17: =SUM(P17:T17) -> 0 | Y17: =+G17+U17 -> 31
B18: DMK - Manson | C18: 0 | D18: 10 | E18: 25 | F18: 0 | G18: =SUM(C18:F18) -> 35 | H18: =#REF! -> #REF! | I18: =#REF! -> #REF! | J18: 612 | K18: 100 | L18: 547 | M18: 2017-2019 | U18: =SUM(P18:T18) -> 0 | Y18: =+G18+U18 -> 35
B19: DMK - Nation | C19: 0 | D19: 0 | E19: 143 | F19: 208 | G19: =SUM(C19:F19) -> 351 | H19: =#REF! -> #REF! | I19: =#REF! -> #REF! | J19: 197 | K19: 46 | L19: 503 | M19: 2017-2019 | U19: =SUM(P19:T19) -> 0 | Y19: =+G19+U19 -> 351
B20: DMK - Ospika | C20: 0 | D20: 0 | E20: 0 | F20: 0 | G20: 0 | H20: =#REF! -> #REF! | I20: =#REF! -> #REF! | J20: 383 | K20: 190 | L20: 193 | M20: 2019-2022 | U20: =SUM(P20:T20) -> 0 | Y20: =+G20+U20 -> 0
B21: DMK - Philip Creek | C21: 0 | D21: 0 | E21: 0 | F21: 184 | G21: =SUM(C21:F21) -> 184 | H21: =#REF! -> #REF! | I21: =#REF! -> #REF! | J21: 900 | K21: 39 | L21: 1046 | M21: 2017-2019 | U21: =SUM(P21:T21) -> 0 | Y21: =+G21+U21 -> 184
B22: DMK - Rupert | C22: 0 | D22: 8 | E22: 8 | F22: 293 | G22: =SUM(C22:F22) -> 309 | H22: =#REF! -> #REF! | I22: =#REF! -> #REF! | J22: 226 | K22: 41 | L22: 495 | M22: 2018-2020 | U22: =SUM(P22:T22) -> 0 | Y22: =+G22+U22 -> 309
A23: Subtotal | B23: Canfor MK TSA | C23: =SUM(C14:C22) -> 880 | D23: =SUM(D14:D22) -> 493 | E23: =SUM(E14:E22) -> 740 | F23: =SUM(F14:F22) -> 2149 | G23: =SUM(C23:F23) -> 4262 | H23: =#REF! -> #REF! | I23: =#REF! -> #REF! | J23: =SUM(J14:J22) -> 4396 | K23: =SUM(K14:K22) -> 837 | L23: =SUM(L14:L22) -> 7821 | P23: =SUM(P14:P22) -> 0 | Q23: =SUM(Q14:Q22) -> 0 | R23: =SUM(R14:R22) -> 0 | S23: =SUM(S14:S22) -> 0 | T23: =SUM(T14:T22) -> 0 | U23: =SUM(P23:T23) -> 0 | V23: =SUM(V14:V22) -> 0 | W23: =SUM(W14:W22) -> 0 | Y23: =+G23+U23 -> 4262
A24: Conifex | B24: Parsnip | C24: 1573.7891 | D24: 163.1657 | E24: 2418.412 | F24: 565.98814 | G24: =SUM(C24:F24) -> 4721.355 | H24: =#REF! -> #REF! | I24: =#REF! -> #REF! | J24: 343.88704 | K24: 811.97203 | L24: 4253.27 | M24: 2016-2020 | O24: Access | P24: 497.58506 | Q24: 143.29147 | R24: 862.97543 | S24: 157.71463 | T24: 85.922109 | U24: =SUM(P24:T24) -> 1747.4887 | V24: 1747.4887 | W24: 0 | X24: Road Access, practicality | Y24: =+G24+U24 -> 6468.8437
B25: Chunamon | C25: 0 | D25: 0 | E25: 0 | F25: 7.60052 | G25: =SUM(C25:F25) -> 7.60052 | H25: =#REF! -> #REF! | I25: =#REF! -> #REF! | J25: 668.43456 | K25: 26.11866 | L25: 650.04986 | M25: 2017-2018 | O25: Access | P25: 0 | Q25: 0 | R25: 0 | S25: 0 | T25: 43.571154 | U25: =SUM(P25:T25) -> 43.571154 | V25: 43.571154 | W25: 0 | X25: Road Access, practicality | Y25: =+G25+U25 -> 51.171674
B26: Morfee | C26: 0 | D26: 0 | E26: 0 | F26: 0 | G26: 0 | H26: =#REF! -> #REF! | I26: =#REF! -> #REF! | J26: 64.410451 | K26: 0 | L26: 64.27701 | M26: 2017 | O26: Access | P26: 86.87382 | Q26: 0 | R26: 31.200416 | S26: 0 | T26: 11.304932 | U26: =SUM(P26:T26) -> 129.37917 | V26: 129.37917 | W26: 0 | X26: Road Access, practicality | Y26: =+G26+U26 -> 129.37917
A27: Subtotal | B27: Conifex MK TSA | C27: =SUM(C24:C26) -> 1573.7891 | D27: =SUM(D24:D26) -> 163.1657 | E27: =SUM(E24:E26) -> 2418.412 | F27: =SUM(F24:F26) -> 573.58866 | G27: =SUM(C27:F27) -> 4728.9555 | H27: =#REF! -> #REF! | I27: =#REF! -> #REF! | J27: =SUM(J24:J26) -> 1076.7321 | K27: =SUM(K24:K26) -> 838.09069 | L27: =SUM(L24:L26) -> 4967.5968 | P27: =SUM(P24:P26) -> 584.45889 | Q27: =SUM(Q24:Q26) -> 143.29147 | R27: =SUM(R24:R26) -> 894.17585 | S27: =SUM(S24:S26) -> 157.71463 | T27: =SUM(T24:T26) -> 140.7982 | U27: =SUM(P27:T27) -> 1920.439 | V27: =SUM(V24:V26) -> 1920.439 | W27: =SUM(W24:W26) -> 0 | X27: =SUM(X24:X26) -> 0 | Y27: =+G27+U27 -> 6649.3945
A28: Total | B28: MK TSA | C28: =C13+C23+C27 -> 2453.7891 | D28: =D13+D23+D27 -> 1367.1657 | E28: =E13+E23+E27 -> 9555.412 | F28: =F13+F23+F27 -> 11610.589 | G28: =G13+G23+G27 -> 24986.955 | H28: =H13+H23+H27 -> #REF! | I28: =I13+I23+I27 -> #REF! | J28: =J13+J23+J27 -> 14050.732 | ... L28: =L13+L23+L27 -> 32561.597 | P28: =+P13+P23+P27 -> 584.45889 | Q28: =+Q13+Q23+Q27 -> 143.29147 | R28: =+R13+R23+R27 -> 10894.176 | S28: =+S13+S23+S27 -> 5737.7146 | T28: =+T13+T23+T27 -> 5333.7982 | U28: =+U13+U23+U27 -> 22693.439 | V28: =+V13+V23+V27 -> 10229.639 | W28: =+W13+W23+W27 -> 12463.8 | Y28: =+Y13+Y23+Y27 -> 47680.395
B29: Volume (m3; weighted average) | C29: =#REF! -> #REF! | D29: =#REF! -> #REF! | E29: =#REF! -> #REF! | F29: =#REF! -> #REF! | G29: =#REF! -> #REF! | J29: =#REF! -> #REF!
A30: ='IBS Action Plan 20170131'!A30:A40 -> BCTS PG | B30: ='IBS Action Plan 20170131'!B30 -> Angusmac | C30: ='IBS Action Plan 20170131'!C30 -> 0 | D30: ='IBS Action Plan 20170131'!D30 -> 27 | E30: ='IBS Action Plan 20170131'!E30 -> 0 | F30: ='IBS Action Plan 20170131'!F30 -> 43 | G30: ='IBS Action Plan 20170131'!G30 -> 70 | H30: ='IBS Action Plan 20170131'!H30 -> 48.5 | I30: ='IBS Action Plan 20170131'!I30 -> 0.69285714 | ... L30: ='IBS Action Plan 20170131'!L30 -> 163 | M30: ='IBS Action Plan 20170131'!N30 -> 2018 - 19 | O30: ='IBS Action Plan 20170131'!P30 -> 0 | P30: ='IBS Action Plan 20170131'!Q30 -> 0 | Q30: ='IBS Action Plan 20170131'!R30 -> 0 | R30: ='IBS Action Plan 20170131'!S30 -> 0 | S30: ='IBS Action Plan 20170131'!T30 -> 0 | T30: ='IBS Action Plan 20170131'!U30 -> 0 | U30: ='IBS Action Plan 20170131'!V30 -> 0 | V30: ='IBS Action Plan 20170131'!W30 -> 0 | ... Y30: ='IBS Action Plan 20170131'!Z30 -> 164
B31: ='IBS Action Plan 20170131'!B31 -> Chuchinka | C31: ='IBS Action Plan 20170131'!C31 -> 0 | D31: ='IBS Action Plan 20170131'!D31 -> 0 | E31: ='IBS Action Plan 20170131'!E31 -> 0 | F31: ='IBS Action Plan 20170131'!F31 -> 55 | G31: ='IBS Action Plan 20170131'!G31 -> 55 | H31: ='IBS Action Plan 20170131'!H31 -> 27.5 | I31: ='IBS Action Plan 20170131'!I31 -> 0.5 | ... L31: ='IBS Action Plan 20170131'!L31 -> 89 | M31: ='IBS Action Plan 20170131'!N31 -> 2019 - 20 | O31: ='IBS Action Plan 20170131'!P31 -> 0 | P31: ='IBS Action Plan 20170131'!Q31 -> 0 | Q31: ='IBS Action Plan 20170131'!R31 -> 0 | R31: ='IBS Action Plan 20170131'!S31 -> 0 | S31: ='IBS Action Plan 20170131'!T31 -> 0 | T31: ='IBS Action Plan 20170131'!U31 -> 0 | U31: ='IBS Action Plan 20170131'!V31 -> 0 | V31: ='IBS Action Plan 20170131'!W31 -> 0 | ... Y31: ='IBS Action Plan 20170131'!Z31 -> 89
B32: ='IBS Action Plan 20170131'!B32 -> Colburne | C32: ='IBS Action Plan 20170131'!C32 -> 0 | D32: ='IBS Action Plan 20170131'!D32 -> 8 | E32: ='IBS Action Plan 20170131'!E32 -> 268 | F32: ='IBS Action Plan 20170131'!F32 -> 2160 | G32: ='IBS Action Plan 20170131'!G32 -> 2436 | H32: ='IBS Action Plan 20170131'!H32 -> 1356 | I32: ='IBS Action Plan 20170131'!I32 -> 0.55665025 | ... L32: ='IBS Action Plan 20170131'!L32 -> 2692 | M32: ='IBS Action Plan 20170131'!N32 -> 2017 - 18 | O32: ='IBS Action Plan 20170131'!P32 -> Economic | P32: ='IBS Action Plan 20170131'!Q32 -> 0 | Q32: ='IBS Action Plan 20170131'!R32 -> 0 | R32: ='IBS Action Plan 20170131'!S32 -> 0 | S32: ='IBS Action Plan 20170131'!T32 -> 0 | T32: ='IBS Action Plan 20170131'!U32 -> 28 | U32: ='IBS Action Plan 20170131'!V32 -> 28 | V32: ='IBS Action Plan 20170131'!W32 -> 11.2 | ... Y32: ='IBS Action Plan 20170131'!Z32 -> 3006
B33: ='IBS Action Plan 20170131'!B33 -> Dome | C33: ='IBS Action Plan 20170131'!C33 -> 0 | D33: ='IBS Action Plan 20170131'!D33 -> 0 | E33: ='IBS Action Plan 20170131'!E33 -> 0 | F33: ='IBS Action Plan 20170131'!F33 -> 0 | G33: ='IBS Action Plan 20170131'!G33 -> 0 | H33: ='IBS Action Plan 20170131'!H33 -> 0 | I33: ='IBS Action Plan 20170131'!I33 -> 0 | ... L33: ='IBS Action Plan 20170131'!L33 -> - | M33: ='IBS Action Plan 20170131'!N33 -> 0 | O33: ='IBS Action Plan 20170131'!P33 -> Economic | P33: ='IBS Action Plan 20170131'!Q33 -> 0 | Q33: ='IBS Action Plan 20170131'!R33 -> 0 | R33: ='IBS Action Plan 20170131'!S33 -> 0 | S33: ='IBS Action Plan 20170131'!T33 -> 0 | T33: ='IBS Action Plan 20170131'!U33 -> 70 | U33: ='IBS Action Plan 20170131'!V33 -> 70 | V33: ='IBS Action Plan 20170131'!W33 -> 28 | ... Y33: ='IBS Action Plan 20170131'!Z33 -> 70
B34: ='IBS Action Plan 20170131'!B34 -> Firth | C34: ='IBS Action Plan 20170131'!C34 -> 0 | D34: ='IBS Action Plan 20170131'!D34 -> 92 | E34: ='IBS Action Plan 20170131'!E34 -> 69 | F34: ='IBS Action Plan 20170131'!F34 -> 627 | G34: ='IBS Action Plan 20170131'!G34 -> 788 | H34: ='IBS Action Plan 20170131'!H34 -> 474.5 | I34: ='IBS Action Plan 20170131'!I34 -> 0.60215736 | ... L34: ='IBS Action Plan 20170131'!L34 -> 1099 | M34: ='IBS Action Plan 20170131'!N34 -> 2019 - 20 | O34: ='IBS Action Plan 20170131'!P34 -> 0 | P34: ='IBS Action Plan 20170131'!Q34 -> 0 | Q34: ='IBS Action Plan 20170131'!R34 -> 0 | R34: ='IBS Action Plan 20170131'!S34 -> 0 | S34: ='IBS Action Plan 20170131'!T34 -> 0 | T34: ='IBS Action Plan 20170131'!U34 -> 0 | U34: ='IBS Action Plan 20170131'!V34 -> 0 | V34: ='IBS Action Plan 20170131'!W34 -> 0 | ... Y34: ='IBS Action Plan 20170131'!Z34 -> 1112
B35: ='IBS Action Plan 20170131'!B35 -> Hominka | C35: ='IBS Action Plan 20170131'!C35 -> 0 | D35: ='IBS Action Plan 20170131'!D35 -> 17 | E35: ='IBS Action Plan 20170131'!E35 -> 1023 | F35: ='IBS Action Plan 20170131'!F35 -> 2950 | G35: ='IBS Action Plan 20170131'!G35 -> 3990 | H35: ='IBS Action Plan 20170131'!H35 -> 2515 | I35: ='IBS Action Plan 20170131'!I35 -> 0.63032581 | ... L35: ='IBS Action Plan 20170131'!L35 -> 2468 | M35: ='IBS Action Plan 20170131'!N35 -> 2018 - 19 | O35: ='IBS Action Plan 20170131'!P35 -> 0 | P35: ='IBS Action Plan 20170131'!Q35 -> 0 | Q35: ='IBS Action Plan 20170131'!R35 -> 0 | R35: ='IBS Action Plan 20170131'!S35 -> 0 | S35: ='IBS Action Plan 20170131'!T35 -> 0 | T35: ='IBS Action Plan 20170131'!U35 -> 0 | U35: ='IBS Action Plan 20170131'!V35 -> 0 | V35: ='IBS Action Plan 20170131'!W35 -> 0 | ... Y35: ='IBS Action Plan 20170131'!Z35 -> 4289
B36: ='IBS Action Plan 20170131'!B36 -> Mcleod | C36: ='IBS Action Plan 20170131'!C36 -> 0 | D36: ='IBS Action Plan 20170131'!D36 -> 0 | E36: ='IBS Action Plan 20170131'!E36 -> 109 | F36: ='IBS Action Plan 20170131'!F36 -> 1313 | G36: ='IBS Action Plan 20170131'!G36 -> 1422 | H36: ='IBS Action Plan 20170131'!H36 -> 765.5 | I36: ='IBS Action Plan 20170131'!I36 -> 0.5383263 | ... L36: ='IBS Action Plan 20170131'!L36 -> 1795 | M36: ='IBS Action Plan 20170131'!N36 -> 2021 - 22 | O36: ='IBS Action Plan 20170131'!P36 -> 0 | P36: ='IBS Action Plan 20170131'!Q36 -> 0 | Q36: ='IBS Action Plan 20170131'!R36 -> 0 | R36: ='IBS Action Plan 20170131'!S36 -> 0 | S36: ='IBS Action Plan 20170131'!T36 -> 0 | T36: ='IBS Action Plan 20170131'!U36 -> 0 | U36: ='IBS Action Plan 20170131'!V36 -> 0 | V36: ='IBS Action Plan 20170131'!W36 -> 0 | ... Y36: ='IBS Action Plan 20170131'!Z36 -> 1926
B37: ='IBS Action Plan 20170131'!B37 -> Missinka | C37: ='IBS Action Plan 20170131'!C37 -> 0 | D37: ='IBS Action Plan 20170131'!D37 -> 0 | E37: ='IBS Action Plan 20170131'!E37 -> 0 | F37: ='IBS Action Plan 20170131'!F37 -> 0 | G37: ='IBS Action Plan 20170131'!G37 -> 0 | H37: ='IBS Action Plan 20170131'!H37 -> 0 | I37: ='IBS Action Plan 20170131'!I37 -> 0 | ... L37: ='IBS Action Plan 20170131'!L37 -> - | M37: ='IBS Action Plan 20170131'!N37 -> 0 | O37: ='IBS Action Plan 20170131'!P37 -> Economic | P37: ='IBS Action Plan 20170131'!Q37 -> 0 | Q37: ='IBS Action Plan 20170131'!R37 -> 0 | R37: ='IBS Action Plan 20170131'!S37 -> 0 | S37: ='IBS Action Plan 20170131'!T37 -> 37 | T37: ='IBS Action Plan 20170131'!U37 -> 0 | U37: ='IBS Action Plan 20170131'!V37 -> 37 | V37: ='IBS Action Plan 20170131'!W37 -> 14.8 | ... Y37: ='IBS Action Plan 20170131'!Z37 -> 37
B38: ='IBS Action Plan 20170131'!B38 -> Parsnip | C38: ='IBS Action Plan 20170131'!C38 -> 0 | D38: ='IBS Action Plan 20170131'!D38 -> 0 | E38: ='IBS Action Plan 20170131'!E38 -> 0 | F38: ='IBS Action Plan 20170131'!F38 -> 94 | G38: ='IBS Action Plan 20170131'!G38 -> 94 | H38: ='IBS Action Plan 20170131'!H38 -> 47 | I38: ='IBS Action Plan 20170131'!I38 -> 0.5 | ... L38: ='IBS Action Plan 20170131'!L38 -> 41 | M38: ='IBS Action Plan 20170131'!N38 -> 2021 - 22 | O38: ='IBS Action Plan 20170131'!P38 -> Economic | P38: ='IBS Action Plan 20170131'!Q38 -> 0 | Q38: ='IBS Action Plan 20170131'!R38 -> 0 | R38: ='IBS Action Plan 20170131'!S38 -> 2 | S38: ='IBS Action Plan 20170131'!T38 -> 0 | T38: ='IBS Action Plan 20170131'!U38 -> 0 | U38: ='IBS Action Plan 20170131'!V38 -> 2 | V38: ='IBS Action Plan 20170131'!W38 -> 0.8 | ... Y38: ='IBS Action Plan 20170131'!Z38 -> 96
B39: ='IBS Action Plan 20170131'!B39 -> Reynolds | C39: ='IBS Action Plan 20170131'!C39 -> 0 | D39: ='IBS Action Plan 20170131'!D39 -> 26 | E39: ='IBS Action Plan 20170131'!E39 -> 16 | F39: ='IBS Action Plan 20170131'!F39 -> 485 | G39: ='IBS Action Plan 20170131'!G39 -> 527 | H39: ='IBS Action Plan 20170131'!H39 -> 284.5 | I39: ='IBS Action Plan 20170131'!I39 -> 0.5398482 | ... L39: ='IBS Action Plan 20170131'!L39 -> 842 | M39: ='IBS Action Plan 20170131'!N39 -> 2020 - 21 | O39: ='IBS Action Plan 20170131'!P39 -> Economic | P39: ='IBS Action Plan 20170131'!Q39 -> 0 | Q39: ='IBS Action Plan 20170131'!R39 -> 173 | R39: ='IBS Action Plan 20170131'!S39 -> 0 | S39: ='IBS Action Plan 20170131'!T39 -> 35 | T39: ='IBS Action Plan 20170131'!U39 -> 119 | U39: ='IBS Action Plan 20170131'!V39 -> 327 | V39: ='IBS Action Plan 20170131'!W39 -> 130.8 | ... Y39: ='IBS Action Plan 20170131'!Z39 -> 1194
B40: ='IBS Action Plan 20170131'!B40 -> Summit Lake | C40: ='IBS Action Plan 20170131'!C40 -> 0 | D40: ='IBS Action Plan 20170131'!D40 -> 166 | E40: ='IBS Action Plan 20170131'!E40 -> 132 | F40: ='IBS Action Plan 20170131'!F40 -> 9 | G40: ='IBS Action Plan 20170131'!G40 -> 307 | H40: ='IBS Action Plan 20170131'!H40 -> 302.5 | I40: ='IBS Action Plan 20170131'!I40 -> 0.98534202 | ... L40: ='IBS Action Plan 20170131'!L40 -> 811 | M40: ='IBS Action Plan 20170131'!N40 -> 2017 - 18 | O40: ='IBS Action Plan 20170131'!P40 -> 0 | P40: ='IBS Action Plan 20170131'!Q40 -> 0 | Q40: ='IBS Action Plan 20170131'!R40 -> 0 | R40: ='IBS Action Plan 20170131'!S40 -> 0 | S40: ='IBS Action Plan 20170131'!T40 -> 0 | T40: ='IBS Action Plan 20170131'!U40 -> 0 | U40: ='IBS Action Plan 20170131'!V40 -> 0 | V40: ='IBS Action Plan 20170131'!W40 -> 0 | ... Y40: ='IBS Action Plan 20170131'!Z40 -> 814
A41: ='IBS Action Plan 20170131'!A41 -> Subtotal | B41: ='IBS Action Plan 20170131'!B41 -> BCTS PG District | C41: ='IBS Action Plan 20170131'!C41 -> 0 | D41: ='IBS Action Plan 20170131'!D41 -> 336 | E41: ='IBS Action Plan 20170131'!E41 -> 1617 | F41: ='IBS Action Plan 20170131'!F41 -> 7736 | G41: ='IBS Action Plan 20170131'!G41 -> 9689 | H41: ='IBS Action Plan 20170131'!H41 -> 5821 | ... L41: ='IBS Action Plan 20170131'!L41 -> 10000 | M41: ='IBS Action Plan 20170131'!N41 -> 0 | O41: ='IBS Action Plan 20170131'!P41 -> - | P41: ='IBS Action Plan 20170131'!Q41 -> 0 | Q41: ='IBS Action Plan 20170131'!R41 -> 173 | R41: ='IBS Action Plan 20170131'!S41 -> 2 | S41: ='IBS Action Plan 20170131'!T41 -> 72 | T41: ='IBS Action Plan 20170131'!U41 -> 217 | U41: ='IBS Action Plan 20170131'!V41 -> 464 | V41: ='IBS Action Plan 20170131'!W41 -> 185.6 | ... Y41: ='IBS Action Plan 20170131'!Z41 -> 12797
A42: ='IBS Action Plan 20170131'!A42:A58 -> Canfor PG | B42: ='IBS Action Plan 20170131'!B42 -> DPG - Ames | C42: ='IBS Action Plan 20170131'!C42 -> 0 | D42: ='IBS Action Plan 20170131'!D42 -> 0 | E42: ='IBS Action Plan 20170131'!E42 -> 0 | F42: ='IBS Action Plan 20170131'!F42 -> 19 | G42: ='IBS Action Plan 20170131'!G42 -> 19 | H42: ='IBS Action Plan 20170131'!H42 -> 9.5 | I42: ='IBS Action Plan 20170131'!I42 -> 0.5 | ... L42: ='IBS Action Plan 20170131'!L42 -> 19 | M42: ='IBS Action Plan 20170131'!N42 -> 2017-2019 | O42: ='IBS Action Plan 20170131'!P42 -> 0 | P42: ='IBS Action Plan 20170131'!Q42 -> 0 | Q42: ='IBS Action Plan 20170131'!R42 -> 0 | R42: ='IBS Action Plan 20170131'!S42 -> 0 | S42: ='IBS Action Plan 20170131'!T42 -> 0 | T42: ='IBS Action Plan 20170131'!U42 -> 0 | U42: ='IBS Action Plan 20170131'!V42 -> 0 | V42: ='IBS Action Plan 20170131'!W42 -> 0 | ... Y42: ='IBS Action Plan 20170131'!Z42 -> 19
B43: ='IBS Action Plan 20170131'!B43 -> DPG - Anzac | C43: ='IBS Action Plan 20170131'!C43 -> 0 | D43: ='IBS Action Plan 20170131'!D43 -> 443 | E43: ='IBS Action Plan 20170131'!E43 -> 383 | F43: ='IBS Action Plan 20170131'!F43 -> 3308 | G43: ='IBS Action Plan 20170131'!G43 -> 4134 | H43: ='IBS Action Plan 20170131'!H43 -> 2480 | I43: ='IBS Action Plan 20170131'!I43 -> 0.59990324 | ... L43: ='IBS Action Plan 20170131'!L43 -> 5489 | M43: ='IBS Action Plan 20170131'!N43 -> 2017-2021 | O43: ='IBS Action Plan 20170131'!P43 -> 0 | P43: ='IBS Action Plan 20170131'!Q43 -> 0 | Q43: ='IBS Action Plan 20170131'!R43 -> 0 | R43: ='IBS Action Plan 20170131'!S43 -> 0 | S43: ='IBS Action Plan 20170131'!T43 -> 0 | T43: ='IBS Action Plan 20170131'!U43 -> 0 | U43: ='IBS Action Plan 20170131'!V43 -> 0 | V43: ='IBS Action Plan 20170131'!W43 -> 0 | ... Y43: ='IBS Action Plan 20170131'!Z43 -> 6182
B44: ='IBS Action Plan 20170131'!B44 -> DPG - Chuchinka | C44: ='IBS Action Plan 20170131'!C44 -> 0 | D44: ='IBS Action Plan 20170131'!D44 -> 70 | E44: ='IBS Action Plan 20170131'!E44 -> 439 | F44: ='IBS Action Plan 20170131'!F44 -> 444 | G44: ='IBS Action Plan 20170131'!G44 -> 953 | H44: ='IBS Action Plan 20170131'!H44 -> 731 | I44: ='IBS Action Plan 20170131'!I44 -> 0.76705142 | ... L44: ='IBS Action Plan 20170131'!L44 -> 1273 | M44: ='IBS Action Plan 20170131'!N44 -> 2017-2018 | O44: ='IBS Action Plan 20170131'!P44 -> 0 | P44: ='IBS Action Plan 20170131'!Q44 -> 0 | Q44: ='IBS Action Plan 20170131'!R44 -> 0 | R44: ='IBS Action Plan 20170131'!S44 -> 0 | S44: ='IBS Action Plan 20170131'!T44 -> 0 | T44: ='IBS Action Plan 20170131'!U44 -> 0 | U44: ='IBS Action Plan 20170131'!V44 -> 0 | V44: ='IBS Action Plan 20170131'!W44 -> 0 | ... Y44: ='IBS Action Plan 20170131'!Z44 -> 1367
B45: ='IBS Action Plan 20170131'!B45 -> DPG - Government | C45: ='IBS Action Plan 20170131'!C45 -> 0 | D45: ='IBS Action Plan 20170131'!D45 -> 0 | E45: ='IBS Action Plan 20170131'!E45 -> 0 | F45: ='IBS Action Plan 20170131'!F45 -> 0 | G45: ='IBS Action Plan 20170131'!G45 -> 0 | H45: ='IBS Action Plan 20170131'!H45 -> 0 | I45: ='IBS Action Plan 20170131'!I45 -> 0 | ... L45: ='IBS Action Plan 20170131'!L45 -> 421 | M45: ='IBS Action Plan 20170131'!N45 -> 2018-2019 | O45: ='IBS Action Plan 20170131'!P45 -> 0 | P45: ='IBS Action Plan 20170131'!Q45 -> 0 | Q45: ='IBS Action Plan 20170131'!R45 -> 0 | R45: ='IBS Action Plan 20170131'!S45 -> 0 | S45: ='IBS Action Plan 20170131'!T45 -> 0 | T45: ='IBS Action Plan 20170131'!U45 -> 0 | U45: ='IBS Action Plan 20170131'!V45 -> 0 | V45: ='IBS Action Plan 20170131'!W45 -> 0 | ... Y45: ='IBS Action Plan 20170131'!Z45 -> 421
B46: ='IBS Action Plan 20170131'!B46 -> DPG - Herrick | C46: ='IBS Action Plan 20170131'!C46 -> 0 | D46: ='IBS Action Plan 20170131'!D46 -> 0 | E46: ='IBS Action Plan 20170131'!E46 -> 26 | F46: ='IBS Action Plan 20170131'!F46 -> 1289 | G46: ='IBS Action Plan 20170131'!G46 -> 1315 | H46: ='IBS Action Plan 20170131'!H46 -> 670.5 | I46: ='IBS Action Plan 20170131'!I46 -> 0.50988593 | ... L46: ='IBS Action Plan 20170131'!L46 -> 2019 | M46: ='IBS Action Plan 20170131'!N46 -> 2020-2023 | O46: ='IBS Action Plan 20170131'!P46 -> Legal | P46: ='IBS Action Plan 20170131'!Q46 -> 0 | Q46: ='IBS Action Plan 20170131'!R46 -> 0 | R46: ='IBS Action Plan 20170131'!S46 -> 9 | S46: ='IBS Action Plan 20170131'!T46 -> 113 | T46: ='IBS Action Plan 20170131'!U46 -> 233 | U46: ='IBS Action Plan 20170131'!V46 -> 355 | V46: ='IBS Action Plan 20170131'!W46 -> 45 | ... Y46: ='IBS Action Plan 20170131'!Z46 -> 2872
B47: ='IBS Action Plan 20170131'!B47 -> DPG - McGregor | C47: ='IBS Action Plan 20170131'!C47 -> 0 | D47: ='IBS Action Plan 20170131'!D47 -> 181 | E47: ='IBS Action Plan 20170131'!E47 -> 1699 | F47: ='IBS Action Plan 20170131'!F47 -> 3131 | G47: ='IBS Action Plan 20170131'!G47 -> 5011 | H47: ='IBS Action Plan 20170131'!H47 -> 3445.5 | I47: ='IBS Action Plan 20170131'!I47 -> 0.68758731 | ... L47: ='IBS Action Plan 20170131'!L47 -> 3777 | M47: ='IBS Action Plan 20170131'!N47 -> 2017-2024 | O47: ='IBS Action Plan 20170131'!P47 -> Legal | P47: ='IBS Action Plan 20170131'!Q47 -> 0 | Q47: ='IBS Action Plan 20170131'!R47 -> 12 | R47: ='IBS Action Plan 20170131'!S47 -> 392 | S47: ='IBS Action Plan 20170131'!T47 -> 526 | T47: ='IBS Action Plan 20170131'!U47 -> 75 | U47: ='IBS Action Plan 20170131'!V47 -> 1005 | V47: ='IBS Action Plan 20170131'!W47 -> 178 | ... Y47: ='IBS Action Plan 20170131'!Z47 -> 6433
B48: ='IBS Action Plan 20170131'!B48 -> DPG - McLeod | C48: ='IBS Action Plan 20170131'!C48 -> 0 | D48: ='IBS Action Plan 20170131'!D48 -> 0 | E48: ='IBS Action Plan 20170131'!E48 -> 0 | F48: ='IBS Action Plan 20170131'!F48 -> 366 | G48: ='IBS Action Plan 20170131'!G48 -> 366 | H48: ='IBS Action Plan 20170131'!H48 -> 183 | I48: ='IBS Action Plan 20170131'!I48 -> 0.5 | ... L48: ='IBS Action Plan 20170131'!L48 -> 370 | M48: ='IBS Action Plan 20170131'!N48 -> 2018-2019 | O48: ='IBS Action Plan 20170131'!P48 -> 0 | P48: ='IBS Action Plan 20170131'!Q48 -> 0 | Q48: ='IBS Action Plan 20170131'!R48 -> 0 | R48: ='IBS Action Plan 20170131'!S48 -> 0 | S48: ='IBS Action Plan 20170131'!T48 -> 0 | T48: ='IBS Action Plan 20170131'!U48 -> 0 | U48: ='IBS Action Plan 20170131'!V48 -> 0 | V48: ='IBS Action Plan 20170131'!W48 -> 0 | ... Y48: ='IBS Action Plan 20170131'!Z48 -> 369
B49: ='IBS Action Plan 20170131'!B49 -> DPG - Muskeg | C49: ='IBS Action Plan 20170131'!C49 -> 0 | D49: ='IBS Action Plan 20170131'!D49 -> 0 | E49: ='IBS Action Plan 20170131'!E49 -> 0 | F49: ='IBS Action Plan 20170131'!F49 -> 21 | G49: ='IBS Action Plan 20170131'!G49 -> 21 | H49: ='IBS Action Plan 20170131'!H49 -> 10.5 | I49: ='IBS Action Plan 20170131'!I49 -> 0.5 | ... L49: ='IBS Action Plan 20170131'!L49 -> 212 | M49: ='IBS Action Plan 20170131'!N49 -> 2017-2019 | O49: ='IBS Action Plan 20170131'!P49 -> 0 | P49: ='IBS Action Plan 20170131'!Q49 -> 0 | Q49: ='IBS Action Plan 20170131'!R49 -> 0 | R49: ='IBS Action Plan 20170131'!S49 -> 0 | S49: ='IBS Action Plan 20170131'!T49 -> 0 | T49: ='IBS Action Plan 20170131'!U49 -> 0 | U49: ='IBS Action Plan 20170131'!V49 -> 0 | V49: ='IBS Action Plan 20170131'!W49 -> 0 | ... Y49: ='IBS Action Plan 20170131'!Z49 -> 212
B50: ='IBS Action Plan 20170131'!B50 -> DPG - Otter | C50: ='IBS Action Plan 20170131'!C50 -> 0 | D50: ='IBS Action Plan 20170131'!D50 -> 0 | E50: ='IBS Action Plan 20170131'!E50 -> 0 | F50: ='IBS Action Plan 20170131'!F50 -> 0 | G50: ='IBS Action Plan 20170131'!G50 -> 0 | H50: ='IBS Action Plan 20170131'!H50 -> 0 | I50: ='IBS Action Plan 20170131'!I50 -> 0 | ... L50: ='IBS Action Plan 20170131'!L50 -> 57 | M50: ='IBS Action Plan 20170131'!N50 -> 2018-2020 | O50: ='IBS Action Plan 20170131'!P50 -> 0 | P50: ='IBS Action Plan 20170131'!Q50 -> 0 | Q50: ='IBS Action Plan 20170131'!R50 -> 0 | R50: ='IBS Action Plan 20170131'!S50 -> 0 | S50: ='IBS Action Plan 20170131'!T50 -> 0 | T50: ='IBS Action Plan 20170131'!U50 -> 0 | U50: ='IBS Action Plan 20170131'!V50 -> 0 | V50: ='IBS Action Plan 20170131'!W50 -> 0 | ... Y50: ='IBS Action Plan 20170131'!Z50 -> 59
B51: ='IBS Action Plan 20170131'!B51 -> DPG - Pinkerton | C51: ='IBS Action Plan 20170131'!C51 -> 0 | D51: ='IBS Action Plan 20170131'!D51 -> 0 | E51: ='IBS Action Plan 20170131'!E51 -> 0 | F51: ='IBS Action Plan 20170131'!F51 -> 37 | G51: ='IBS Action Plan 20170131'!G51 -> 37 | H51: ='IBS Action Plan 20170131'!H51 -> 18.5 | I51: ='IBS Action Plan 20170131'!I51 -> 0.5 | ... L51: ='IBS Action Plan 20170131'!L51 -> 64 | M51: ='IBS Action Plan 20170131'!N51 -> 2017-2018 | O51: ='IBS Action Plan 20170131'!P51 -> 0 | P51: ='IBS Action Plan 20170131'!Q51 -> 0 | Q51: ='IBS Action Plan 20170131'!R51 -> 0 | R51: ='IBS Action Plan 20170131'!S51 -> 0 | S51: ='IBS Action Plan 20170131'!T51 -> 0 | T51: ='IBS Action Plan 20170131'!U51 -> 0 | U51: ='IBS Action Plan 20170131'!V51 -> 0 | V51: ='IBS Action Plan 20170131'!W51 -> 0 | ... Y51: ='IBS Action Plan 20170131'!Z51 -> 64
B52: ='IBS Action Plan 20170131'!B52 -> DPG - Salmon | C52: ='IBS Action Plan 20170131'!C52 -> 59 | D52: ='IBS Action Plan 20170131'!D52 -> 29 | E52: ='IBS Action Plan 20170131'!E52 -> 73 | F52: ='IBS Action Plan 20170131'!F52 -> 440 | G52: ='IBS Action Plan 20170131'!G52 -> 601 | H52: ='IBS Action Plan 20170131'!H52 -> 381 | I52: ='IBS Action Plan 20170131'!I52 -> 0.63394343 | ... L52: ='IBS Action Plan 20170131'!L52 -> 620 | M52: ='IBS Action Plan 20170131'!N52 -> 2017-2018 | O52: ='IBS Action Plan 20170131'!P52 -> 0 | P52: ='IBS Action Plan 20170131'!Q52 -> 0 | Q52: ='IBS Action Plan 20170131'!R52 -> 0 | R52: ='IBS Action Plan 20170131'!S52 -> 0 | S52: ='IBS Action Plan 20170131'!T52 -> 0 | T52: ='IBS Action Plan 20170131'!U52 -> 0 | U52: ='IBS Action Plan 20170131'!V52 -> 0 | V52: ='IBS Action Plan 20170131'!W52 -> 0 | ... Y52: ='IBS Action Plan 20170131'!Z52 -> 625
B53: ='IBS Action Plan 20170131'!B53 -> DPG - Stony | C53: ='IBS Action Plan 20170131'!C53 -> 0 | D53: ='IBS Action Plan 20170131'!D53 -> 0 | E53: ='IBS Action Plan 20170131'!E53 -> 0 | F53: ='IBS Action Plan 20170131'!F53 -> 0 | G53: ='IBS Action Plan 20170131'!G53 -> 0 | H53: ='IBS Action Plan 20170131'!H53 -> 0 | I53: ='IBS Action Plan 20170131'!I53 -> 0 | ... L53: ='IBS Action Plan 20170131'!L53 -> 206 | M53: ='IBS Action Plan 20170131'!N53 -> 2020 | O53: ='IBS Action Plan 20170131'!P53 -> 0 | P53: ='IBS Action Plan 20170131'!Q53 -> 0 | Q53: ='IBS Action Plan 20170131'!R53 -> 0 | R53: ='IBS Action Plan 20170131'!S53 -> 0 | S53: ='IBS Action Plan 20170131'!T53 -> 0 | T53: ='IBS Action Plan 20170131'!U53 -> 0 | U53: ='IBS Action Plan 20170131'!V53 -> 0 | V53: ='IBS Action Plan 20170131'!W53 -> 0 | ... Y53: ='IBS Action Plan 20170131'!Z53 -> 235
B54: ='IBS Action Plan 20170131'!B54 -> DPG - TFL30 | C54: ='IBS Action Plan 20170131'!C54 -> 0 | D54: ='IBS Action Plan 20170131'!D54 -> 0 | E54: ='IBS Action Plan 20170131'!E54 -> 50 | F54: ='IBS Action Plan 20170131'!F54 -> 3747 | G54: ='IBS Action Plan 20170131'!G54 -> 3797 | H54: ='IBS Action Plan 20170131'!H54 -> 1923.5 | I54: ='IBS Action Plan 20170131'!I54 -> 0.50658415 | ... L54: ='IBS Action Plan 20170131'!L54 -> 7752 | M54: ='IBS Action Plan 20170131'!N54 -> 2017-2023 | O54: ='IBS Action Plan 20170131'!P54 -> Legal | P54: ='IBS Action Plan 20170131'!Q54 -> 0 | Q54: ='IBS Action Plan 20170131'!R54 -> 0 | R54: ='IBS Action Plan 20170131'!S54 -> 0 | S54: ='IBS Action Plan 20170131'!T54 -> 891 | T54: ='IBS Action Plan 20170131'!U54 -> 1298 | U54: ='IBS Action Plan 20170131'!V54 -> 2189 | V54: ='IBS Action Plan 20170131'!W54 -> 79 | ... Y54: ='IBS Action Plan 20170131'!Z54 -> 10165
... B58: ='IBS Action Plan 20170131'!B58 -> DPG - Weedon | C58: ='IBS Action Plan 20170131'!C58 -> 0 | D58: ='IBS Action Plan 20170131'!D58 -> 0 | E58: ='IBS Action Plan 20170131'!E58 -> 0 | F58: ='IBS Action Plan 20170131'!F58 -> 35 | G58: ='IBS Action Plan 20170131'!G58 -> 35 | H58: ='IBS Action Plan 20170131'!H58 -> 17.5 | I58: ='IBS Action Plan 20170131'!I58 -> 0.5 | ... L58: ='IBS Action Plan 20170131'!L58 -> 41 | M58: ='IBS Action Plan 20170131'!N58 -> 2018 | O58: ='IBS Action Plan 20170131'!P58 -> 0 | P58: ='IBS Action Plan 20170131'!Q58 -> 0 | Q58: ='IBS Action Plan 20170131'!R58 -> 0 | R58: ='IBS Action Plan 20170131'!S58 -> 0 | S58: ='IBS Action Plan 20170131'!T58 -> 0 | T58: ='IBS Action Plan 20170131'!U58 -> 0 | U58: ='IBS Action Plan 20170131'!V58 -> 0 | V58: ='IBS Action Plan 20170131'!W58 -> 0 | ... Y58: ='IBS Action Plan 20170131'!Z58 -> 41
A59: ='IBS Action Plan 20170131'!A59 -> Subtotal | B59: ='IBS Action Plan 20170131'!B59 -> Canfor PG District + TFL 30 | C59: ='IBS Action Plan 20170131'!C59 -> 59 | D59: ='IBS Action Plan 20170131'!D59 -> 723 | E59: ='IBS Action Plan 20170131'!E59 -> 2671 | F59: ='IBS Action Plan 20170131'!F59 -> 13515 | G59: ='IBS Action Plan 20170131'!G59 -> 16968 | H59: ='IBS Action Plan 20170131'!H59 -> 10210.5 | ... L59: ='IBS Action Plan 20170131'!L59 -> 24281 | M59: ='IBS Action Plan 20170131'!N59 -> 0 | O59: ='IBS Action Plan 20170131'!P59 -> 0 | P59: ='IBS Action Plan 20170131'!Q59 -> 0 | Q59: ='IBS Action Plan 20170131'!R59 -> 12 | R59: ='IBS Action Plan 20170131'!S59 -> 415 | S59: ='IBS Action Plan 20170131'!T59 -> 1530 | T59: ='IBS Action Plan 20170131'!U59 -> 1622 | U59: ='IBS Action Plan 20170131'!V59 -> 3579 | V59: ='IBS Action Plan 20170131'!W59 -> 332 | ... Y59: ='IBS Action Plan 20170131'!Z59 -> 31102
A60: ='IBS Action Plan 20170131'!A60:A71 -> Sinclar | B60: ='IBS Action Plan 20170131'!B60 -> Bear Lake West | C60: ='IBS Action Plan 20170131'!C60 -> 44 | D60: ='IBS Action Plan 20170131'!D60 -> 805 | E60: ='IBS Action Plan 20170131'!E60 -> 2236 | F60: ='IBS Action Plan 20170131'!F60 -> 3023 | G60: ='IBS Action Plan 20170131'!G60 -> 6108 | H60: ='IBS Action Plan 20170131'!H60 -> 4596.5 | I60: ='IBS Action Plan 20170131'!I60 -> 0.75253766 | ... L60: ='IBS Action Plan 20170131'!L60 -> 6119 | M60: ='IBS Action Plan 20170131'!N60 -> 2017-23 | O60: ='IBS Action Plan 20170131'!P60 -> 0 | P60: ='IBS Action Plan 20170131'!Q60 -> 0 | Q60: ='IBS Action Plan 20170131'!R60 -> 0 | R60: ='IBS Action Plan 20170131'!S60 -> 0 | S60: ='IBS Action Plan 20170131'!T60 -> 0 | T60: ='IBS Action Plan 20170131'!U60 -> 0 | U60: ='IBS Action Plan 20170131'!V60 -> 0 | V60: ='IBS Action Plan 20170131'!W60 -> 0 | ... Y60: ='IBS Action Plan 20170131'!Z60 -> 6257
B61: ='IBS Action Plan 20170131'!B61 -> Carp | C61: ='IBS Action Plan 20170131'!C61 -> 117 | D61: ='IBS Action Plan 20170131'!D61 -> 17 | E61: ='IBS Action Plan 20170131'!E61 -> 128 | F61: ='IBS Action Plan 20170131'!F61 -> 169 | G61: ='IBS Action Plan 20170131'!G61 -> 431 | H61: ='IBS Action Plan 20170131'!H61 -> 346.5 | I61: ='IBS Action Plan 20170131'!I61 -> 0.80394432 | ... L61: ='IBS Action Plan 20170131'!L61 -> 462 | M61: ='IBS Action Plan 20170131'!N61 -> 2017-23 | O61: ='IBS Action Plan 20170131'!P61 -> 0 | P61: ='IBS Action Plan 20170131'!Q61 -> 0 | Q61: ='IBS Action Plan 20170131'!R61 -> 0 | R61: ='IBS Action Plan 20170131'!S61 -> 0 | S61: ='IBS Action Plan 20170131'!T61 -> 0 | T61: ='IBS Action Plan 20170131'!U61 -> 0 | U61: ='IBS Action Plan 20170131'!V61 -> 0 | V61: ='IBS Action Plan 20170131'!W61 -> 0 | ... Y61: ='IBS Action Plan 20170131'!Z61 -> 467
